BEGIN:VCALENDAR
VERSION:2.0
PRODID:-//Πανεπιστήμιο Κρήτης - ECPv6.15.10//NONSGML v1.0//EN
CALSCALE:GREGORIAN
METHOD:PUBLISH
X-WR-CALNAME:Πανεπιστήμιο Κρήτης
X-ORIGINAL-URL:https://www.uoc.gr/
X-WR-CALDESC:Events for Πανεπιστήμιο Κρήτης
REFRESH-INTERVAL;VALUE=DURATION:PT1H
X-Robots-Tag:noindex
X-PUBLISHED-TTL:PT1H
BEGIN:VTIMEZONE
TZID:Europe/Athens
BEGIN:DAYLIGHT
TZOFFSETFROM:+0200
TZOFFSETTO:+0300
TZNAME:EEST
DTSTART:20250330T010000
END:DAYLIGHT
BEGIN:STANDARD
TZOFFSETFROM:+0300
TZOFFSETTO:+0200
TZNAME:EET
DTSTART:20251026T010000
END:STANDARD
BEGIN:DAYLIGHT
TZOFFSETFROM:+0200
TZOFFSETTO:+0300
TZNAME:EEST
DTSTART:20260329T010000
END:DAYLIGHT
BEGIN:STANDARD
TZOFFSETFROM:+0300
TZOFFSETTO:+0200
TZNAME:EET
DTSTART:20261025T010000
END:STANDARD
BEGIN:DAYLIGHT
TZOFFSETFROM:+0200
TZOFFSETTO:+0300
TZNAME:EEST
DTSTART:20270328T010000
END:DAYLIGHT
BEGIN:STANDARD
TZOFFSETFROM:+0300
TZOFFSETTO:+0200
TZNAME:EET
DTSTART:20271031T010000
END:STANDARD
END:VTIMEZONE
BEGIN:VEVENT
DTSTART;VALUE=DATE:20260422
DTEND;VALUE=DATE:20260423
DTSTAMP:20260422T034801
CREATED:20260420T085447Z
LAST-MODIFIED:20260420T085447Z
UID:10001856-1776816000-1776902399@www.uoc.gr
SUMMARY:Έλληνες Εβραίοι μετά τη Σοά: Πρώτες μαρτυρίες\, η συγκρότηση μιας πρώιμης αφήγησης (1945-1955)
DESCRIPTION:Τμήμα Φιλολογίας \nΕπιστημονικές Συνομιλίες\nτου Τομέα Βυζαντινής και Νεοελληνικής Φιλολογίας \nΤετάρτη 22 Απριλίου 2026\, ώρα 18:00 \nΕλένη Μπεζέ\nΙστορικός\, Πανεπιστήμιο Θεσσαλίας – Εβραϊκό Μουσείο Ελλάδος \nΈλληνες Εβραίοι μετά τη Σοά:\nΠρώτες μαρτυρίες\, η συγκρότηση μιας πρώιμης αφήγησης\n(1945-1955) \nΑντικείμενο της διάλεξης θα είναι οι πρώτες γραπτές μαρτυρίες Ελλήνων Εβραίων για τη Σοά. Πρόκειται για κείμενα που είτε φιλοξενήθηκαν στον Τύπο είτε αποτέλεσαν αυτοτελείς εκδόσεις με μικρή (εντός της εβραϊκής κοινότητας κυρίως) κυκλοφορία στην εποχή τους. Στη διάλεξη θα παρουσιαστούν επίσης ορισμένα λογοτεχνικά έργα που έγραψαν Έλληνες Εβραίοι αμέσως μετά το τέλος του πολέμου με θέμα την Κατοχή και τη Σοά\, και τα οποία για μια σειρά από λόγους έμειναν στην αφάνεια. Οι συμβολές αυτές αφήνουν να διαφανούν οι πολλαπλές ελληνο-εβραϊκές ταυτότητες που αναδύονται μεταπολεμικά\, καθώς και τα χαρακτηριστικά μιας πρώιμης αφήγησης για τη Σοά.\n\nΑφίσα\n\nΗ εκδήλωση είναι ανοιχτή σε κάθε ενδιαφερόμενη και ενδιαφερόμενο\nκαι θα μεταδοθεί ζωντανά από το σύνδεσμο:\nhttps://uoc-gr.zoom.us/j/85274235454
URL:https://www.uoc.gr/event/%ce%ad%ce%bb%ce%bb%ce%b7%ce%bd%ce%b5%cf%82-%ce%b5%ce%b2%cf%81%ce%b1%ce%af%ce%bf%ce%b9-%ce%bc%ce%b5%cf%84%ce%ac-%cf%84%ce%b7-%cf%83%ce%bf%ce%ac-%cf%80%cf%81%cf%8e%cf%84%ce%b5%cf%82-%ce%bc%ce%b1%cf%81/
CATEGORIES:Διάλεξη
END:VEVENT
END:VCALENDAR