BEGIN:VCALENDAR
VERSION:2.0
PRODID:-//Πανεπιστήμιο Κρήτης - ECPv6.15.10//NONSGML v1.0//EN
CALSCALE:GREGORIAN
METHOD:PUBLISH
X-WR-CALNAME:Πανεπιστήμιο Κρήτης
X-ORIGINAL-URL:https://www.uoc.gr/
X-WR-CALDESC:Events for Πανεπιστήμιο Κρήτης
REFRESH-INTERVAL;VALUE=DURATION:PT1H
X-Robots-Tag:noindex
X-PUBLISHED-TTL:PT1H
BEGIN:VTIMEZONE
TZID:Europe/Athens
BEGIN:DAYLIGHT
TZOFFSETFROM:+0200
TZOFFSETTO:+0300
TZNAME:EEST
DTSTART:20250330T010000
END:DAYLIGHT
BEGIN:STANDARD
TZOFFSETFROM:+0300
TZOFFSETTO:+0200
TZNAME:EET
DTSTART:20251026T010000
END:STANDARD
BEGIN:DAYLIGHT
TZOFFSETFROM:+0200
TZOFFSETTO:+0300
TZNAME:EEST
DTSTART:20260329T010000
END:DAYLIGHT
BEGIN:STANDARD
TZOFFSETFROM:+0300
TZOFFSETTO:+0200
TZNAME:EET
DTSTART:20261025T010000
END:STANDARD
BEGIN:DAYLIGHT
TZOFFSETFROM:+0200
TZOFFSETTO:+0300
TZNAME:EEST
DTSTART:20270328T010000
END:DAYLIGHT
BEGIN:STANDARD
TZOFFSETFROM:+0300
TZOFFSETTO:+0200
TZNAME:EET
DTSTART:20271031T010000
END:STANDARD
END:VTIMEZONE
BEGIN:VEVENT
DTSTART;VALUE=DATE:20260424
DTEND;VALUE=DATE:20260427
DTSTAMP:20260425T163110
CREATED:20260403T095446Z
LAST-MODIFIED:20260403T095446Z
UID:10001851-1776988800-1777247999@www.uoc.gr
SUMMARY:8οι Παγκρήτιοι Μαθητικοί Αγώνες Ρητορικής Τέχνης
DESCRIPTION:Ο Σύνδεσμος Φιλολόγων Ρεθύμνου\, το Τμήμα Φιλολογίας του Πανεπιστημίου Κρήτης\, η Ελληνική Ένωση για την Προώθηση της Ρητορικής στην Εκπαίδευση και η Περιφέρεια Κρήτης\, με την υποστήριξη της Ι.Μ. Ρεθύμνης και Αυλοποτάμου και του Δήμου Ρεθύμνης\, συνδιοργανώνουν τους 8ους Παγκρήτιους Μαθητικούς Αγώνες Ρητορικής Τέχνης\, για μαθητές Γυμνασίου και Λυκείου\, οι οποίοι θα πραγματοποιηθούν στο 1ο Λύκειο Ρεθύμνου και στα διδακτήρια του Πανεπιστημίου Κρήτης στο Ρέθυμνο\, το τριήμερο 24-26 Απριλίου 2026 και είναι ανοιχτοί στο κοινό.\nΟι μαθητές θα διαγωνιστούν στα ατομικά αγωνίσματα του Αυθόρμητου Λόγου και του Προτρεπτικού Λόγου και στο ομαδικό αγώνισμα των Διττών Λόγων. Φέτος\, θα πραγματοποιηθεί μαζί με τους αγώνες και Φεστιβάλ Εκφραστικής Ανάγνωσης νεοελληνικού και αρχαιοελληνικού πεζού κειμένου\, προεπιλεγμένου από τους μαθητές\, χωρίς διαγωνιστικό χαρακτήρα. \n\n\nΑναλυτική Ανακοίνωση\nΑφίσα
URL:https://www.uoc.gr/event/8%ce%bf%ce%b9-%cf%80%ce%b1%ce%b3%ce%ba%cf%81%ce%ae%cf%84%ce%b9%ce%bf%ce%b9-%ce%bc%ce%b1%ce%b8%ce%b7%cf%84%ce%b9%ce%ba%ce%bf%ce%af-%ce%b1%ce%b3%cf%8e%ce%bd%ce%b5%cf%82-%cf%81%ce%b7%cf%84%ce%bf%cf%81/
END:VEVENT
END:VCALENDAR