BEGIN:VCALENDAR
VERSION:2.0
PRODID:-//Πανεπιστήμιο Κρήτης - ECPv6.15.10//NONSGML v1.0//EN
CALSCALE:GREGORIAN
METHOD:PUBLISH
X-ORIGINAL-URL:https://www.uoc.gr/
X-WR-CALDESC:Events for Πανεπιστήμιο Κρήτης
REFRESH-INTERVAL;VALUE=DURATION:PT1H
X-Robots-Tag:noindex
X-PUBLISHED-TTL:PT1H
BEGIN:VTIMEZONE
TZID:Europe/Athens
BEGIN:DAYLIGHT
TZOFFSETFROM:+0200
TZOFFSETTO:+0300
TZNAME:EEST
DTSTART:20230326T010000
END:DAYLIGHT
BEGIN:STANDARD
TZOFFSETFROM:+0300
TZOFFSETTO:+0200
TZNAME:EET
DTSTART:20231029T010000
END:STANDARD
BEGIN:DAYLIGHT
TZOFFSETFROM:+0200
TZOFFSETTO:+0300
TZNAME:EEST
DTSTART:20240331T010000
END:DAYLIGHT
BEGIN:STANDARD
TZOFFSETFROM:+0300
TZOFFSETTO:+0200
TZNAME:EET
DTSTART:20241027T010000
END:STANDARD
BEGIN:DAYLIGHT
TZOFFSETFROM:+0200
TZOFFSETTO:+0300
TZNAME:EEST
DTSTART:20250330T010000
END:DAYLIGHT
BEGIN:STANDARD
TZOFFSETFROM:+0300
TZOFFSETTO:+0200
TZNAME:EET
DTSTART:20251026T010000
END:STANDARD
END:VTIMEZONE
BEGIN:VEVENT
DTSTART;TZID=Europe/Athens:20240810T000000
DTEND;TZID=Europe/Athens:20240810T000000
DTSTAMP:20260420T074223
CREATED:20241003T101602Z
LAST-MODIFIED:20241003T102047Z
UID:10001309-1723248000-1723248000@www.uoc.gr
SUMMARY:Αναγόρευση του Michael F. Collins σε Επίτιμο Διδάκτορα της Ιατρικής Σχολής του Πανεπιστημίου Κρήτης
DESCRIPTION:Ο Michael F. Collins Καγκελάριος της Ιατρικής Σχολής T.H. Chan του Πανεπιστημίου της Μασαχουσέτης θα τιμηθεί με τον τίτλο του Επίτιμου Διδάκτορα από την Ιατρική Σχολή του Πανεπιστημίου Κρήτης. \nΗ Τελετή Αναγόρευσης θα πραγματοποιηθεί την Τρίτη 8 Οκτωβρίου 2024\, στις 13:00\, στο “Αμφιθέατρο Μεταπτυχιακών” της Ιατρικής Σχολής του Πανεπιστημίου Κρήτης\, στην Πανεπιστημιούπολη Βουτών\, στο Ηράκλειο. \nΗ τιμητική αυτή διάκριση απονέμεται στον Καθηγητή Michael F. Collins ως αναγνώριση της εξαιρετικής του επιστημονικής πορείας και της καθοριστικής του συμβολής στην οργάνωση και διοίκηση της Ιατρικής Σχολής του Πανεπιστημίου της Μασαχουσέτης\, καθώς και των συνεργαζόμενων ερευνητικών κέντρων. Η συμβολή του υπήρξε καταλυτική για την ανάπτυξη της Σχολής\, εστιάζοντας στην προώθηση της ιατρικής έρευνας\, την ενίσχυση της δημόσιας υγείας και την αναβάθμιση της ιατρικής εκπαίδευσης. \nΠρόσκληση
URL:https://www.uoc.gr/event/%ce%b1%ce%bd%ce%b1%ce%b3%cf%8c%cf%81%ce%b5%cf%85%cf%83%ce%b7-%cf%84%ce%bf%cf%85-michael-f-collins-%cf%83%ce%b5-%ce%b5%cf%80%ce%af%cf%84%ce%b9%ce%bc%ce%bf-%ce%b4%ce%b9%ce%b4%ce%ac%ce%ba%cf%84%ce%bf/
CATEGORIES:Εκδηλώσεις
END:VEVENT
END:VCALENDAR