BEGIN:VCALENDAR
VERSION:2.0
PRODID:-//Πανεπιστήμιο Κρήτης - ECPv6.15.10//NONSGML v1.0//EN
CALSCALE:GREGORIAN
METHOD:PUBLISH
X-ORIGINAL-URL:https://www.uoc.gr/
X-WR-CALDESC:Events for Πανεπιστήμιο Κρήτης
REFRESH-INTERVAL;VALUE=DURATION:PT1H
X-Robots-Tag:noindex
X-PUBLISHED-TTL:PT1H
BEGIN:VTIMEZONE
TZID:Europe/Athens
BEGIN:DAYLIGHT
TZOFFSETFROM:+0200
TZOFFSETTO:+0300
TZNAME:EEST
DTSTART:20230326T010000
END:DAYLIGHT
BEGIN:STANDARD
TZOFFSETFROM:+0300
TZOFFSETTO:+0200
TZNAME:EET
DTSTART:20231029T010000
END:STANDARD
BEGIN:DAYLIGHT
TZOFFSETFROM:+0200
TZOFFSETTO:+0300
TZNAME:EEST
DTSTART:20240331T010000
END:DAYLIGHT
BEGIN:STANDARD
TZOFFSETFROM:+0300
TZOFFSETTO:+0200
TZNAME:EET
DTSTART:20241027T010000
END:STANDARD
BEGIN:DAYLIGHT
TZOFFSETFROM:+0200
TZOFFSETTO:+0300
TZNAME:EEST
DTSTART:20250330T010000
END:DAYLIGHT
BEGIN:STANDARD
TZOFFSETFROM:+0300
TZOFFSETTO:+0200
TZNAME:EET
DTSTART:20251026T010000
END:STANDARD
END:VTIMEZONE
BEGIN:VEVENT
DTSTART;TZID=Europe/Athens:20240910T000000
DTEND;TZID=Europe/Athens:20240910T000000
DTSTAMP:20260420T074219
CREATED:20240912T122627Z
LAST-MODIFIED:20240930T105327Z
UID:10000003-1725926400-1725926400@www.uoc.gr
SUMMARY:Πρόσκληση | Συμπόσιο «ΓΗ: Ένας Βιώσιμος Πλανήτης για Όλους | Κάλεσμα για Δράση - Η αλλαγή είναι εφικτή»
DESCRIPTION:Ο Μητροπολίτης Ρεθύμνης και Αυλοποτάμου\, κ. Πρόδρομος\, ο Πρύτανης του Πανεπιστημίου Κρήτης Καθηγητής Γεώργιος Μ. Κοντάκης και η Πρόεδρος του Μουσείου Γουλανδρή Φυσικής Ιστορίας (ΜΓΦΙ) Φαλή Βογιατζάκη σας προσκαλούν στο Συμπόσιο που θα πραγματοποιηθεί υπό την αιγίδα της Α.Ε. της Προέδρου της Δημοκρατίας Κατερίνας Σακελλαροπούλου και της Α.Θ.Π. του Οικουμενικoύ Πατριάρχου κ.κ. Βαρθολομαίου με θέμα «ΓΗ: Ένας Βιώσιμος Πλανήτης για Όλους | Κάλεσμα για Δράση – Η αλλαγή είναι εφικτή» που θα διεξαχθεί 10-12 Σεπτεμβρίου 2024 στην πόλη του Ρεθύμνου. \nΠαρακαλούμε για περισσότερες πληροφορίες δείτε τη σχετική Πρόσκληση εδώ.
URL:https://www.uoc.gr/event/%cf%80%cf%81%cf%8c%cf%83%ce%ba%ce%bb%ce%b7%cf%83%ce%b7-%cf%83%cf%85%ce%bc%cf%80%cf%8c%cf%83%ce%b9%ce%bf-%ce%b3%ce%b7-%ce%ad%ce%bd%ce%b1%cf%82-%ce%b2%ce%b9%cf%8e%cf%83%ce%b9%ce%bc%ce%bf%cf%82-2/2024-09-10/
CATEGORIES:Εκδηλώσεις
END:VEVENT
BEGIN:VEVENT
DTSTART;TZID=Europe/Athens:20240911T080000
DTEND;TZID=Europe/Athens:20240911T170000
DTSTAMP:20260420T074219
CREATED:20240912T122627Z
LAST-MODIFIED:20240930T105327Z
UID:10001303-1726041600-1726074000@www.uoc.gr
SUMMARY:Πρόσκληση | Συμπόσιο «ΓΗ: Ένας Βιώσιμος Πλανήτης για Όλους | Κάλεσμα για Δράση - Η αλλαγή είναι εφικτή»
DESCRIPTION:Ο Μητροπολίτης Ρεθύμνης και Αυλοποτάμου\, κ. Πρόδρομος\, ο Πρύτανης του Πανεπιστημίου Κρήτης Καθηγητής Γεώργιος Μ. Κοντάκης και η Πρόεδρος του Μουσείου Γουλανδρή Φυσικής Ιστορίας (ΜΓΦΙ) Φαλή Βογιατζάκη σας προσκαλούν στο Συμπόσιο που θα πραγματοποιηθεί υπό την αιγίδα της Α.Ε. της Προέδρου της Δημοκρατίας Κατερίνας Σακελλαροπούλου και της Α.Θ.Π. του Οικουμενικoύ Πατριάρχου κ.κ. Βαρθολομαίου με θέμα «ΓΗ: Ένας Βιώσιμος Πλανήτης για Όλους | Κάλεσμα για Δράση – Η αλλαγή είναι εφικτή» που θα διεξαχθεί 10-12 Σεπτεμβρίου 2024 στην πόλη του Ρεθύμνου. \nΠαρακαλούμε για περισσότερες πληροφορίες δείτε τη σχετική Πρόσκληση εδώ.
URL:https://www.uoc.gr/event/%cf%80%cf%81%cf%8c%cf%83%ce%ba%ce%bb%ce%b7%cf%83%ce%b7-%cf%83%cf%85%ce%bc%cf%80%cf%8c%cf%83%ce%b9%ce%bf-%ce%b3%ce%b7-%ce%ad%ce%bd%ce%b1%cf%82-%ce%b2%ce%b9%cf%8e%cf%83%ce%b9%ce%bc%ce%bf%cf%82-2/2024-09-11/
CATEGORIES:Εκδηλώσεις
END:VEVENT
BEGIN:VEVENT
DTSTART;TZID=Europe/Athens:20240912T080000
DTEND;TZID=Europe/Athens:20240912T170000
DTSTAMP:20260420T074219
CREATED:20240912T122627Z
LAST-MODIFIED:20240930T105327Z
UID:10001304-1726128000-1726160400@www.uoc.gr
SUMMARY:Πρόσκληση | Συμπόσιο «ΓΗ: Ένας Βιώσιμος Πλανήτης για Όλους | Κάλεσμα για Δράση - Η αλλαγή είναι εφικτή»
DESCRIPTION:Ο Μητροπολίτης Ρεθύμνης και Αυλοποτάμου\, κ. Πρόδρομος\, ο Πρύτανης του Πανεπιστημίου Κρήτης Καθηγητής Γεώργιος Μ. Κοντάκης και η Πρόεδρος του Μουσείου Γουλανδρή Φυσικής Ιστορίας (ΜΓΦΙ) Φαλή Βογιατζάκη σας προσκαλούν στο Συμπόσιο που θα πραγματοποιηθεί υπό την αιγίδα της Α.Ε. της Προέδρου της Δημοκρατίας Κατερίνας Σακελλαροπούλου και της Α.Θ.Π. του Οικουμενικoύ Πατριάρχου κ.κ. Βαρθολομαίου με θέμα «ΓΗ: Ένας Βιώσιμος Πλανήτης για Όλους | Κάλεσμα για Δράση – Η αλλαγή είναι εφικτή» που θα διεξαχθεί 10-12 Σεπτεμβρίου 2024 στην πόλη του Ρεθύμνου. \nΠαρακαλούμε για περισσότερες πληροφορίες δείτε τη σχετική Πρόσκληση εδώ.
URL:https://www.uoc.gr/event/%cf%80%cf%81%cf%8c%cf%83%ce%ba%ce%bb%ce%b7%cf%83%ce%b7-%cf%83%cf%85%ce%bc%cf%80%cf%8c%cf%83%ce%b9%ce%bf-%ce%b3%ce%b7-%ce%ad%ce%bd%ce%b1%cf%82-%ce%b2%ce%b9%cf%8e%cf%83%ce%b9%ce%bc%ce%bf%cf%82-2/2024-09-12/
CATEGORIES:Εκδηλώσεις
END:VEVENT
BEGIN:VEVENT
DTSTART;TZID=Europe/Athens:20240927T100000
DTEND;TZID=Europe/Athens:20240927T170000
DTSTAMP:20260420T074219
CREATED:20240927T111046Z
LAST-MODIFIED:20240930T105326Z
UID:10001300-1727431200-1727456400@www.uoc.gr
SUMMARY:Τμήμα Επιστήμης Υπολογιστών | Υποδοχή Πρωτοετών 2024 & Reunion τάξεων 1984 (40 έτη πριν)\, 1993 και 1994
DESCRIPTION:Υποδοχή Πρωτοετών 2024 & Reunion τάξεων 1984 (40 έτη πριν)\, 1993 και 1994 \nΠαρασκευή 27 Σεπτεμβρίου 2024\, 10:00 – 16:00 \nΑμφιθέατρο «Νίκος Πετρίδης»\, Τμήμα Μαθηματικών και Εφαρμοσμένων \nΜαθηματικών\, & Αμφιθέατρο «Στέλιος Ορφανουδάκης»\, Τμήμα Επιστήμης Υπολογιστών\, Πανεπιστήμιο Κρήτης\, Πανεπιστημιούπολη Βουτών\, Ηράκλειο Κρήτης \n  \nΠερισσότερες πληροφορίες δείτε εδώ
URL:https://www.uoc.gr/event/%cf%84%ce%bc%ce%ae%ce%bc%ce%b1-%ce%b5%cf%80%ce%b9%cf%83%cf%84%ce%ae%ce%bc%ce%b7%cf%82-%cf%85%cf%80%ce%bf%ce%bb%ce%bf%ce%b3%ce%b9%cf%83%cf%84%cf%8e%ce%bd-%cf%85%cf%80%ce%bf%ce%b4%ce%bf%cf%87%ce%ae/
CATEGORIES:Εκδηλώσεις
END:VEVENT
END:VCALENDAR