BEGIN:VCALENDAR
VERSION:2.0
PRODID:-//Πανεπιστήμιο Κρήτης - ECPv6.15.10//NONSGML v1.0//EN
CALSCALE:GREGORIAN
METHOD:PUBLISH
X-ORIGINAL-URL:https://www.uoc.gr/
X-WR-CALDESC:Events for Πανεπιστήμιο Κρήτης
REFRESH-INTERVAL;VALUE=DURATION:PT1H
X-Robots-Tag:noindex
X-PUBLISHED-TTL:PT1H
BEGIN:VTIMEZONE
TZID:Europe/Athens
BEGIN:DAYLIGHT
TZOFFSETFROM:+0200
TZOFFSETTO:+0300
TZNAME:EEST
DTSTART:20230326T010000
END:DAYLIGHT
BEGIN:STANDARD
TZOFFSETFROM:+0300
TZOFFSETTO:+0200
TZNAME:EET
DTSTART:20231029T010000
END:STANDARD
BEGIN:DAYLIGHT
TZOFFSETFROM:+0200
TZOFFSETTO:+0300
TZNAME:EEST
DTSTART:20240331T010000
END:DAYLIGHT
BEGIN:STANDARD
TZOFFSETFROM:+0300
TZOFFSETTO:+0200
TZNAME:EET
DTSTART:20241027T010000
END:STANDARD
BEGIN:DAYLIGHT
TZOFFSETFROM:+0200
TZOFFSETTO:+0300
TZNAME:EEST
DTSTART:20250330T010000
END:DAYLIGHT
BEGIN:STANDARD
TZOFFSETFROM:+0300
TZOFFSETTO:+0200
TZNAME:EET
DTSTART:20251026T010000
END:STANDARD
END:VTIMEZONE
BEGIN:VEVENT
DTSTART;TZID=Europe/Athens:20241002T120000
DTEND;TZID=Europe/Athens:20241002T150000
DTSTAMP:20260420T074219
CREATED:20240927T115204Z
LAST-MODIFIED:20240930T105326Z
UID:10001302-1727870400-1727881200@www.uoc.gr
SUMMARY:Αναγόρευση του Καθηγητή Παναγιώτη Γιαννούδη σε Επίτιμο Διδάκτορα της Ιατρικής Σχολής
DESCRIPTION:Ο διακεκριμένος Καθηγητής Ορθοπαιδικής και Τραυματολογίας της Ιατρικής Σχολής του Πανεπιστημίου του Leeds στο Ηνωμένο Βασίλειο\, κ. Παναγιώτης Γιαννούδης θα τιμηθεί με τον τίτλο του Επίτιμου Διδάκτορα από την Ιατρική Σχολή του Πανεπιστημίου Κρήτης. \nΗ τελετή Αναγόρευσης θα πραγματοποιηθεί την Τετάρτη 2 Οκτωβρίου 2024\, στις 12:00\, στο “Αμφιθέατρο Μεταπτυχιακών” της Ιατρικής Σχολής του Πανεπιστημίου Κρήτης\, στην Πανεπιστημιούπολη Βουτών\, στο Ηράκλειο. \nΗ τιμητική αυτή διάκριση απονέμεται στον Καθηγητή Παναγιώτη Γιαννούδη σε αναγνώριση της σημαντικής συμβολής του στην επιστήμη της Ορθοπαιδικής\, της αφοσίωσή του στη συνεχή εκπαίδευση των ιατρών\, της προσφοράς του στην φροντίδα τραυματιών καθώς  και του σημαντικού κοινωνική του έργου. \nΔείτε τα σχετικά αρχεία: \nΠρόσκληση \nΑφίσα \nΔελτίο Τύπου
URL:https://www.uoc.gr/event/%ce%b1%ce%bd%ce%b1%ce%b3%cf%8c%cf%81%ce%b5%cf%85%cf%83%ce%b7-%cf%84%ce%bf%cf%85-%ce%ba%ce%b1%ce%b8%ce%b7%ce%b3%ce%b7%cf%84%ce%ae-%cf%80%ce%b1%ce%bd%ce%b1%ce%b3%ce%b9%cf%8e%cf%84%ce%b7-%ce%b3%ce%b9/
CATEGORIES:Εκδηλώσεις
END:VEVENT
BEGIN:VEVENT
DTSTART;TZID=Europe/Athens:20241002T193000
DTEND;TZID=Europe/Athens:20241002T193000
DTSTAMP:20260420T074219
CREATED:20240927T114242Z
LAST-MODIFIED:20240930T111702Z
UID:10001301-1727897400-1727897400@www.uoc.gr
SUMMARY:"Αλέξανδρος Αργυρίου: οικοδομώντας τον κριτικό λόγο" - Διαδικτυακή συνάντηση αφιερωμένη στη μνήμη του (2/10/2024\, 19:30)
DESCRIPTION:ΑΛΕΞΑΝΔΡΟΣ ΑΡΓΥΡΙΟΥ \nοικοδομώντας τον κριτικό λόγο \nΔιαδικτυακή συνάντηση αφιερωμένη στη μνήμη του \nΤΕΤΑΡΤΗ 2 ΟΚΤΩΒΡΙΟΥ 2024\, ΩΡΑ 7:30 μ.μ. \nhttps://authgr.zoom.us/s/99172105809 \n  \nΣτο πλαίσιο του κύκλου των Διαδικτυακών Συναντήσεων που διοργανώνει ο Όμιλος Φίλων του ποιητή Μανόλη Αναγνωστάκη για να τιμήσει τη μνήμη των ιδρυτών του που έχουν φύγει από τη ζωή\, θα πραγματοποιηθεί εκδήλωση για τον Αλέξανδρο Αργυρίου\, την Τετάρτη 2 Οκτωβρίου και ώρα 7:30 μ.μ.. Η εκδήλωση έχει τίτλο «Αλέξανδρος Αργυρίου: οικοδομώντας τον κριτικό λόγο» και θα διεξαχθεί στην πλατφόρμα ΖΟΟΜ\, στον ηλεκτρονικό σύνδεσμο https://authgr.zoom.us/s/99172105809 \nΓια τον κριτικό της λογοτεχνίας με τη νηφάλια και αδογμάτιστη ματιά\, και για τον άνθρωπο τον προσηνή και φιλέταιρο\, θα μιλήσουν οι Αλέξης Ζήρας\, Θανάσης Καστανιώτης\, Αγγέλα Καστρινάκη\, Ελισάβετ Κοτζιά\, Αλέξης Πολίτης\, Λίζυ Τσιριμώκου και Βαγγέλης Χατζηβασιλείου. \nΤην επιμέλεια και τον συντονισμό της εκδήλωσης έχει η Αγγέλα Καστρινάκη\, Καθηγήτρια Νεοελληνικής Φιλολογίας του Πανεπιστημίου Κρήτης. \nΗ εκδήλωση θα καταγραφεί και θα αναρτηθεί στην ιστοσελίδα του Ομίλου Φίλων του ποιητή Μανόλη Αναγνωστάκη.
URL:https://www.uoc.gr/event/%ce%b1%ce%bb%ce%ad%ce%be%ce%b1%ce%bd%ce%b4%cf%81%ce%bf%cf%82-%ce%b1%cf%81%ce%b3%cf%85%cf%81%ce%af%ce%bf%cf%85-%ce%bf%ce%b9%ce%ba%ce%bf%ce%b4%ce%bf%ce%bc%cf%8e%ce%bd%cf%84%ce%b1%cf%82-%cf%84%ce%bf/
CATEGORIES:Εκδηλώσεις
END:VEVENT
BEGIN:VEVENT
DTSTART;TZID=Europe/Athens:20241003T150000
DTEND;TZID=Europe/Athens:20241003T150000
DTSTAMP:20260420T074219
CREATED:20241001T113949Z
LAST-MODIFIED:20241001T115212Z
UID:10001307-1727967600-1727967600@www.uoc.gr
SUMMARY:Διάλεξη | "Philosophical Method: Then and Now"  Terence Cuneo
DESCRIPTION:“Philosophical Method: Then and Now” \nTerence Cuneo \nΚαθηγητής Φιλοσοφίας του Πανεπιστημίου του Vermont \n3 Οκτωβρίου 2024\, ώρα έναρξης 15.00 \n\nAίθουσα Σ1 Τμήματος Φιλοσοφίας \nΗ ομιλία θα μεταδοθεί και διαδικτυακά στον σύνδεσμο: http://ww2.fks.uoc.gr/f/terence-cuneo
URL:https://www.uoc.gr/event/%ce%b4%ce%b9%ce%ac%ce%bb%ce%b5%ce%be%ce%b7-philosophical-method-then-and-now-terence-cuneo/
CATEGORIES:Εκδηλώσεις
END:VEVENT
BEGIN:VEVENT
DTSTART;TZID=Europe/Athens:20241005T113000
DTEND;TZID=Europe/Athens:20241005T113000
DTSTAMP:20260420T074219
CREATED:20240930T112529Z
LAST-MODIFIED:20240930T112636Z
UID:10001305-1728127800-1728127800@www.uoc.gr
SUMMARY:Απονομή των Πτυχίων του  Προγράμματος Μεταπτυχιακών Σπουδών (ΔΠΜΣ) «Ειδική Αγωγή»
DESCRIPTION:Απονομή Πτυχίων των Πτυχιούχων του Προγράμματος Μεταπτυχιακών Σπουδών (ΔΠΜΣ) «Ειδική Αγωγή»\nκαι  υποδοχή των νέων φοιτητών του προγράμματος θα πραγματοποιηθεί  το Σάββατο 5 Οκτωβρίου και ώρα 11:30 π.μ.\nστο Αμφιθέατρο Δ3\, στην Πανεπιστημιούπολη Ρεθύμνου. \nΠαρακαλούμε δείτε το σχετικό αρχείο: \nhttps://news.uoc.gr/news/2024/30-09/prosklisi-programma_Orkomosias_5-10-24.pdf \n 
URL:https://www.uoc.gr/event/%ce%b1%cf%80%ce%bf%ce%bd%ce%bf%ce%bc%ce%ae-%cf%84%cf%89%ce%bd-%cf%80%cf%84%cf%85%cf%87%ce%af%cf%89%ce%bd-%cf%84%ce%bf%cf%85-%cf%80%cf%81%ce%bf%ce%b3%cf%81%ce%ac%ce%bc%ce%bc%ce%b1%cf%84%ce%bf%cf%82/
CATEGORIES:Εκδηλώσεις
END:VEVENT
BEGIN:VEVENT
DTSTART;TZID=Europe/Athens:20241008T000000
DTEND;TZID=Europe/Athens:20241008T114422
DTSTAMP:20260420T074219
CREATED:20241008T114421Z
LAST-MODIFIED:20241008T114421Z
UID:10001317-1728345600-1728387862@www.uoc.gr
SUMMARY:Υποδοχή Πρωτοετών 2024 Παιδαγωγικού Τμήματος Δημοτικής Εκπαίδευσης
DESCRIPTION:Το Παιδαγωγικό Τμήμα Δημοτικής Εκπαίδευσης της Σχολής Επιστημών Αγωγής του Πανεπιστημίου Κρήτης σας προσκαλεί στην εκδήλωση Υποδοχής των Πρωτοετών 2024 την Τρίτη 08 Οκτωβρίου 2024\, \n11:30 – 14:00\, στο Αμφιθέατρο Δ7 και \n17:00 – 19:00\, στις δομές του Τμήματος στην πόλη του Ρεθύμνου XENISEUM\, Science in the City και Συλλογή Αρβελέρ. \nΠαρακαλούμε δείτε το σχετικό αρχείο: \nhttps://news.uoc.gr/news/2024/07-10/Ypodoxi_Protoeton_PTDE_2024.pdf
URL:https://www.uoc.gr/event/%cf%85%cf%80%ce%bf%ce%b4%ce%bf%cf%87%ce%ae-%cf%80%cf%81%cf%89%cf%84%ce%bf%ce%b5%cf%84%cf%8e%ce%bd-2024-%cf%80%ce%b1%ce%b9%ce%b4%ce%b1%ce%b3%cf%89%ce%b3%ce%b9%ce%ba%ce%bf%cf%8d-%cf%84%ce%bc%ce%ae%ce%bc/
CATEGORIES:Εκδηλώσεις
END:VEVENT
BEGIN:VEVENT
DTSTART;TZID=Europe/Athens:20241008T130000
DTEND;TZID=Europe/Athens:20241008T130000
DTSTAMP:20260420T074219
CREATED:20241003T103547Z
LAST-MODIFIED:20241004T064930Z
UID:10001311-1728392400-1728392400@www.uoc.gr
SUMMARY:Αναγόρευση του Michael F. Collins σε Επίτιμο Διδάκτορα της Ιατρικής Σχολής του Πανεπιστημίου Κρήτης
DESCRIPTION:Ο Michael F. Collins Καγκελάριος της Ιατρικής Σχολής T.H. Chan του Πανεπιστημίου της Μασαχουσέτης θα τιμηθεί με τον τίτλο του Επίτιμου Διδάκτορα από την Ιατρική Σχολή του Πανεπιστημίου Κρήτης. \nΗ Τελετή Αναγόρευσης θα πραγματοποιηθεί την Τρίτη 8 Οκτωβρίου 2024\, στις 13:00\, στο “Αμφιθέατρο Μεταπτυχιακών” της Ιατρικής Σχολής του Πανεπιστημίου Κρήτης\, στην Πανεπιστημιούπολη Βουτών\, στο Ηράκλειο. \nΗ τιμητική αυτή διάκριση απονέμεται στον Καθηγητή Michael F. Collins ως αναγνώριση της εξαιρετικής του επιστημονικής πορείας και της καθοριστικής του συμβολής στην οργάνωση και διοίκηση της Ιατρικής Σχολής του Πανεπιστημίου της Μασαχουσέτης\, καθώς και των συνεργαζόμενων ερευνητικών κέντρων. Η συμβολή του υπήρξε καταλυτική για την ανάπτυξη της Σχολής\, εστιάζοντας στην προώθηση της ιατρικής έρευνας\, την ενίσχυση της δημόσιας υγείας και την αναβάθμιση της ιατρικής εκπαίδευσης. \nΠρόσκληση 
URL:https://www.uoc.gr/event/%ce%b1%ce%bd%ce%b1%ce%b3%cf%8c%cf%81%ce%b5%cf%85%cf%83%ce%b7-%cf%84%ce%bf%cf%85-michael-f-collins-%cf%83%ce%b5-%ce%b5%cf%80%ce%af%cf%84%ce%b9%ce%bc%ce%bf-%ce%b4%ce%b9%ce%b4%ce%ac%ce%ba%cf%84%ce%bf-2/
CATEGORIES:Εκδηλώσεις
END:VEVENT
BEGIN:VEVENT
DTSTART;TZID=Europe/Athens:20241009T080000
DTEND;TZID=Europe/Athens:20241009T170000
DTSTAMP:20260420T074219
CREATED:20241001T115409Z
LAST-MODIFIED:20241001T115409Z
UID:10001308-1728460800-1728493200@www.uoc.gr
SUMMARY:Εκπαιδευτικό Σεμινάριο ΚΕΜΕ-ΠΚ «Εργαλεία Κοινωνικής Γεωγραφίας»: Σ. Σπυρέλλης\, "Πανόραμα Απογραφικών Δεδομένων και Κοινωνικός Άτλαντας της Αθήνας: δυο δυναμικά εργαλεία για την κοινωνική γεωγραφία της πόλης
DESCRIPTION:Σας προσκαλούμε στο Εκπαιδευτικό Εργαστήριο «Εργαλεία Κοινωνικής Γεωγραφίας» του ΚΕΜΕ-ΠΚ\, με τίτλο: \n\n\n\n“Πανόραμα Απογραφικών Δεδομένων και Κοινωνικός Άτλαντας της Αθήνας:\nδυο δυναμικά εργαλεία για την κοινωνική γεωγραφία της πόλης“ \nκαι εισηγητή τον κ. Σταύρο Σπυρέλλη\,\nΕρευνητή Αστικής Κοινωνικής Γεωγραφίας\, Ινστιτούτο Κοινωνικών Ερευνών\,\nΕθνικό Κέντρο Κοινωνικών Ερευνών (ΕΚΚΕ) \nτην Τετάρτη\, 9 Οκτωβρίου\, 14:30-16:30 \nστην Αίθουσα Τηλεδιασκέψεων Εβ3 του ΚΕΜΕ-ΠΚ\nκαι διαδικτυακά στον σύνδεσμο: \nhttps://uoc-gr.zoom.us/j/85023997967?pwd=UEtzbIFcT4AU7TuUSEOcXrxJqYSeyG.1 \n(Meeting ID: 850 2399 7967 – Passcode: 060464) \nΕπισυνάπτεται το Poster του Σεμιναρίου \nΠαρακαλούμε δείτε το σχετικό αρχείο: \nhttps://news.uoc.gr/news/2024/01-10/Σ._Σπυρέλλης\,_Εκπαιδευτικό_Σεμινάριο_ΚΕΜΕ-ΠΚ.pdf
URL:https://www.uoc.gr/event/%ce%b5%ce%ba%cf%80%ce%b1%ce%b9%ce%b4%ce%b5%cf%85%cf%84%ce%b9%ce%ba%cf%8c-%cf%83%ce%b5%ce%bc%ce%b9%ce%bd%ce%ac%cf%81%ce%b9%ce%bf-%ce%ba%ce%b5%ce%bc%ce%b5-%cf%80%ce%ba-%ce%b5%cf%81%ce%b3%ce%b1/
CATEGORIES:Εκδηλώσεις
END:VEVENT
BEGIN:VEVENT
DTSTART;TZID=Europe/Athens:20241010T100000
DTEND;TZID=Europe/Athens:20241010T100000
DTSTAMP:20260420T074219
CREATED:20241003T103044Z
LAST-MODIFIED:20241003T103229Z
UID:10001310-1728554400-1728554400@www.uoc.gr
SUMMARY:Ανοικτή Δράση για την Παγκόσμια Ημέρα Ψυχικής Υγείας στην Πανεπιστημιούπολη Ρεθύμνου
DESCRIPTION:Προβολή Ντοκιμαντέρ και Ανοικτή Συζήτηση με την Ψυχίατρο του Γ.Ν. Ρεθύμνου κ. Γεωργιάδου Χριστίνα \nΗμερομηνία & Ώρα :  Πέμπτη 10 Οκτωβρίου 2024 και ώρα 10:00πμ έως 11:30πμ \nΧώρος : Αίθουσα Πολλαπλών Χρήσεων Βιβλιοθήκης Πανεπιστημιούπολης Γάλλου \nΦορέας Υλοποίησης: Συμβουλευτικό Κέντρο Φοιτητών Ρεθύμνου \nΑφίσα
URL:https://www.uoc.gr/event/%ce%b1%ce%bd%ce%bf%ce%b9%ce%ba%cf%84%ce%ae-%ce%b4%cf%81%ce%ac%cf%83%ce%b7-%ce%b3%ce%b9%ce%b1-%cf%84%ce%b7%ce%bd-%cf%80%ce%b1%ce%b3%ce%ba%cf%8c%cf%83%ce%bc%ce%b9%ce%b1-%ce%b7%ce%bc%ce%ad%cf%81%ce%b1/
CATEGORIES:Εκδηλώσεις
END:VEVENT
BEGIN:VEVENT
DTSTART;TZID=Europe/Athens:20241014T000000
DTEND;TZID=Europe/Athens:20241014T000000
DTSTAMP:20260420T074219
CREATED:20241009T110315Z
LAST-MODIFIED:20241009T110406Z
UID:10001321-1728864000-1728864000@www.uoc.gr
SUMMARY:Εθελοντική αιμοδοσία ΟΦΕΑΚ στο Φοιτητικό Κέντρο
DESCRIPTION:
URL:https://www.uoc.gr/event/%ce%b5%ce%b8%ce%b5%ce%bb%ce%bf%ce%bd%cf%84%ce%b9%ce%ba%ce%ae-%ce%b1%ce%b9%ce%bc%ce%bf%ce%b4%ce%bf%cf%83%ce%af%ce%b1-%ce%bf%cf%86%ce%b5%ce%b1%ce%ba-%cf%83%cf%84%ce%bf-%cf%86%ce%bf%ce%b9%cf%84%ce%b7/
CATEGORIES:Εκδηλώσεις
END:VEVENT
BEGIN:VEVENT
DTSTART;TZID=Europe/Athens:20241014T000000
DTEND;TZID=Europe/Athens:20241018T000000
DTSTAMP:20260420T074219
CREATED:20241015T112626Z
LAST-MODIFIED:20241015T112646Z
UID:10001324-1728864000-1729209600@www.uoc.gr
SUMMARY:Έκθεση με θέμα "Ο άλλος εαυτός" \, λογοτεχνικές επιδόσεις της Ακαδημαϊκής Κοινότητας του Πανεπιστημίου Κρήτης\, από το 1978 μέχρι σήμερα
DESCRIPTION:Δείτε τα σχετικά αρχεία : \nΑφίσα \nΠρόγραμμα 
URL:https://www.uoc.gr/event/%ce%ad%ce%ba%ce%b8%ce%b5%cf%83%ce%b7-%ce%bc%ce%b5-%ce%b8%ce%ad%ce%bc%ce%b1-%ce%bf-%ce%ac%ce%bb%ce%bb%ce%bf%cf%82-%ce%b5%ce%b1%cf%85%cf%84%cf%8c%cf%82-%ce%bb%ce%bf%ce%b3%ce%bf%cf%84%ce%b5%cf%87/
CATEGORIES:Εκδηλώσεις
END:VEVENT
BEGIN:VEVENT
DTSTART;TZID=Europe/Athens:20241014T173000
DTEND;TZID=Europe/Athens:20241014T173000
DTSTAMP:20260420T074219
CREATED:20241008T114655Z
LAST-MODIFIED:20241008T114739Z
UID:10001318-1728927000-1728927000@www.uoc.gr
SUMMARY:Εκδήλωση Ενημέρωσης για το Διατμηματικό Πρόγραμμα Μεταπτυχιακών Σπουδών "Νευροεπιστήμες" της Ιατρικής Σχολής του Πανεπιστημίου Κρήτης
DESCRIPTION:Εκ μέρους της Διευθύντριας του ΔΠΜΣ Νευροεπιστήμες Κυριακής Σιδηροπούλου\, Αναπλ. Καθηγήτριας Τμήματος Βιολογίας\, σας προσκαλούμε σε εκδήλωση ενημέρωσης για το Διατμηματικό Πρόγραμμα Μεταπτυχιακών Σπουδών “Νευροεπιστήμες”\, τη Δευτέρα\, 14 Οκτωβρίου  2024 στις 5:30μμ στο Επιμελητήριο Ηρακλείου. \nΠαρακαλούμε δείτε το σχετικό αρχείο: \nhttps://news.uoc.gr/news/2024/07-10/προγραμμα-εκδηλωση-νευροεπιστήμες_(1).pdf
URL:https://www.uoc.gr/event/%ce%b5%ce%ba%ce%b4%ce%ae%ce%bb%cf%89%cf%83%ce%b7-%ce%b5%ce%bd%ce%b7%ce%bc%ce%ad%cf%81%cf%89%cf%83%ce%b7%cf%82-%ce%b3%ce%b9%ce%b1-%cf%84%ce%bf-%ce%b4%ce%b9%ce%b1%cf%84%ce%bc%ce%b7%ce%bc%ce%b1%cf%84/
CATEGORIES:Εκδηλώσεις
END:VEVENT
BEGIN:VEVENT
DTSTART;TZID=Europe/Athens:20241016T000000
DTEND;TZID=Europe/Athens:20241016T000000
DTSTAMP:20260420T074219
CREATED:20241009T115324Z
LAST-MODIFIED:20241009T115331Z
UID:10001322-1729036800-1729036800@www.uoc.gr
SUMMARY:Πρόγραμμα Υποδοχής Πρωτοετών - Τμήμα Πολιτικής Επιστήμης
DESCRIPTION:Παρακαλούμε δείτε το σχετικό αρχείο: \nhttps://news.uoc.gr/news/2024/09-10/ΠΡΟΓΡΑΜΜΑ_ΥΠΟΔΟΧΗ_ΠΡΩΤΟΕΤΩΝ_2024.pdf
URL:https://www.uoc.gr/event/%cf%80%cf%81%cf%8c%ce%b3%cf%81%ce%b1%ce%bc%ce%bc%ce%b1-%cf%85%cf%80%ce%bf%ce%b4%ce%bf%cf%87%ce%ae%cf%82-%cf%80%cf%81%cf%89%cf%84%ce%bf%ce%b5%cf%84%cf%8e%ce%bd-%cf%84%ce%bc%ce%ae%ce%bc%ce%b1-%cf%80/
CATEGORIES:Εκδηλώσεις
END:VEVENT
BEGIN:VEVENT
DTSTART;TZID=Europe/Athens:20241016T130000
DTEND;TZID=Europe/Athens:20241016T130000
DTSTAMP:20260420T074219
CREATED:20241008T114953Z
LAST-MODIFIED:20241008T115000Z
UID:10001319-1729083600-1729083600@www.uoc.gr
SUMMARY:Εκδήλωση υποδοχής πρωτοετών φοιτητών της Ιατρικής Σχολής
DESCRIPTION:Παρακαλούμε δείτε το σχετικό αρχείο: \nhttps://news.uoc.gr/news/2024/04-10/ΠΡΟΓΡΑΜΜΑ_ΠΡΟΣΚΛΗΣΗ.pdf
URL:https://www.uoc.gr/event/%ce%b5%ce%ba%ce%b4%ce%ae%ce%bb%cf%89%cf%83%ce%b7-%cf%85%cf%80%ce%bf%ce%b4%ce%bf%cf%87%ce%ae%cf%82-%cf%80%cf%81%cf%89%cf%84%ce%bf%ce%b5%cf%84%cf%8e%ce%bd-%cf%86%ce%bf%ce%b9%cf%84%ce%b7%cf%84%cf%8e-2/
CATEGORIES:Εκδηλώσεις
END:VEVENT
BEGIN:VEVENT
DTSTART;TZID=Europe/Athens:20241016T160000
DTEND;TZID=Europe/Athens:20241016T160000
DTSTAMP:20260420T074219
CREATED:20241008T112443Z
LAST-MODIFIED:20241008T112520Z
UID:10001316-1729094400-1729094400@www.uoc.gr
SUMMARY:Erasmus days 2024 - Campus Tournaments\, Voutes Campus\, October 16
DESCRIPTION:Το Τμήμα Διεθνών και Δημοσίων Σχέσεων σε συνεργασία με το Γυμναστήριο του Πανεπιστημίου στις Βούτες\, προσκαλεί όλους τους φοιτητές και τις φοιτήτριες του Πανεπιστημίου Κρήτης στην εκδήλωση Campus Tournaments που θα πραγματοποιηθεί την Τετάρτη 16 Οκτωβρίου 2024 και ώρα 16.00 με 18.00 στο Πανεπιστημιακό Γυμναστήριο στις Βούτες. Παρακαλώ διαβάστε παρακάτω την ανακοίνωση. \nΟι φοιτητές Erasmus ενώνουν τις δυνάμεις τους με τους Έλληνες και Διεθνείς φοιτητές του Πανεπιστημίου Κρήτης σε μια γιορτή αθλητισμού\, συντροφικότητας και ενότητας! \nΗ εκδήλωση Campus Tournaments διοργανώνεται στο πλαίσιο των Erasmus Days 2024 από το Τμήμα Διεθνών & Δημοσίων Σχέσεων και στοχεύει στην προώθηση των Ολυμπιακών ιδεωδών της αριστείας\, της φιλίας και του σεβασμού. \nΟι συμμετέχοντες θα έχουν την ευκαιρία να συμμετάσχουν σε σκυταλοδρομία\, διαγωνισμό τριπόντων και να δοκιμάσουν παραδοσιακά ελληνικά παιχνίδια καθώς και γκόλμπολ\, ένα παραολυμπιακό ομαδικό άθλημα σχεδιασμένο ειδικά για αθλητές με προβλήματα όρασης. Επίσης\, οι έλληνες φοιτητές θα έχουν την ευκαιρία να γνωριστούν με συμφοιτητές τους από το εξωτερικό και να μάθουν περισσότερα για το πρόγραμμα Erasmus! \nΗ συμμετοχή είναι ελεύθερη σε όλους τους φοιτητές και όλες τις φοιτήτριες του Πανεπιστημίου Κρήτης και θα δοθεί πιστοποιητικό συμμετοχής \nΠαρακαλώ εγγραφείτε εδώ για να συμμετάσχετε μέχρι την Κυριακή\, 13 Οκτωβρίου: https://forms.office.com/e/51b3yynCk8
URL:https://www.uoc.gr/event/erasmus-days-2024-campus-tournaments-voutes-campus-october-16/
CATEGORIES:Εκδηλώσεις
END:VEVENT
BEGIN:VEVENT
DTSTART;TZID=Europe/Athens:20241016T190000
DTEND;TZID=Europe/Athens:20241016T190000
DTSTAMP:20260420T074219
CREATED:20241009T104422Z
LAST-MODIFIED:20241009T104430Z
UID:10001320-1729105200-1729105200@www.uoc.gr
SUMMARY:Ημερίδα  «Το δημογραφικό πρόβλημα της Ελλάδας: Εθνικές Προκλήσεις και Προτάσεις Αντιμετώπισης»
DESCRIPTION:Ημερίδα \n«Το δημογραφικό πρόβλημα της Ελλάδας: Εθνικές Προκλήσεις και Προτάσεις Αντιμετώπισης» \nΧανιά\, 16 Οκτωβρίου 2024 \nΜε σκοπό την ευαισθητοποίηση της ελληνικής κοινωνίας απέναντι στο σημαντικό ζήτημα της υπογεννητικότητας το Διιδρυματικό Πρόγραμμα Μεταπτυχιακών Σπουδών «Επιστήμες της Αγωγής: Θρησκεία και Παιδεία»\, του Παν/μίου Κρήτης και του Αριστοτέλειου Παν/μίου Θεσσαλονίκης\,  και ο Σύλλογος Εργαζομένων Υπουργείου Εθνικής Άμυνας στην Κρήτη συνδιοργανώνουν επιστημονική ημερίδα με θέμα «Το δημογραφικό πρόβλημα της Ελλάδας: Εθνικές Προκλήσεις και Προτάσεις Αντιμετώπισης»\, στα Χανιά την Τετάρτη 16 Οκτωβρίου 2024 και ώρα 19:00 στην Αίθουσα Εκδηλώσεων της Συνεταιριστικής Τράπεζας Χανίων. Στόχοι της ημερίδας αποτελούν αφενός η καλύτερη ενημέρωση για το δημογραφικό πρόβλημα και τις συνέπειές του αφετέρου η διατύπωση προτάσεων για την αντιμετώπισή του. \nΚύριοι ομιλητές θα είναι οι: Βύρων Κοτζαμάνης\, Καθηγητής Παν/μίου Θεσσαλίας\, Κωνσταντίνος Γρίβας\, Καθηγητής Στρατιωτικής Σχολής Ευελπίδων\, Αναστάσιος Λαυρέντζος\, Αναλυτής και Διδάσκων σε Α.Ε.Ι.\, Γιώργος Φίλης\, Καθηγητής Ledra College\, Δημήτριος Κοντός\, Πρόεδρος Ομοσπονδίας Τριτέκνων Ελλάδος. \nΤη συζήτηση συντονίζει ο δημοσιογράφος Γιώργος Σαχίνης. \n  \nΔείτε τα συνημμένα αρχεία που βρίσκονται στις παρακάτω υπερ-συνδέσεις : \nhttps://news.uoc.gr/news/2024/09-10/ΠΡΟΣΚΛΗΣΗ_τελική.jpg \nhttps://news.uoc.gr/news/2024/09-10/ΑΦΙΣΑ_ΔΗΜΟΓΡΑΦΙΚΟ_τελική.jpg
URL:https://www.uoc.gr/event/%ce%b7%ce%bc%ce%b5%cf%81%ce%af%ce%b4%ce%b1-%cf%84%ce%bf-%ce%b4%ce%b7%ce%bc%ce%bf%ce%b3%cf%81%ce%b1%cf%86%ce%b9%ce%ba%cf%8c-%cf%80%cf%81%cf%8c%ce%b2%ce%bb%ce%b7%ce%bc%ce%b1-%cf%84%ce%b7%cf%82/
CATEGORIES:Εκδηλώσεις
END:VEVENT
BEGIN:VEVENT
DTSTART;TZID=Europe/Athens:20241017T000000
DTEND;TZID=Europe/Athens:20241017T235900
DTSTAMP:20260420T074219
CREATED:20240924T193628Z
LAST-MODIFIED:20240930T105325Z
UID:10001299-1729123200-1729209540@www.uoc.gr
SUMMARY:Welcome to UoC! |Καλωσόρισμα πρωτοετών φοιτητών/τριών
DESCRIPTION:Καλώς ήρθατε στο Πανεπιστήμιο Κρήτης!\nΕλάτε μαζί μας σε μια ξεχωριστή Ημέρα Υποδοχής για Έλληνες και διεθνείς φοιτητές!\nΓνωρίστε καινούργιους ανθρώπους\, εξερευνήστε την πανεπιστημιούπολη και λάβετε όλες τις πληροφορίες που χρειάζεστε για ένα εξαιρετικό ξεκίνημα. \n📍 Τοποθεσία: \nΡέθυμνο\nΑμφιθέατρο Δ3\nΗράκλειο\nΑμφιθέατρο «ΝΙΚΟΣ ΠΕTΡΙΔΗΣ»\nΤμήμα Μαθηματικών & Εφαρμοσμένων\nΜαθηματικών \nΑνυπομονούμε να σας γνωρίσουμε όλους!
URL:https://www.uoc.gr/event/welcome-to-uoc-%ce%ba%ce%b1%ce%bb%cf%89%cf%83%cf%8c%cf%81%ce%b9%cf%83%ce%bc%ce%b1-%cf%80%cf%81%cf%89%cf%84%ce%bf%ce%b5%cf%84%cf%8e%ce%bd-%cf%86%ce%bf%ce%b9%cf%84%ce%b7%cf%84%cf%8e%ce%bd-%cf%84%cf%81/
CATEGORIES:Εκδηλώσεις
END:VEVENT
BEGIN:VEVENT
DTSTART;VALUE=DATE:20241017
DTEND;VALUE=DATE:20241026
DTSTAMP:20260420T074219
CREATED:20241017T064841Z
LAST-MODIFIED:20241017T064841Z
UID:10001336-1729123200-1729900799@www.uoc.gr
SUMMARY:Έκθεση Φωτογραφίας ΕΙΦΚΔ ΠΚ ''Oι Ζωές της Άλλης''
DESCRIPTION:Η έκθεση θα πραγματοποιηθεί από 19-25 Οκτωβρίου 2024\, στο πατάρι της Βικελαίας Βιβλιοθήκης με ελεύθερη είσοδο.\n\n\nΏρες λειτουργίας\, Δευτέρα & Τετάρτη 11.00-19.00\, Τρίτη\, Πέμπτη και Παρασκευή\, 08.30-14.30.\nΕπίσημα εγκαίνια\, παρουσία της φωτογράφου\, Σάββατο 19/10/2024\, ώρα 20.00\n\n\n  \nΔείτε τα συνημμένα αρχεία που βρίσκονται στις παρακάτω υπερ-συνδέσεις : \nhttps://news.uoc.gr/news/2024/16-10/Οι_ζωές_της_Άλλης.pdf \nhttps://news.uoc.gr/news/2024/16-10/poster_9_24-01-01-01.jpg \nhttps://www.eif.uoc.gr/index.php/el/ekdiloseis-drastiriotites-eif-hmenu/462-2024
URL:https://www.uoc.gr/event/%ce%ad%ce%ba%ce%b8%ce%b5%cf%83%ce%b7-%cf%86%cf%89%cf%84%ce%bf%ce%b3%cf%81%ce%b1%cf%86%ce%af%ce%b1%cf%82-%ce%b5%ce%b9%cf%86%ce%ba%ce%b4-%cf%80%ce%ba-o%ce%b9-%ce%b6%cf%89%ce%ad%cf%82-%cf%84%ce%b7-2/
CATEGORIES:Εκδηλώσεις
END:VEVENT
BEGIN:VEVENT
DTSTART;TZID=Europe/Athens:20241018T000000
DTEND;TZID=Europe/Athens:20241018T000000
DTSTAMP:20260420T074219
CREATED:20241015T090639Z
LAST-MODIFIED:20241015T090655Z
UID:10001323-1729209600-1729209600@www.uoc.gr
SUMMARY:ΣΕΜΙΝΑΡΙΟ ΠΡΩΤΩΝ ΒΟΗΘΕΙΩΝ
DESCRIPTION:
URL:https://www.uoc.gr/event/%cf%83%ce%b5%ce%bc%ce%b9%ce%bd%ce%b1%cf%81%ce%b9%ce%bf-%cf%80%cf%81%cf%89%cf%84%cf%89%ce%bd-%ce%b2%ce%bf%ce%b7%ce%b8%ce%b5%ce%b9%cf%89%ce%bd/
CATEGORIES:Εκδηλώσεις
END:VEVENT
BEGIN:VEVENT
DTSTART;VALUE=DATE:20241021
DTEND;VALUE=DATE:20241022
DTSTAMP:20260420T074219
CREATED:20241021T072405Z
LAST-MODIFIED:20241021T072416Z
UID:10001339-1729468800-1729555199@www.uoc.gr
SUMMARY:Κύκλος Ομιλιών "Το πανεπιστήμιο στην κοινωνία" | «Άγνωστες πτυχές της κρητικής ιστορίας στον 20ο αιώνα»
DESCRIPTION:«Άγνωστες πτυχές της κρητικής ιστορίας στον 20ο αιώνα» \nΗ πρώτη φετινή συνάντηση του κύκλου ομιλιών «Το Πανεπιστήμιο στην Κοινωνία» θα\nπραγματοποιηθεί τη Δευτέρα\, 21 Οκτωβρίου 2024\, ώρα 19:00\, στο Σπίτι του Πολιτισμού\, στο\nΡέθυμνο\, με θέμα «Άγνωστες πτυχές της κρητικής ιστορίας στον 20ο αιώνα»\nΟμιλητές:\nΝίκος Βαφέας Καθηγητής Τμήματος Πολιτικής Επιστήμης\, Κοσμήτορας Σχολής Κοινωνικών Επιστημών\nΠανεπιστημίου Κρήτης\nΓιάννης Σκαλιδάκης\, Μέλος ΕΔΙΠ Τμήματος Πολιτικής επιστήμης Πανεπιστημίου Κρήτης.\nΣυντονισμός-Σχολιασμός:\nΓιώργος Σαχίνης\, Δημοσιογράφος. \nΔείτε τα σχετικά αρχεία: \nΑφίσα \nΔελτίο Τύπου
URL:https://www.uoc.gr/event/%ce%ba%cf%8d%ce%ba%ce%bb%ce%bf%cf%82-%ce%bf%ce%bc%ce%b9%ce%bb%ce%b9%cf%8e%ce%bd-%cf%84%ce%bf-%cf%80%ce%b1%ce%bd%ce%b5%cf%80%ce%b9%cf%83%cf%84%ce%ae%ce%bc%ce%b9%ce%bf-%cf%83%cf%84%ce%b7%ce%bd-%ce%ba-3/
CATEGORIES:Εκδηλώσεις
END:VEVENT
BEGIN:VEVENT
DTSTART;VALUE=DATE:20241022
DTEND;VALUE=DATE:20241023
DTSTAMP:20260420T074219
CREATED:20241021T102343Z
LAST-MODIFIED:20241021T105609Z
UID:10001341-1729555200-1729641599@www.uoc.gr
SUMMARY:Ημερίδα του Μεταπτυχιακού Προγράμματος Σπουδών «Ιατροδικαστική Ανθρωπολογία και Απεικόνιση»
DESCRIPTION:Το Πανεπιστήμιο Κρήτης παρουσιάζει το νέο\, πρωτοποριακό Μεταπτυχιακό Πρόγραμμα με τίτλο: “Forensic Medicine\, Anthropology & Imaging”.\nΑν σας ενδιαφέρει\, ελάτε να μάθετε περισσότερα στην Ημερίδα μας την Τρίτη 22 Οκτωβρίου 2024 στις 19:00 στο Πολύκεντρο Νεολαίας στο κέντρο του Ηρακλείου.\nΟι παρευρισκόμενοι θα έχουν τη δυνατότητα να ενημερωθούν για το Πρόγραμμα μας μέσω μίας σειράς σύντομων παρουσιάσεων και να γνωρίσουν διδάσκοντες\, φοιτητές και επαγγελματίες στο πεδίο της Ιατροδικαστικής και της Δικαστικής Ανθρωπολογίας. Επιπλέον\, θα δείξουμε ένα μικρό “sneak peak” από το “μυστικό μας όπλο”: VR FORENSICS. \nΠΩΣ ΝΑ ΣΥΜΜΕΤΑΣΧΕΤΕ:\n• Δεν χρειάζεται εγγραφή για να παρακολουθήσετε δια ζώσης\, απλά περάστε και ελάτε μέσα.\n• Θα δοθεί η δυνατότητα συμμετοχής μέσω Zoom. Αν ενδιαφέρεστε\, συμπληρώστε την ακόλουθη φόρμα για να λάβετε το link παρακολούθησης την μέρα της εκδήλωσης. \nΦόρμα:\nhttps://forms.gle/V1xMT66ajcCtDVvq6\nΓια περισσότερες πληροφορίες για το Πρόγραμμα μας:\nhttps://mscs.uoc.gr/forensic-med/\nΑνυπομονούμε να σας γνωρίσουμε!\nThe FMAI Team
URL:https://www.uoc.gr/event/%ce%b7%ce%bc%ce%b5%cf%81%ce%af%ce%b4%ce%b1-%cf%84%ce%bf%cf%85-%ce%bc%ce%b5%cf%84%ce%b1%cf%80%cf%84%cf%85%cf%87%ce%b9%ce%b1%ce%ba%ce%bf%cf%8d-%cf%80%cf%81%ce%bf%ce%b3%cf%81%ce%ac%ce%bc%ce%bc%ce%b1/
CATEGORIES:Εκδηλώσεις
END:VEVENT
BEGIN:VEVENT
DTSTART;VALUE=DATE:20241023
DTEND;VALUE=DATE:20241024
DTSTAMP:20260420T074219
CREATED:20241021T071804Z
LAST-MODIFIED:20241021T071830Z
UID:10001338-1729641600-1729727999@www.uoc.gr
SUMMARY:Yποδοχή πρωτοετών φοιτητώ/τριών Τμήματος Ψυχολογίας ΠΚ
DESCRIPTION:Εκδήλωση υποδοχής και ενημέρωσης\nπρωτοετών φοιτητών ακαδημαϊκού έτους 2024-2025\nΤετάρτη 23/10/2024 και ώρα 11:30 π.µ. στο αµφιθέατρο Δ3 \nΠαρακαλούμε δείτε το σχετικό αρχείο: \nhttps://news.uoc.gr/news/2024/18-10/ΥΠΟΔΟΧΗ_ΠΡΟΤΩΕΤΩΝ_ΦΟΙΤΗΤΩΝ_ΤΡΙΩΝ_ΤΜΗΜΑΤΟΣ_ΨΥΧΟΛΟΓΙΑΣ_2024_25.pdf \n 
URL:https://www.uoc.gr/event/y%cf%80%ce%bf%ce%b4%ce%bf%cf%87%ce%ae-%cf%80%cf%81%cf%89%cf%84%ce%bf%ce%b5%cf%84%cf%8e%ce%bd-%cf%86%ce%bf%ce%b9%cf%84%ce%b7%cf%84%cf%8e-%cf%84%cf%81%ce%b9%cf%8e%ce%bd-%cf%84%ce%bc%ce%ae%ce%bc%ce%b1/
CATEGORIES:Εκδηλώσεις
END:VEVENT
BEGIN:VEVENT
DTSTART;VALUE=DATE:20241023
DTEND;VALUE=DATE:20241024
DTSTAMP:20260420T074219
CREATED:20241021T101151Z
LAST-MODIFIED:20241021T101159Z
UID:10001340-1729641600-1729727999@www.uoc.gr
SUMMARY:Webinar για πρωτοετείς (και όχι μόνο): ΟΙ ΠΡΩΤΕΣ ΣΟΥ ΕΠΑΓΓΕΛΜΑΤΙΚΕΣ ΚΙΝΗΣΕΙΣ
DESCRIPTION:Τετάρτη 23 Οκωβρίου 2024 και ώρα 13:00 μέσω zoom. \nΚατευθύνσεις και στρατηγικές σταδιοδρομίας για νέους (και όχι μόνο) φοιτητές από τη Δομή Διασύνδεσης και Σταδιοδρομίας του Πανεπιστημίου Κρήτης: \nhttps://career.uoc.gr/events/webinar-gia-protoeteis-kai-ochi-mono-oi-protes-sou-epangelmatikes-kiniseis/ \n 
URL:https://www.uoc.gr/event/webinar-%ce%b3%ce%b9%ce%b1-%cf%80%cf%81%cf%89%cf%84%ce%bf%ce%b5%cf%84%ce%b5%ce%af%cf%82-%ce%ba%ce%b1%ce%b9-%cf%8c%cf%87%ce%b9-%ce%bc%cf%8c%ce%bd%ce%bf-%ce%bf%ce%b9-%cf%80%cf%81%cf%89%cf%84%ce%b5/
CATEGORIES:Εκδηλώσεις
END:VEVENT
BEGIN:VEVENT
DTSTART;VALUE=DATE:20241023
DTEND;VALUE=DATE:20241024
DTSTAMP:20260420T074219
CREATED:20241023T101410Z
LAST-MODIFIED:20241023T101603Z
UID:10001344-1729641600-1729727999@www.uoc.gr
SUMMARY:Προβολή ντοκιμαντέρ Ladies in Waiting\, 2023\, και συζήτηση με την σκηνοθέτιδα\, Ιωάννα Τσουκαλά
DESCRIPTION:Το Τμήμα Ψυχολογίας\, η Επιτροπή Ισότητας Φύλων και Καταπολέμησης των Διακρίσεων του Πανεπιστημίου Κρήτης\, και ο Σύλλογος Οικογενειών και Φίλων για την Ψυχική Υγεία (Σ.Ο.Φ.Ψ.Υ) Ρεθύμνου\, με αφορμή την Παγκόσμια Ημέρα για την Ψυχική υγεία\, διοργανώνουν εκδήλωση προβολής του ντοκιμαντέρ Ladies in Waiting\, 2023\, και συζήτησης παρουσίας της σκηνοθέτιδας κ. Ιωάννας Τσουκαλά. \nΗ εκδήλωση θα λάβει χώρα την Τετάρτη 30 Οκτωβρίου\, στο Φοιτητικό Κέντρο Ξενία\, Ρέθυμνο\, Ψαρρού 46\, στις 20:30. Θα προλογίσει ο Στέφανος Μαστροθεόδωρος\, Επίκουρος Καθηγητής Τμήματος Ψυχολογίας Πανεπιστήμιου Κρήτης. Μετά την προβολή θα ακολουθήσει κριτική παρέμβαση από τον Αντώνη Λιοδάκη\, πρώην Διευθυντή του Κέντρου Ψυχικής Υγείας Ρεθύμνου\, και συζήτηση με την σκηνοθέτιδα. \nΚαθώς η εποχή των ψυχιατρικών ασύλων στην Ευρώπη και στην Ελλάδα έχει φτάσει στο τέλος της\, το ντοκιμαντέρ Ladies in Waiting ανοίγει ένα παράθυρο στο παρελθόν τους. Ο φακός της Τσουκαλά εστιάζει στα όρια\, τις εμπειρίες ζωής και τις κοινωνικές διακρίσεις. Μέσα από το μοναδικό πρίσμα των νοσηλευτριών του Ψυχιατρικού Νοσοκομείου Αττικής και τις ζωές των περιθαλπομένων\, το Ladies in Waiting ρίχνει φως στον αθέατο κόσμο της ψυχικής ασθένειας. Αποκαλύπτει μια πλευρά της που περιέχει εναλλακτικές\, χιούμορ\, και φαντασία. \nΡέθυμνο\, 22-10-2024 \nΤμήμα Ψυχολογίας Πανεπιστημίου Κρήτης \nΕπιτροπή Ισότητας Φύλων και Καταπολέμησης των Διακρίσεων Πανεπιστημίου Κρήτης \nΣύλλογος Οικογενειών και Φίλων για την Ψυχική Υγεία (Σ.Ο.Φ.Ψ.Υ) Ρεθύμνου
URL:https://www.uoc.gr/event/%cf%80%cf%81%ce%bf%ce%b2%ce%bf%ce%bb%ce%ae-%ce%bd%cf%84%ce%bf%ce%ba%ce%b9%ce%bc%ce%b1%ce%bd%cf%84%ce%ad%cf%81-ladies-in-waiting-2023-%ce%ba%ce%b1%ce%b9-%cf%83%cf%85%ce%b6%ce%ae%cf%84%ce%b7%cf%83/
CATEGORIES:Εκδηλώσεις
END:VEVENT
BEGIN:VEVENT
DTSTART;VALUE=DATE:20241024
DTEND;VALUE=DATE:20241025
DTSTAMP:20260420T074219
CREATED:20241021T103122Z
LAST-MODIFIED:20241021T103226Z
UID:10001342-1729728000-1729814399@www.uoc.gr
SUMMARY:Σεμινάριο με τίτλο: "Πηγές Πληροφόρησης και Αναζήτηση Βιβλιογραφίας"
DESCRIPTION:Το Κέντρο Γραφής σε συνεργασία με την Πανεπιστημιακή Βιβλιοθήκη (Ρέθυμνο) σας προσκαλούν να παρακολουθήσετε το σεμινάριο με τίτλο: \n“Πηγές Πληροφόρησης και Αναζήτηση Βιβλιογραφίας” \nΤο σεμινάριο θα πραγματοποιηθεί την Πέμπτη\, 24 Οκτωβρίου (12:00 -14:00)\, διαδικτυακά μέσω Microsoft Teams. \nΣτόχος του σεμιναρίου είναι να σας εξοπλίσει με τα απαραίτητα εργαλεία για την αναζήτηση και αξιοποίηση έγκυρων πηγών πληροφόρησης\, χρήσιμων τόσο για τις ακαδημαϊκές σας εργασίες όσο και για την ερευνητική σας δραστηριότητα. \nΓια τη συμμετοχή σας\, παρακαλείσθε να δηλώσετε το email σας στον παρακάτω σύνδεσμο\, ώστε να σας αποσταλεί ο σύνδεσμος για την είσοδό σας στο σεμινάριο: \nhttps://forms.gle/sp9FP2R1uxTpEXpy6 \nΣας περιμένουμε!
URL:https://www.uoc.gr/event/%cf%83%ce%b5%ce%bc%ce%b9%ce%bd%ce%ac%cf%81%ce%b9%ce%bf-%ce%bc%ce%b5-%cf%84%ce%af%cf%84%ce%bb%ce%bf-%cf%80%ce%b7%ce%b3%ce%ad%cf%82-%cf%80%ce%bb%ce%b7%cf%81%ce%bf%cf%86%cf%8c%cf%81%ce%b7%cf%83%ce%b7/
CATEGORIES:Εκδηλώσεις
END:VEVENT
BEGIN:VEVENT
DTSTART;VALUE=DATE:20241030
DTEND;VALUE=DATE:20241031
DTSTAMP:20260420T074219
CREATED:20241023T112108Z
LAST-MODIFIED:20241023T112118Z
UID:10001346-1730246400-1730332799@www.uoc.gr
SUMMARY:Tελετή απονομής του τίτλου του Ομοτίμου Καθηγητή στον Κωνσταντίνο Τζανάκη Καθηγητή του Τμήματος ΠΤΔΕ
DESCRIPTION:Την Τετάρτη 30 Οκτωβρίου 2024 και ώρα 12.00 στην αίθουσα Συνεδριάσεων του Τμήματος (κτήριο Γ3\, 1ος όροφος) θα πραγματοποιηθεί η τελετή απονομής του τίτλου του Ομοτίμου Καθηγητή στον Κωνσταντίνο Τζανάκη Καθηγητή του Παιδαγωγικού Τμήματος Δημοτικής Εκπαίδευσης.
URL:https://www.uoc.gr/event/t%ce%b5%ce%bb%ce%b5%cf%84%ce%ae-%ce%b1%cf%80%ce%bf%ce%bd%ce%bf%ce%bc%ce%ae%cf%82-%cf%84%ce%bf%cf%85-%cf%84%ce%af%cf%84%ce%bb%ce%bf%cf%85-%cf%84%ce%bf%cf%85-%ce%bf%ce%bc%ce%bf%cf%84%ce%af%ce%bc%ce%bf/
CATEGORIES:Εκδηλώσεις
END:VEVENT
END:VCALENDAR