BEGIN:VCALENDAR
VERSION:2.0
PRODID:-//Πανεπιστήμιο Κρήτης - ECPv6.15.10//NONSGML v1.0//EN
CALSCALE:GREGORIAN
METHOD:PUBLISH
X-WR-CALNAME:Πανεπιστήμιο Κρήτης
X-ORIGINAL-URL:https://www.uoc.gr/
X-WR-CALDESC:Events for Πανεπιστήμιο Κρήτης
REFRESH-INTERVAL;VALUE=DURATION:PT1H
X-Robots-Tag:noindex
X-PUBLISHED-TTL:PT1H
BEGIN:VTIMEZONE
TZID:Europe/Athens
BEGIN:DAYLIGHT
TZOFFSETFROM:+0200
TZOFFSETTO:+0300
TZNAME:EEST
DTSTART:20230326T010000
END:DAYLIGHT
BEGIN:STANDARD
TZOFFSETFROM:+0300
TZOFFSETTO:+0200
TZNAME:EET
DTSTART:20231029T010000
END:STANDARD
BEGIN:DAYLIGHT
TZOFFSETFROM:+0200
TZOFFSETTO:+0300
TZNAME:EEST
DTSTART:20240331T010000
END:DAYLIGHT
BEGIN:STANDARD
TZOFFSETFROM:+0300
TZOFFSETTO:+0200
TZNAME:EET
DTSTART:20241027T010000
END:STANDARD
BEGIN:DAYLIGHT
TZOFFSETFROM:+0200
TZOFFSETTO:+0300
TZNAME:EEST
DTSTART:20250330T010000
END:DAYLIGHT
BEGIN:STANDARD
TZOFFSETFROM:+0300
TZOFFSETTO:+0200
TZNAME:EET
DTSTART:20251026T010000
END:STANDARD
END:VTIMEZONE
BEGIN:VEVENT
DTSTART;VALUE=DATE:20241101
DTEND;VALUE=DATE:20241102
DTSTAMP:20260419T211023
CREATED:20241029T092542Z
LAST-MODIFIED:20241029T092542Z
UID:10001351-1730419200-1730505599@www.uoc.gr
SUMMARY:Δια ζώσης σεμινάρια: “Μεταπτυχιακό – Αξίζει η επένδυση;”
DESCRIPTION:Η Δομή Διασύνδεσης και Σταδιοδρομίας διοργανώνει δια ζώσης σεμινάρια με θέμα: \n“Μεταπτυχιακό – Αξίζει η επένδυση;” \nΓια τους φοιτητές όλων των τμημάτων\, στο Ρέθυμνο και το Ηράκλειο. \nΤα σεμινάρια θα πραγματοποιηθούν δια ζώσης  Παρασκευή 01/11/2024: \nΡέθυμνο\n 15:00 – 16:30μμ\n Φιλοσοφική\,  Αμφ. Α \nΗράκλειο\n 13:00 -14:30 μμ\nΚτίριο Μαθηματικών Αμφ. 203 \nΣτα σεμινάρια αυτά θα ασχοληθούμε με τα παρακάτω ερωτήματα: \n Να κάνω μεταπτυχιακό; Γιατί; Με ποιά κριτήρια επιλέγω;\n Πως να προετοιμαστώ για τις Αιτήσεις\n Δίλημμα: Ελλάδα ή Εξωτερικό \n Εγγραφή : https://forms.gle/bGVoF9CidqLPeaq67
URL:https://www.uoc.gr/event/%ce%b4%ce%b9%ce%b1-%ce%b6%cf%8e%cf%83%ce%b7%cf%82-%cf%83%ce%b5%ce%bc%ce%b9%ce%bd%ce%ac%cf%81%ce%b9%ce%b1-%ce%bc%ce%b5%cf%84%ce%b1%cf%80%cf%84%cf%85%cf%87%ce%b9%ce%b1%ce%ba%cf%8c/
CATEGORIES:Εκδηλώσεις
END:VEVENT
BEGIN:VEVENT
DTSTART;TZID=Europe/Athens:20241101T040000
DTEND;TZID=Europe/Athens:20241102T200000
DTSTAMP:20260419T211023
CREATED:20241029T092311Z
LAST-MODIFIED:20241029T092317Z
UID:10001350-1730433600-1730577600@www.uoc.gr
SUMMARY:Επιστημονικό Συνέδριο προς τιμήν του Ομότιμου Καθηγητή Μιχαήλ Πασχάλη
DESCRIPTION:Το Τμήμα Φιλολογίας του Πανεπιστημίου Κρήτης\, σε συνεργασία με την Περιφέρεια Κρήτης\, διοργανώνει διήμερο επιστημονικό συνέδριο προς τιμήν του Ομότιμου Καθηγητή Κλασικής Φιλολογίας Μιχαήλ Πασχάλη. \nΕμπνευσμένο από το επιστημονικό έργο του τιμώμενου\, το συνέδριο εστιάζει σε ζητήματα πρόσληψης της αρχαίας ελληνικής και λατινικής γραμματείας από την αρχαιότητα μέχρι το Βυζάντιο και τη σύγχρονη ελληνική και ευρωπαϊκή λογοτεχνία. \nΤο συνέδριο\, στο οποίο συμμετέχουν διακεκριμένα μέλη της ακαδημαϊκής κοινότητας από τους χώρους της Κλασικής και Νεοελληνικής Φιλολογίας\, θα πραγματοποιηθεί την Παρασκευή 1 Νοεμβρίου (16.00-20.00) και το Σάββατο 2 Νοεμβρίου (09.30-14.00 και 16.30-20.00) στο Ρέθυμνο\, στο Φοιτητικό Πολιτιστικό Κέντρο «Ξενία (Νικ. Ψαρού 46). \nΤο πρόγραμμα του συνεδρίου και άλλες πληροφορίες υπάρχουν στη διεύθυνση: https://www.philology.uoc.gr/nea/synedrio-pros-timhn-toy-omotimoy-kaohghth-mixahl-pasxalh
URL:https://www.uoc.gr/event/%ce%b5%cf%80%ce%b9%cf%83%cf%84%ce%b7%ce%bc%ce%bf%ce%bd%ce%b9%ce%ba%cf%8c-%cf%83%cf%85%ce%bd%ce%ad%ce%b4%cf%81%ce%b9%ce%bf-%cf%80%cf%81%ce%bf%cf%82-%cf%84%ce%b9%ce%bc%ce%ae%ce%bd-%cf%84%ce%bf%cf%85/
CATEGORIES:Εκδηλώσεις
END:VEVENT
BEGIN:VEVENT
DTSTART;VALUE=DATE:20241107
DTEND;VALUE=DATE:20241108
DTSTAMP:20260419T211023
CREATED:20241101T094415Z
LAST-MODIFIED:20241101T094429Z
UID:10001352-1730937600-1731023999@www.uoc.gr
SUMMARY:ΑΝΟΙΧΤΕΣ ΔΙΑΛΕΞΕΙΣ - ΤΜΗΜΑ ΠΟΛΙΤΙΚΗΣ ΕΠΙΣΤΗΜΗΣ & ΚΕΠΕΤ | Strengthening Democratic Governance for better public policies & services
DESCRIPTION:Strengthening Democratic Governance for better public policies & services \nDimitris Argyriades\, Professor Emeritus \nCity University of New York \nUN Special Adviser \nΣυντονισμός: Καθηγητής Νίκος Παπαδάκης \nΣυζήτηση: Δρ. Γεωργία Δημάρη \n \nΠέμπτη 7/11/2024\, 11:30 \nΑίθουσα ΠΕ3
URL:https://www.uoc.gr/event/%ce%b1%ce%bd%ce%bf%ce%b9%cf%87%cf%84%ce%b5%cf%83-%ce%b4%ce%b9%ce%b1%ce%bb%ce%b5%ce%be%ce%b5%ce%b9%cf%83-%cf%84%ce%bc%ce%b7%ce%bc%ce%b1-%cf%80%ce%bf%ce%bb%ce%b9%cf%84%ce%b9%ce%ba%ce%b7%cf%83-%ce%b5/
CATEGORIES:Εκδηλώσεις
END:VEVENT
BEGIN:VEVENT
DTSTART;TZID=Europe/Athens:20241108T190000
DTEND;TZID=Europe/Athens:20241108T190000
DTSTAMP:20260419T211023
CREATED:20241023T102331Z
LAST-MODIFIED:20241023T102556Z
UID:10001345-1731092400-1731092400@www.uoc.gr
SUMMARY:Αναγόρευση της Α.Ε. της Προέδρου της Δηµοκρατίας Κατερίνας Σακελλαροπούλου σε Επίτιμη Διδάκτορα του Τμήματος Φιλοσοφίας της Φιλοσοφικής Σχολής του Πανεπιστημίου Κρήτης
DESCRIPTION:Η Α.Ε. Πρόεδρος της Δημοκρατίας Κατερίνα Σακελλαροπούλου θα αναγορευτεί Επίτιμη Διδάκτορας του Τμήματος Φιλοσοφίας της Φιλοσοφικής Σχολής του Πανεπιστημίου Κρήτης. \nΗ τελετή Αναγόρευσης θα πραγματοποιηθεί  την Παρασκευή 8 Νοεμβρίου 2024 και ώρα 19:00 στο «Ελληνικό Ωδείο» στην πόλη του Ρεθύμνου (Εμμανουήλ Βερνάδου 1). \nΤο πρόγραμμα της τελετής έχει ως εξής: \n\nΠροσφώνηση από τον Πρύτανη του Πανεπιστημίου Κρήτης Καθηγητή Γεώργιο Μ. Κοντάκη\nΠαρουσίαση του έργου και της προσωπικότητας της τιμώμενης από την Καθηγήτρια του Τμήματος Φιλοσοφίας της Φιλοσοφικής Σχολής του Πανεπιστημίου Κρήτης κα Σταυρούλα Τσινόρεμα\nΑνάγνωση των κειμένων του Ψηφίσματος του Τμήματος\, της Αναγόρευσης και του Διδακτορικού Διπλώματος από την Κοσμήτορα της Φιλοσοφικής Σχολής του Πανεπιστημίου Κρήτης Καθηγήτρια Αγγέλα Καστρινάκη\n\n\nΠεριένδυση της τιμώμενης με την τήβεννο και το επιτηβέννιο της Σχολής από τον Πρύτανη του Πανεπιστηµίου Κρήτης Καθηγητή Γεώργιο Μ. Κοντάκη\n\n\nΕπίδοση των τίτλων και του μεταλλίου στην Α.Ε. την Πρόεδρο της Δημοκρατίας Κατερίνα Σακελλαροπούλου από τον Πρύτανη του Πανεπιστημίου Κρήτης Καθηγητή Γεώργιο Μ. Κοντάκη\n\n\nΟμιλία της Α.Ε. της Προέδρου της Δημοκρατίας Κατερίνας Σακελλαροπούλου\n\nΔείτε τα σχετικά αρχεία: \nΠρόσκληση\nΔελτίο Τύπου 
URL:https://www.uoc.gr/event/%ce%b1%ce%bd%ce%b1%ce%b3%cf%8c%cf%81%ce%b5%cf%85%cf%83%ce%b7-%cf%84%ce%b7%cf%82-%ce%b1-%ce%b5-%cf%84%ce%b7%cf%82-%cf%80%cf%81%ce%bf%ce%ad%ce%b4%cf%81%ce%bf%cf%85-%cf%84%ce%b7%cf%82-%ce%b4%ce%b7%c2%b5/
CATEGORIES:Εκδηλώσεις
END:VEVENT
BEGIN:VEVENT
DTSTART;VALUE=DATE:20241114
DTEND;VALUE=DATE:20241115
DTSTAMP:20260419T211023
CREATED:20241101T095510Z
LAST-MODIFIED:20241101T095521Z
UID:10001353-1731542400-1731628799@www.uoc.gr
SUMMARY:ΗΜΕΡΙΔΑ: «Το Παιδαγωγικό Τμήμα Δημοτικής Εκπαίδευσης\,του Πανεπιστημίου Κρήτης χτίζει γέφυρες συνεργασίας με τα ελληνικά μειονοτικά σχολεία της Ίμβρου» 14 Νοεμβρίου 2024
DESCRIPTION:Ο Πρύτανης του Πανεπιστημίου Κρήτης\, Καθηγητής Γεώργιος Κοντάκης\nκαι\nο Κοσμήτορας της Σχολής Επιστημών Αγωγής\, Καθηγητής Ανδρέας Φουντουλάκης\nέχουν την τιμή να σας προσκαλέσουν στην ημερίδα «Το Παιδαγωγικό Τμήμα Δημοτικής Εκπαίδευσης\nτου Πανεπιστημίου Κρήτης χτίζει γέφυρες συνεργασίας με τα ελληνικά μειονοτικά σχολεία της Ίμβρου» \nΗ τελετή θα πραγματοποιηθεί την Πέμπτη 14 Νοεμβρίου 2024 και ώρα 12.00 στο αμφιθέατρο Δ7\nστην Πανεπιστημιούπολη Ρεθύμνου. \nΠρόσκληση\nΔελτίο Τύπου \nΕπίσκεψη Μαθητών
URL:https://www.uoc.gr/event/%ce%b7%ce%bc%ce%b5%cf%81%ce%b9%ce%b4%ce%b1-%cf%84%ce%bf-%cf%80%ce%b1%ce%b9%ce%b4%ce%b1%ce%b3%cf%89%ce%b3%ce%b9%ce%ba%cf%8c-%cf%84%ce%bc%ce%ae%ce%bc%ce%b1-%ce%b4%ce%b7%ce%bc%ce%bf%cf%84%ce%b9/
CATEGORIES:Εκδηλώσεις
END:VEVENT
BEGIN:VEVENT
DTSTART;VALUE=DATE:20241114
DTEND;VALUE=DATE:20241115
DTSTAMP:20260419T211023
CREATED:20241106T115220Z
LAST-MODIFIED:20241106T115220Z
UID:10001354-1731542400-1731628799@www.uoc.gr
SUMMARY:Ψυχο-εκπαιδευτικό σεμινάριο: «Αναβλητικότητα: Ξεφεύγοντας από τον φαύλο κύκλο της αδράνειας»
DESCRIPTION:Το Κέντρο Ψυχολογικής και Συμβουλευτικής Υποστήριξης (πρώην Συμβουλευτικό Κέντρο Φοιτητών) διοργανώνει ψυχο-εκπαιδευτικό σεμινάριο με θέμα \n«Αναβλητικότητα: Ξεφεύγοντας από τον φαύλο κύκλο της αδράνειας» \n\nΤο σεμινάριο απευθύνεται σε όλους/όλες τους φοιτητές/-τριες του Πανεπιστημίου Κρήτης. \n\nΗμερομηνία διεξαγωγής: Πέμπτη 14/11/2024 και ώρα 10:30-12:00 \nΧώρος διεξαγωγής: Κέντρο Συμβουλευτικής & Ψυχολογικής Υποστήριξης (πρώην Συμβουλευτικό Κέντρο Φοιτητών) – Ηράκλειο \nΣυντονίστριες: Κυρικλάκη Α.\, Παπαδάκη Δ. \nΥποβολή αιτήσεων έως την Τετάρτη 13/11/2024 στο email: d.papadaki@uoc.gr
URL:https://www.uoc.gr/event/%cf%88%cf%85%cf%87%ce%bf-%ce%b5%ce%ba%cf%80%ce%b1%ce%b9%ce%b4%ce%b5%cf%85%cf%84%ce%b9%ce%ba%cf%8c-%cf%83%ce%b5%ce%bc%ce%b9%ce%bd%ce%ac%cf%81%ce%b9%ce%bf-%ce%b1%ce%bd%ce%b1%ce%b2%ce%bb%ce%b7/
CATEGORIES:Εκδηλώσεις
END:VEVENT
BEGIN:VEVENT
DTSTART;TZID=Europe/Athens:20241123T070000
DTEND;TZID=Europe/Athens:20241123T170000
DTSTAMP:20260419T211023
CREATED:20241119T090034Z
LAST-MODIFIED:20241119T090034Z
UID:10001373-1732345200-1732381200@www.uoc.gr
SUMMARY:Σπουδαστήριο Θεωρητικών Μαθηματικών | Πρόσκληση σε Εσπερίδα
DESCRIPTION:Το Σπουδαστήριο Θεωρητικών Μαθηματικών (ΣΘΜ) του Τμήματος Μαθηματικών και Εφαρμοσμένων Μαθηματικών του Πανεπιστημίου Κρήτης σας προσκαλεί το Σάββατο 23 Νοεμβρίου και ώρα 19.00 στο Πολύκεντρο Νεολαίας του Δήμου Ηρακλείου στην οδό  Ανδρόγεω στην εσπερίδα με θέμα:\n\n \n\nMαθηματικά   και   Mουσική \n\n \n\nΣυζητούν οι\n\n \n\nΤεύκρος  Mιχαηλίδης        –         Μύρων Mιχαηλίδης\n\n \n\nΜαθηματικός Συγγραφέας        –                  Αρχιμουσικός\n\n \n\nΚαλλιτεχνικός  Διευθυντής ΠΣΚΗ\n\n \n\nΣυντονίζει ο Ανδρέας Βαρβεράκης\, Πρόεδρος του Παραρτήματος Ηρακλείου της Ε.Μ.Ε.. Θα προηγηθεί σύντομη παρουσίαση των δραστηριοτήτων του ΣΘΜ. Η εσπερίδα οργανώνεται στα πλαίσια έργου χρηματοδοτούμενου από το Περιφερειακό Πρόγραμμα Ανάπτυξης (ΠΠΑ) Περιφέρειας Κρήτης 2021-2025. Η εκδήλωση πραγματοποιείται με την υποστήριξη του Δήμου Ηρακλείου και της ΔΕΠΑΝΑΛ.
URL:https://www.uoc.gr/event/%cf%83%cf%80%ce%bf%cf%85%ce%b4%ce%b1%cf%83%cf%84%ce%ae%cf%81%ce%b9%ce%bf-%ce%b8%ce%b5%cf%89%cf%81%ce%b7%cf%84%ce%b9%ce%ba%cf%8e%ce%bd-%ce%bc%ce%b1%ce%b8%ce%b7%ce%bc%ce%b1%cf%84%ce%b9%ce%ba%cf%8e%ce%bd/
CATEGORIES:Εκδηλώσεις
END:VEVENT
BEGIN:VEVENT
DTSTART;VALUE=DATE:20241127
DTEND;VALUE=DATE:20241128
DTSTAMP:20260419T211023
CREATED:20241118T083220Z
LAST-MODIFIED:20241118T083220Z
UID:10001370-1732665600-1732751999@www.uoc.gr
SUMMARY:Πρόσκληση Τελετής Ορκωμοσίας Τμήματος Επιστήμης και Μηχανικής Υλικών
DESCRIPTION:Ο Πρόεδρος του Τμήματος Επιστήμης και Μηχανικής Υλικών\nΑναπληρωτής Καθηγητής Δημήτριος Παπάζογλου σας προσκαλεί\nστην τελετή αποφοίτησης την Τετάρτη\, 27 Νοεμβρίου 2024\nκαι ώρα 11:00 στο αμφιθέατρο «Πετρίδη» Κτήριο Τμήματος Μαθηματικών και\nΕφαρμοσμένων Μαθηματικών. \nΠαρακαλούμε δείτε το σχετικό αρχείο: \nhttps://news.uoc.gr/news/2024/15-11/Πρόσκληση_Τελετής_Αποφοίτησης.pdf
URL:https://www.uoc.gr/event/%cf%80%cf%81%cf%8c%cf%83%ce%ba%ce%bb%ce%b7%cf%83%ce%b7-%cf%84%ce%b5%ce%bb%ce%b5%cf%84%ce%ae%cf%82-%ce%bf%cf%81%ce%ba%cf%89%ce%bc%ce%bf%cf%83%ce%af%ce%b1%cf%82-%cf%84%ce%bc%ce%ae%ce%bc%ce%b1%cf%84-3/
CATEGORIES:Εκδηλώσεις
END:VEVENT
END:VCALENDAR