BEGIN:VCALENDAR
VERSION:2.0
PRODID:-//Πανεπιστήμιο Κρήτης - ECPv6.15.10//NONSGML v1.0//EN
CALSCALE:GREGORIAN
METHOD:PUBLISH
X-ORIGINAL-URL:https://www.uoc.gr/
X-WR-CALDESC:Events for Πανεπιστήμιο Κρήτης
REFRESH-INTERVAL;VALUE=DURATION:PT1H
X-Robots-Tag:noindex
X-PUBLISHED-TTL:PT1H
BEGIN:VTIMEZONE
TZID:Europe/Athens
BEGIN:DAYLIGHT
TZOFFSETFROM:+0200
TZOFFSETTO:+0300
TZNAME:EEST
DTSTART:20220327T010000
END:DAYLIGHT
BEGIN:STANDARD
TZOFFSETFROM:+0300
TZOFFSETTO:+0200
TZNAME:EET
DTSTART:20221030T010000
END:STANDARD
BEGIN:DAYLIGHT
TZOFFSETFROM:+0200
TZOFFSETTO:+0300
TZNAME:EEST
DTSTART:20230326T010000
END:DAYLIGHT
BEGIN:STANDARD
TZOFFSETFROM:+0300
TZOFFSETTO:+0200
TZNAME:EET
DTSTART:20231029T010000
END:STANDARD
BEGIN:DAYLIGHT
TZOFFSETFROM:+0200
TZOFFSETTO:+0300
TZNAME:EEST
DTSTART:20240331T010000
END:DAYLIGHT
BEGIN:STANDARD
TZOFFSETFROM:+0300
TZOFFSETTO:+0200
TZNAME:EET
DTSTART:20241027T010000
END:STANDARD
END:VTIMEZONE
BEGIN:VEVENT
DTSTART;TZID=Europe/Athens:20230403T000000
DTEND;TZID=Europe/Athens:20230403T000000
DTSTAMP:20260423T015505
CREATED:20240912T123137Z
LAST-MODIFIED:20240912T123137Z
UID:10000469-1680480000-1680480000@www.uoc.gr
SUMMARY:Το Πανεπιστήμιο στην Κοινωνία | «Κοινωνία και κλιματική κρίση»
DESCRIPTION:Η 10η Συνάντηση του κύκλου ομιλιών «Το Πανεπιστήμιο στην Κοινωνία» θα πραγματοποιηθεί τη Δευτέρα 3 Απριλίου 2023\, ώρα 18:30\, στο Σπίτι του Πολιτισμού.  \n  \nΘέμα: «Κοινωνία και κλιματική κρίση»  \n  \nΟμιλητές: \nΕμμανουήλ Πλειώνης\, Καθηγητής στο Τμήμα Φυσικής του Α.Π.Θ.\, Διευθυντής και Πρόεδρος Δ.Σ. του Εθνικού Αστεροσκοπείου Αθηνών  \nΝικόλαος Δεμερτζής\, Καθηγητής Πολιτικής Κοινωνιολογίας και Επικοινωνίας στο Εθνικό & Καποδιστριακό Πανεπιστήμιο Αθηνών.  \n  \nΣυντονισμός – Σχολιασμός: \nΗλίας Γεωργαντάς\, Αναπληρωτής Καθηγητής και Πρόεδρος του Τμήματος Πολιτικής Επιστήμης Πανεπιστημίου Κρήτης. 
URL:https://www.uoc.gr/event/%cf%84%ce%bf-%cf%80%ce%b1%ce%bd%ce%b5%cf%80%ce%b9%cf%83%cf%84%ce%ae%ce%bc%ce%b9%ce%bf-%cf%83%cf%84%ce%b7%ce%bd-%ce%ba%ce%bf%ce%b9%ce%bd%cf%89%ce%bd%ce%af%ce%b1-%ce%ba%ce%bf%ce%b9%ce%bd%cf%89/
END:VEVENT
BEGIN:VEVENT
DTSTART;TZID=Europe/Athens:20230403T000000
DTEND;TZID=Europe/Athens:20230403T000000
DTSTAMP:20260423T015505
CREATED:20240912T123140Z
LAST-MODIFIED:20240912T123140Z
UID:10000473-1680480000-1680480000@www.uoc.gr
SUMMARY:"Λογοτεχνία και Οικολογία: Από την επιστήμη στο κίνημα και στη μυθοπλασία"
DESCRIPTION:ΠΑΝΕΠΙΣΤΗΜΙΟ ΚΡΗΤΗΣΤΜΗΜΑ ΦΙΛΟΛΟΓΙΑΣ \nΔιάλεξη \nΜιχάλης Μοδινός \n“Λογοτεχνία και Οικολογία:Από την επιστήμη στο κίνημα και στη μυθοπλασία” \nΔευτέρα 3 Απριλίου 2023\, 17:30 \nΑίθουσα Συνεδριάσεων Τμήματος Φιλολογίας \nΗ διάλεξη είναι ανοικτή σε κάθε ενδιαφερόμενο/-ηκαι προσφέρεται στο πλαίσιο του μεταπτυχιακού μαθήματος“Οι ιδεολογικές λειτουργίες της φύσης στη νεοελληνική λογοτεχνία”της κυρίας Νάτσινα
URL:https://www.uoc.gr/event/%ce%bb%ce%bf%ce%b3%ce%bf%cf%84%ce%b5%cf%87%ce%bd%ce%af%ce%b1-%ce%ba%ce%b1%ce%b9-%ce%bf%ce%b9%ce%ba%ce%bf%ce%bb%ce%bf%ce%b3%ce%af%ce%b1-%ce%b1%cf%80%cf%8c-%cf%84%ce%b7%ce%bd-%ce%b5%cf%80%ce%b9%cf%83/
END:VEVENT
BEGIN:VEVENT
DTSTART;TZID=Europe/Athens:20230403T000000
DTEND;TZID=Europe/Athens:20230407T000000
DTSTAMP:20260423T015505
CREATED:20240912T123140Z
LAST-MODIFIED:20240912T123140Z
UID:10000472-1680480000-1680825600@www.uoc.gr
SUMMARY:Masterclass on "Skills for Small Firm Development"
DESCRIPTION:Το Γραφείο Μεταφοράς Τεχνογνωσίας (ΓΜΤ)\, σε συνεργασία με το Μεταπτυχιακό του ΓΜΤ στην καινοτομία και την επιχειρηματικότητα ΤΙΜΕ-ΜΒΕ\, διοργανώνουν διαδικτυακό Masterclass με τίτλο “Skills for Small Firm Development”. \nΕισηγητής είναι ο Καθηγητής Christos Kolympiris\, Associate Professor in Innovation and Entrepreneurship\, Warwick Business School (WBS). \nΤο σεμινάριο θα διεξαχθεί το διάστημα 03 – 07 Απριλίου 2023 και ώρα 17:30 – 20:30 και απευθύνεται σε διδακτορικούς φοιτητές\, ερευνητικό και ακαδημαϊκό προσωπικό του Πανεπιστημίου Κρήτης.  \nΔηλώστε τη συμμετοχή σας στέλνοντας mail στο kto@uoc.gr αναφέροντας τα στοιχεία σας. \nΠεριγραφή: The course will present an overview of entrepreneurship and how emerging innovative firms develop over time. For every growth stage we will outline the entrepreneurial challenges\, the decision making process and the options available for such decision making. Increased attention will be paid to the commercialization process from idea generation to viable product and financial returns. Along the same lines\, the course has a strong entrepreneurial finance component where we will be exploring in depth the sources of finance for entrepreneurial firms along their growth trajectory. The course offers good management practice for students and encourages and develops small business development skills.
URL:https://www.uoc.gr/event/masterclass-on-skills-for-small-firm-development/
END:VEVENT
BEGIN:VEVENT
DTSTART;TZID=Europe/Athens:20230404T000000
DTEND;TZID=Europe/Athens:20230404T000000
DTSTAMP:20260423T015505
CREATED:20240912T123136Z
LAST-MODIFIED:20240912T123136Z
UID:10000468-1680566400-1680566400@www.uoc.gr
SUMMARY:Ο θεσμός της δικαιοσύνης στην εποχή των κρίσεων | Ζητήματα ποινικής αντιμετώπισης και σωφρονισμού των ανηλίκων
DESCRIPTION:Η δεύτερη συνάντηση του\nκύκλου με τίτλο: «Ζητήματα ποινικής\nαντιμετώπισης και σωφρονισμού των ανηλίκων» θα διεξαχθεί την Τρίτη\, 4 Απριλίου 2023\, στις 19:00. Εισηγήτρια θα είναι η Ξένη Δημητρίου\, δικαστική λειτουργός\, πρ. Εισαγγελέας του Αρείου Πάγου\, και σχολιάστρια η Όλγα Θεμελή\, Αναπληρώτρια Καθηγήτρια Εγκληματολογικής\nΨυχολογίας στο Τμήμα Ψυχολογίας του Πανεπιστημίου Κρήτης. \n 
URL:https://www.uoc.gr/event/%ce%bf-%ce%b8%ce%b5%cf%83%ce%bc%cf%8c%cf%82-%cf%84%ce%b7%cf%82-%ce%b4%ce%b9%ce%ba%ce%b1%ce%b9%ce%bf%cf%83%cf%8d%ce%bd%ce%b7%cf%82-%cf%83%cf%84%ce%b7%ce%bd-%ce%b5%cf%80%ce%bf%cf%87%ce%ae-%cf%84%cf%89/
END:VEVENT
BEGIN:VEVENT
DTSTART;TZID=Europe/Athens:20230404T000000
DTEND;TZID=Europe/Athens:20230404T000000
DTSTAMP:20260423T015505
CREATED:20240912T123145Z
LAST-MODIFIED:20240912T123145Z
UID:10000484-1680566400-1680566400@www.uoc.gr
SUMMARY:Βιωματικό Σεμινάριο ''Τεχνικές Διαχείρισης της Αναβλητικότητας''\,   (2 συναντήσεων)
DESCRIPTION:Διεξαγωγή Σεμιναρίου : Πέμπτη  30/03/2023 και ώρα 1.30 -3.00  \nα) ΘΕΩΡΙΑ:  χαρακτηριστικά ατόμων με αναβλητική συμπεριφορά\, αιτίες αναβλήτικότητας\, συνέπειες αναβλητικότητας\, ανάλυση αναβλητικής συμπεριφοράς\, συνέπειες αναβλητικότητας\, άσκηση αυτοπαρατήρησης και \nΠέμπτη  06/04/2023 και ώρα 1.30 -3.00  \n β)  ΠΡΑΞΗ:   ανάλυση ασκήσης αυτοπαρατήρησης\, ατομικό πλάνο διαχείρισης \nΓια δήλωση συμμετοχής\, συμπληρώστε τη φόρμα που θα βρείτε στο link: https://docs.google.com/forms/d/1lVjjVD5mczFW71v6vkBYYSykqYL2Vd-siYPsDm91S-w/edit
URL:https://www.uoc.gr/event/%ce%b2%ce%b9%cf%89%ce%bc%ce%b1%cf%84%ce%b9%ce%ba%cf%8c-%cf%83%ce%b5%ce%bc%ce%b9%ce%bd%ce%ac%cf%81%ce%b9%ce%bf-%cf%84%ce%b5%cf%87%ce%bd%ce%b9%ce%ba%ce%ad%cf%82-%ce%b4%ce%b9%ce%b1%cf%87%ce%b5%ce%af-2/
END:VEVENT
BEGIN:VEVENT
DTSTART;TZID=Europe/Athens:20230405T000000
DTEND;TZID=Europe/Athens:20230405T000000
DTSTAMP:20260423T015505
CREATED:20240912T123136Z
LAST-MODIFIED:20240912T123136Z
UID:10000467-1680652800-1680652800@www.uoc.gr
SUMMARY:"Διεπιστημονική προσέγγιση στη Φλεγμονή"
DESCRIPTION:“Η Επιτροπή Ακαδημαϊκής Διασύνδεσης της Ιατρικής Σχολής Πανεπιστημίου Κρήτης (ΠΚ)\, σε συνεργασία με το Ινστιτούτο Μοριακής Βιολογίας-Βιοϊατρικής (ΙΜΒΒ) του ΙΤΕ και το Κέντρο Ερευνών και Μελετών (ΚΕΜΕ) του ΠΚ\, σας προσκαλεί στο Θεματικό Σεμινάριο “Διεπιστημονική προσέγγιση στη Φλεγμονή”\, το οποίο θα διεξαχθεί διαδικτυακά την Τετάρτη 05 Απριλίου 15.00-17.00 ( https://zoom.us/j/95222166701) . \nΗ φλεγμονή αποτελεί κοινό παρονομαστή σε πλήθος παθολογικών καταστάσεων. Σκοπός του Σεμιναρίου είναι να αναδείξει σύγχρονες ερευνητικές τάσεις στο πεδίο της φλεγμονής όπως οι ανοσολογικοί μηχανισμοί παθογένεσης του καρκίνου και των αιματολογικών νοσημάτων\, η εφαρμογή της τεχνητής νοημοσύνης στην απεικόνιση της φλεγμονής και οι ψυχοκοινωνικές συνιστώσες φλεγμονωδών νοσημάτων του ανθρώπου”. \n  \nΠαρακαλούμε δείτε το σχετικό αρχείο: \nhttp://news.uoc.gr/news/2023/03-04/Thematic_seminar_-_Inflammation.pdf \n  \n  \n 
URL:https://www.uoc.gr/event/%ce%b4%ce%b9%ce%b5%cf%80%ce%b9%cf%83%cf%84%ce%b7%ce%bc%ce%bf%ce%bd%ce%b9%ce%ba%ce%ae-%cf%80%cf%81%ce%bf%cf%83%ce%ad%ce%b3%ce%b3%ce%b9%cf%83%ce%b7-%cf%83%cf%84%ce%b7-%cf%86%ce%bb%ce%b5%ce%b3%ce%bc/
END:VEVENT
BEGIN:VEVENT
DTSTART;TZID=Europe/Athens:20230405T000000
DTEND;TZID=Europe/Athens:20230405T000000
DTSTAMP:20260423T015505
CREATED:20240912T123145Z
LAST-MODIFIED:20240912T123145Z
UID:10000485-1680652800-1680652800@www.uoc.gr
SUMMARY:Ορκωμοσία αποφοίτων της Ιατρικής Σχολής Πανεπιστημίου Κρήτης
DESCRIPTION:Ο Κοσμήτορας της Ιατρικής Σχολής\nΚαθηγητής Γεώργιος Εμμ. Κοχιαδάκης\nέχει την τιμή να σας προσκαλέσει\nστην ορκωμοσία και απονομή πτυχίων\nστους νέους Διδάκτορες\,\nΑπόφοιτους Προγραμμάτων Μεταπτυχιακών Σπουδών\nκαι Απόφοιτους της Ιατρικής Σχολής\nπου θα πραγματοποιηθεί\nτην Τετάρτη 5 Απριλίου 2023 και ώρα 13.00\nστο Αμφιθέατρο Δημήτριος Εμμανουήλ.
URL:https://www.uoc.gr/event/%ce%bf%cf%81%ce%ba%cf%89%ce%bc%ce%bf%cf%83%ce%af%ce%b1-%ce%b1%cf%80%ce%bf%cf%86%ce%bf%ce%af%cf%84%cf%89%ce%bd-%cf%84%ce%b7%cf%82-%ce%b9%ce%b1%cf%84%cf%81%ce%b9%ce%ba%ce%ae%cf%82-%cf%83%cf%87%ce%bf/
END:VEVENT
BEGIN:VEVENT
DTSTART;TZID=Europe/Athens:20230407T000000
DTEND;TZID=Europe/Athens:20230407T000000
DTSTAMP:20260423T015505
CREATED:20240912T123141Z
LAST-MODIFIED:20240912T123141Z
UID:10000477-1680825600-1680825600@www.uoc.gr
SUMMARY:Τελετή Ορκωμοσίας Τμήμα Επιστήμης Υπολογιστών
DESCRIPTION:Η  τελετή θα πραγματοποιηθεί την Παρασκευή 7 Απριλίου 2023 στις 11.00 το πρωί στο Αμφιθέατρο “Ν. Πετρίδης” στο κτίριο του Τμήματος Μαθηματικών και Εφαρμοσμένων Μαθηματικών\, στην Πανεπιστημιούπολη Βουτών στο Ηράκλειο με φυσική παρουσία.  \nΠαρακαλούμε δείτε το σχετικό αρχείο: \nhttp://news.uoc.gr/news/2023/24-03/Prosklhsh_orkwmosiasCSD_07_04-2023_11_00_AMFITHEATRO_PETRIDIS.jpg \n 
URL:https://www.uoc.gr/event/%cf%84%ce%b5%ce%bb%ce%b5%cf%84%ce%ae-%ce%bf%cf%81%ce%ba%cf%89%ce%bc%ce%bf%cf%83%ce%af%ce%b1%cf%82-%cf%84%ce%bc%ce%ae%ce%bc%ce%b1-%ce%b5%cf%80%ce%b9%cf%83%cf%84%ce%ae%ce%bc%ce%b7%cf%82-%cf%85%cf%80/
END:VEVENT
BEGIN:VEVENT
DTSTART;TZID=Europe/Athens:20230408T000000
DTEND;TZID=Europe/Athens:20230408T000000
DTSTAMP:20260423T015505
CREATED:20240912T123134Z
LAST-MODIFIED:20240912T123134Z
UID:10000465-1680912000-1680912000@www.uoc.gr
SUMMARY:Εκπαιδευτική Ημερίδα Γιατρών Αιγαίου ΠΑΓΝΗ
DESCRIPTION:Το Σάββατο 08/04/23 και ώρα 10:00-14:00 θα διεξαχθεί στην αίθουσα Ανδρόγεω του Ηρακλείου Εκπαιδευτική Ημερίδα των Γιατρών Αιγαίου ΠΑΓΝΗ με τα εξής θέματα: \nΠαιδιατρικά επείγοντα \nΔιαχείριση πολυτραυματία και αιμορραγίας \nΣταθμοί δεξιοτήτων \nΜετά το πέρας της ημερίδας θα δοθούν βεβαιώσεις συμμετοχής. \n  \nΔείτε τα συνημμένα αρχεία που βρίσκονται στις παρακάτω υπερ-συνδέσεις : \nhttp://news.uoc.gr/news/2023/06-04/IMG_7064.JPG \n  \nhttp://news.uoc.gr/news/2023/06-04/Στιγμιότυπο_2023-04-03\,_14.02.55.png \n 
URL:https://www.uoc.gr/event/%ce%b5%ce%ba%cf%80%ce%b1%ce%b9%ce%b4%ce%b5%cf%85%cf%84%ce%b9%ce%ba%ce%ae-%ce%b7%ce%bc%ce%b5%cf%81%ce%af%ce%b4%ce%b1-%ce%b3%ce%b9%ce%b1%cf%84%cf%81%cf%8e%ce%bd-%ce%b1%ce%b9%ce%b3%ce%b1%ce%af%ce%bf/
END:VEVENT
BEGIN:VEVENT
DTSTART;TZID=Europe/Athens:20230410T000000
DTEND;TZID=Europe/Athens:20230413T000000
DTSTAMP:20260423T015505
CREATED:20240912T123136Z
LAST-MODIFIED:20240912T123136Z
UID:10000466-1681084800-1681344000@www.uoc.gr
SUMMARY:Easter Camp στο Μουσείο Φυσικής Ιστορίας Κρήτης
DESCRIPTION:Τίνος είναι τα αβγά; \n  \n*Easter Camp στο Μουσείο Φυσικής Ιστορίας Κρήτης \n  \nγια μαθητές Α΄- Γ΄ Δημοτικού \n  \n  \nΔεινόσαυροι\, διάφορα ερπετά\, μα και βάτραχοι είναι μόνο μερικά από τα ζώα που κυκλοφορούν στο Μουσείο Φυσικής Ιστορίας Κρήτης και κάνουν αβγά! Αυτό το Πάσχα ελάτε να εξερευνήσουμε παρέα τους χώρους του μουσείου\, να ανακαλύψουμε ποια ζώα κάνουν αβγά\, να παίξουμε παιχνίδια\, να κάνουμε κατασκευές και να αποφασίσουμε αν όλα τα αβγά είναι ίδια ή αν έχουν διαφορές! Και\, τελικά\, μήπως αυτή η ποικιλία των διαφορών κάνει και τα αβγά τόσο ενδιαφέροντα; \n  \nΔιάρκεια: Μεγάλη Δευτέρα – Μεγάλη Πέμπτη \nΏρες: 10:00 – 14:00 \nΚόστος συμμετοχής: 50 € \nΑπαραίτητη η κράτηση θέσης: 2810 393630 \n  \nΚάθε παιδί πρέπει να κρατάει ένα ελαφρύ κολατσιό και ένα παγούρι για νερό.
URL:https://www.uoc.gr/event/easter-camp-%cf%83%cf%84%ce%bf-%ce%bc%ce%bf%cf%85%cf%83%ce%b5%ce%af%ce%bf-%cf%86%cf%85%cf%83%ce%b9%ce%ba%ce%ae%cf%82-%ce%b9%cf%83%cf%84%ce%bf%cf%81%ce%af%ce%b1%cf%82-%ce%ba%cf%81%ce%ae%cf%84%ce%b7/
END:VEVENT
BEGIN:VEVENT
DTSTART;TZID=Europe/Athens:20230425T000000
DTEND;TZID=Europe/Athens:20230427T000000
DTSTAMP:20260423T015505
CREATED:20240912T123132Z
LAST-MODIFIED:20240912T123132Z
UID:10000460-1682380800-1682553600@www.uoc.gr
SUMMARY:Έκθεση Βιβλίου
DESCRIPTION:Το Πανεπιστήμιο Κρήτης με την ευγενική υποστήριξη του Δήμου Ρεθύμνης και με αφορμή\nτην ΠΑΓΚΟΣΜΙΑ ΗΜΕΡΑ ΒΙΒΛΙΟΥ (23 Απριλίου 2023)\, διοργανώνει Έκθεση Βιβλίου στις\n25-27 Απριλίου 2023\, στο Σπίτι του Πολιτισμού\, στο Ρέθυμνο. \n  \nΠαρακαλούμε δείτε το σχετικό αρχείο: \nhttp://news.uoc.gr/news/2023/21-04/ΕΚΘΕΣΗ_ΒΙΒΛΙΟΥ_25-27_4_2023_ΣΠΙΤΙ_ΠΟΛΙΤΙΣΜΟΥ.pdf
URL:https://www.uoc.gr/event/%ce%ad%ce%ba%ce%b8%ce%b5%cf%83%ce%b7-%ce%b2%ce%b9%ce%b2%ce%bb%ce%af%ce%bf%cf%85/
END:VEVENT
BEGIN:VEVENT
DTSTART;TZID=Europe/Athens:20230426T000000
DTEND;TZID=Europe/Athens:20230426T000000
DTSTAMP:20260423T015505
CREATED:20240912T123126Z
LAST-MODIFIED:20240912T123126Z
UID:10000454-1682467200-1682467200@www.uoc.gr
SUMMARY:Protein dynamics to unravel the molecular etiology of human diseases and empower drug development
DESCRIPTION:“Protein dynamics to unravel the molecular etiology of human diseases and empower drug development.” \n  \nΤο link για τη σύνδεση στη διαδικτυακή πλατφόρμα είναι: \nhttps://us02web.zoom.us/j/7781623506 \nΠαρακαλούμε δείτε το σχετικό αρχείο: \nhttp://news.uoc.gr/news/2023/21-04/Gkouridis_Announcement_Research_Seminar_03032021.pdf \n 
URL:https://www.uoc.gr/event/protein-dynamics-to-unravel-the-molecular-etiology-of-human-diseases-and-empower-drug-development/
END:VEVENT
BEGIN:VEVENT
DTSTART;TZID=Europe/Athens:20230426T000000
DTEND;TZID=Europe/Athens:20230426T000000
DTSTAMP:20260423T015505
CREATED:20240912T123127Z
LAST-MODIFIED:20240912T123127Z
UID:10000455-1682467200-1682467200@www.uoc.gr
SUMMARY:Στέλιος Βιρβιδάκης "Τελετουργία και ορθόδοξη χριστιανική παράδοση"
DESCRIPTION:  \nΠΑΝΕΠΙΣΤΗΜΙΟ ΚΡΗΤΗΣΤΜΗΜΑ ΦΙΛΟΛΟΓΙΑΣΕΡΕΥΝΗΤΙΚΟ ΣΕΜΙΝΑΡΙΟ ΤΟΥ ΤΟΜΕΑ ΚΛΑΣΙΚΩΝ ΣΠΟΥΔΩΝΟΙ ΔΙΑΔΙΚΤΥΑΚΕΣ ΣΥΝΑΝΤΗΣΕΙΣ ΤΗΣ ΠΑΡΑΣΚΕΥΗΣ (12.00-14.00)ΔιάλεξηΣτέλιος Βιρβιδάκης(Εθνικό και Καποδιστριακό Πανεπιστήμιο Αθηνών)Τελετουργία και ορθόδοξη χριστιανική παράδοσηΠαρασκευή 28/4/2023\, 12:00-14:00Το σεμινάριο είναι ανοικτό σε όλους και όλες\,αλλά απαιτείται προεγγραφή στον παρακάτω σύνδεσμο:https://uoc-gr.zoom.us/meeting/register/tZUrd-ivqDMrGNah-SKiTAHoXCpfRtLqD0I6\nΑφίσα\nΠρόγραμμα Συναντήσεων\n\n  \n 
URL:https://www.uoc.gr/event/%cf%83%cf%84%ce%ad%ce%bb%ce%b9%ce%bf%cf%82-%ce%b2%ce%b9%cf%81%ce%b2%ce%b9%ce%b4%ce%ac%ce%ba%ce%b7%cf%82-%cf%84%ce%b5%ce%bb%ce%b5%cf%84%ce%bf%cf%85%cf%81%ce%b3%ce%af%ce%b1-%ce%ba%ce%b1%ce%b9-%ce%bf/
END:VEVENT
BEGIN:VEVENT
DTSTART;TZID=Europe/Athens:20230426T000000
DTEND;TZID=Europe/Athens:20230427T000000
DTSTAMP:20260423T015505
CREATED:20240912T123107Z
LAST-MODIFIED:20240912T123107Z
UID:10000431-1682467200-1682553600@www.uoc.gr
SUMMARY:Κλινικό Φροντιστήριο - Workshop
DESCRIPTION:Παρακαλούμε δείτε το σχετικό αρχείο:
URL:https://www.uoc.gr/event/%ce%ba%ce%bb%ce%b9%ce%bd%ce%b9%ce%ba%cf%8c-%cf%86%cf%81%ce%bf%ce%bd%cf%84%ce%b9%cf%83%cf%84%ce%ae%cf%81%ce%b9%ce%bf-workshop/
END:VEVENT
BEGIN:VEVENT
DTSTART;TZID=Europe/Athens:20230427T000000
DTEND;TZID=Europe/Athens:20230427T000000
DTSTAMP:20260423T015505
CREATED:20240912T123131Z
LAST-MODIFIED:20240912T123131Z
UID:10000458-1682553600-1682553600@www.uoc.gr
SUMMARY:Εθελοντική Αιμοδοσία του Πανεπιστημίου Κρήτης (ΟΦΕΑΚ) σε συνεργασία με το Τμήμα Αιμοδοσίας του ΠαΓΝΗ
DESCRIPTION:Σας ανακοινώνουμε και φέτος τη διοργάνωση ΕΘΕΛΟΝΤΙΚΗΣ ΑΙΜΟΔΟΣΙΑΣ από την Ομάδα Φοιτητικής Εθελοντικής Αιμοδοσίας του Πανεπιστημίου Κρήτης (ΟΦΕΑΚ) σε συνεργασία με το Τμήμα Αιμοδοσίας του ΠαΓΝΗ. \n  \n ΠΕΜΠΤΗ 27 Απριλίου 2023 9.30-13.30 στο Φοιτητικό κέντρο του Πανεπιστημίου Κρήτηςκαι… \n16.30-19.30 στο Τμήμα Αιμοδοσίας του ΠαΓΝΗ (Β κτίριο υπόγειος όροφος ΠΑΓΝΗ)
URL:https://www.uoc.gr/event/%ce%b5%ce%b8%ce%b5%ce%bb%ce%bf%ce%bd%cf%84%ce%b9%ce%ba%ce%ae-%ce%b1%ce%b9%ce%bc%ce%bf%ce%b4%ce%bf%cf%83%ce%af%ce%b1-%cf%84%ce%bf%cf%85-%cf%80%ce%b1%ce%bd%ce%b5%cf%80%ce%b9%cf%83%cf%84%ce%b7%ce%bc/
END:VEVENT
BEGIN:VEVENT
DTSTART;TZID=Europe/Athens:20230427T000000
DTEND;TZID=Europe/Athens:20230427T000000
DTSTAMP:20260423T015505
CREATED:20240912T123131Z
LAST-MODIFIED:20240912T123131Z
UID:10000459-1682553600-1682553600@www.uoc.gr
SUMMARY:"China's fa Thinkers ("Legalists"): Thinkers\, Ideology\, Impartial Standards"
DESCRIPTION:27 April 2023\, 17:30-20:30 \nOpen Classes / Ανοιχτα μάθηματα \nYuri Pines (Hebrew University of Jerusalem) \n“China’s fa Thinkers (“Legalists”): Thinkers\, Ideology\, Impartial Standards” \nIn collaboration with the Postgraduate Programme “Classical Studies” (Dept. of Philology) & UCRC / Σε συνεργασία με το ΠΜΣ “Κλασικές Σπουδές” (Τμ. Φιλολογίας) & το Ερευνητικό Εργαστήριο Κλασικών Σπουδών (ΚΕΜΕ-ΠΚ) \n  \nVenue: Deparment of Philology\, Conference room / Αίθουσα συνεδριάσεων Τμήματος Φιλολογίας \n  \nΜπορείτε να βρείτε το σύνολο των δράσεων που εντάσσονται στο υποέργο «Δράσεις του Πανεπιστημίου Κρήτης για την προώθηση της συγκριτικής εξέτασης του αρχαίου ελληνικού και κινεζικού πολιτισμού» της Πράξης «Προώθηση μελέτης αρχαίου ελληνικού και κινεζικού πολιτισμού» του επιχειρησιακού προγράμματος «Ανάπτυξη Ανθρώπινου Δυναμικού\, Εκπαίδευση και Δια Βίου Μάθησης στο σχετικό αρχείο: \nAncient Greece and China: Comparative Approaches / Αρχαία Ελλάδα και Κίνα: Συγκριτικές προσεγγίσεις
URL:https://www.uoc.gr/event/chinas-fa-thinkers-legalists-thinkers-ideology-impartial-standards/
END:VEVENT
BEGIN:VEVENT
DTSTART;TZID=Europe/Athens:20230428T000000
DTEND;TZID=Europe/Athens:20230428T000000
DTSTAMP:20260423T015505
CREATED:20240912T123120Z
LAST-MODIFIED:20240912T123120Z
UID:10000445-1682640000-1682640000@www.uoc.gr
SUMMARY:Όταν η τέχνη στην κοινότητα συναντά την αναπηρία
DESCRIPTION:Ο Σύλλογος γονέων και φίλων ατόμων με αυτισμό Ρεθύμνου κλείνει γιορτινά τον Απρίλη \, μήνα ευαισθητοποίησης για τον αυτισμό με μια μεγάλη εκδήλωση την Παρασκευή 28 Απριλίου 2023 \, στις 19.30 μ.μ. στην Πλατεία Μικρασιατών.
URL:https://www.uoc.gr/event/%cf%8c%cf%84%ce%b1%ce%bd-%ce%b7-%cf%84%ce%ad%cf%87%ce%bd%ce%b7-%cf%83%cf%84%ce%b7%ce%bd-%ce%ba%ce%bf%ce%b9%ce%bd%cf%8c%cf%84%ce%b7%cf%84%ce%b1-%cf%83%cf%85%ce%bd%ce%b1%ce%bd%cf%84%ce%ac-%cf%84%ce%b7/
END:VEVENT
BEGIN:VEVENT
DTSTART;TZID=Europe/Athens:20230428T000000
DTEND;TZID=Europe/Athens:20230428T000000
DTSTAMP:20260423T015505
CREATED:20240912T123133Z
LAST-MODIFIED:20240912T123133Z
UID:10000461-1682640000-1682640000@www.uoc.gr
SUMMARY:Διαδικτυακή Ημερίδα του Κέντρου Υποστήριξης Διδασκαλίας και Μάθησης του Πανεπιστημίου Κρήτης και του Κέντρου Υποστήριξης Διδασκαλίας και Μάθησης του Πολυτεχνείου Κρήτης
DESCRIPTION:Σε συνέχεια του Μνημονίου Συνεργασίας και Συναντίληψης που έχουν συνυπογράψει το\nΠανεπιστήμιο Κρήτης με το Πολυτεχνείο Κρήτης για την υποστήριξη της διδασκαλίας και\nμάθησης\, τα αντίστοιχα Κέντρα συνδιοργανώνουν διαδικτυακή ημερίδα με τίτλο:\n«Προληπτικός σχεδιασμός Συμπεριληπτικών Περιβαλλόντων Μάθησης στο\nΠανεπιστήμιο».\nΗ ημερίδα θα πραγματοποιηθεί την Παρασκευή 28 Απριλίου 2023 και ώρα 13:00 έως 15:00. \n  \n  \nΠαρακαλούμε δείτε το σχετικό αρχείο: \nhttp://news.uoc.gr/news/2023/24-04/Πρόσκληση_διαδικτυακής_ημερίδας_28-4-2023.pdf
URL:https://www.uoc.gr/event/%ce%b4%ce%b9%ce%b1%ce%b4%ce%b9%ce%ba%cf%84%cf%85%ce%b1%ce%ba%ce%ae-%ce%b7%ce%bc%ce%b5%cf%81%ce%af%ce%b4%ce%b1-%cf%84%ce%bf%cf%85-%ce%ba%ce%ad%ce%bd%cf%84%cf%81%ce%bf%cf%85-%cf%85%cf%80%ce%bf%cf%83/
END:VEVENT
BEGIN:VEVENT
DTSTART;TZID=Europe/Athens:20230428T000000
DTEND;TZID=Europe/Athens:20230428T000000
DTSTAMP:20260423T015505
CREATED:20240912T123145Z
LAST-MODIFIED:20240912T123145Z
UID:10000482-1682640000-1682640000@www.uoc.gr
SUMMARY:Βιωματικό Σεμινάριο  "Άγχος – Κρίσεις Πανικού: κατανόηση & διαχείριση"
DESCRIPTION:“Άγχος – Κρίσεις πανικού: Κατανόηση & Διαχείριση”  (μία συνάντηση στην ημερομηνία που θα δηλωθεί) \nΔιεξαγωγή σεμιναρίου: Παρασκευή 28/4 12:00 – 14:00     ή     Παρασκευή 12/5 12:00 – 14:00   \nΕνότητες εστίασης: α) άγχος vs στρες\, β) κρίσεις πανικού vs κρίσεις άγχους\, γ) ο φαύλος κύκλος του άγχους και δ) αυτόματες αρνητικές σκέψεις: αναγνώριση και τρόποι διαχείρισης. \nΓια δήλωση συμμετοχής\, συμπληρώστε τη φόρμα που θα βρείτε στο link: https://docs.google.com/forms/d/1EoFXAvzVc616r0KGxt4Cted2mOD9ohhl1vS30uSXPRE/edit \nΔίνεται βεβαίωση παρακολούθησης εφόσον ζητηθεί. \nΧώρος Διεξαγωγής : Δια ζώσης στον χώρο του ΚΔΑΠ (δίπλα στο Συμβουλευτικό Κέντρο Φοιτητών). \nΦορέας Υλοποίησης : Συμβουλευτικό Κέντρο Φοιτητών Πανεπιστημίου Κρήτης – Ρέθυμνο
URL:https://www.uoc.gr/event/%ce%b2%ce%b9%cf%89%ce%bc%ce%b1%cf%84%ce%b9%ce%ba%cf%8c-%cf%83%ce%b5%ce%bc%ce%b9%ce%bd%ce%ac%cf%81%ce%b9%ce%bf-%ce%ac%ce%b3%cf%87%ce%bf%cf%82-%ce%ba%cf%81%ce%af%cf%83%ce%b5%ce%b9%cf%82-2/
END:VEVENT
END:VCALENDAR