BEGIN:VCALENDAR
VERSION:2.0
PRODID:-//Πανεπιστήμιο Κρήτης - ECPv6.15.10//NONSGML v1.0//EN
CALSCALE:GREGORIAN
METHOD:PUBLISH
X-ORIGINAL-URL:https://www.uoc.gr/
X-WR-CALDESC:Events for Πανεπιστήμιο Κρήτης
REFRESH-INTERVAL;VALUE=DURATION:PT1H
X-Robots-Tag:noindex
X-PUBLISHED-TTL:PT1H
BEGIN:VTIMEZONE
TZID:Europe/Athens
BEGIN:DAYLIGHT
TZOFFSETFROM:+0200
TZOFFSETTO:+0300
TZNAME:EEST
DTSTART:20220327T010000
END:DAYLIGHT
BEGIN:STANDARD
TZOFFSETFROM:+0300
TZOFFSETTO:+0200
TZNAME:EET
DTSTART:20221030T010000
END:STANDARD
BEGIN:DAYLIGHT
TZOFFSETFROM:+0200
TZOFFSETTO:+0300
TZNAME:EEST
DTSTART:20230326T010000
END:DAYLIGHT
BEGIN:STANDARD
TZOFFSETFROM:+0300
TZOFFSETTO:+0200
TZNAME:EET
DTSTART:20231029T010000
END:STANDARD
BEGIN:DAYLIGHT
TZOFFSETFROM:+0200
TZOFFSETTO:+0300
TZNAME:EEST
DTSTART:20240331T010000
END:DAYLIGHT
BEGIN:STANDARD
TZOFFSETFROM:+0300
TZOFFSETTO:+0200
TZNAME:EET
DTSTART:20241027T010000
END:STANDARD
END:VTIMEZONE
BEGIN:VEVENT
DTSTART;TZID=Europe/Athens:20230705T000000
DTEND;TZID=Europe/Athens:20230705T000000
DTSTAMP:20260422T210437
CREATED:20240912T123023Z
LAST-MODIFIED:20240912T123023Z
UID:10000384-1688515200-1688515200@www.uoc.gr
SUMMARY:8o  Ερευνητικό Σεμινάριο Ιατρικής Σχολής - ΙΤΕ - ΚΕΜΕ
DESCRIPTION:Το 8o  Ερευνητικό Σεμινάριο Ιατρικής Σχολής – ΙΤΕ – ΚΕΜΕ με ομιλητή τον κ. Θεόδωρο Τοσουνίδη\, Αναπληρωτή Καθηγητή Ορθοπαιδικής- Τραυματολογίας στο τμήμα Ιατρικής ΠΚ\, θα πραγματοποιηθεί την Τετάρτη 05/07/2023\, στις 3-4 μ.μ. \nΘέμα: ” Osteoporosis and osteosarcopenia – clinical challenges in hip fragility fractures “ \nΤο link για τη σύνδεση στη διαδικτυακή πλατφόρμα είναι: \nhttps://uoc-gr.zoom.us/j/95222166701?pwd=RDhvODhCRXg1bVZldXh4TjFvVXZIQT09 \n  \nΠαρακαλούμε δείτε το σχετικό αρχείο: \nhttp://news.uoc.gr/news/2023/30-06/Tosounidis_Announcement_Research_Seminar_03032021.pdf \n 
URL:https://www.uoc.gr/event/8o-%ce%b5%cf%81%ce%b5%cf%85%ce%bd%ce%b7%cf%84%ce%b9%ce%ba%cf%8c-%cf%83%ce%b5%ce%bc%ce%b9%ce%bd%ce%ac%cf%81%ce%b9%ce%bf-%ce%b9%ce%b1%cf%84%cf%81%ce%b9%ce%ba%ce%ae%cf%82-%cf%83%cf%87%ce%bf%ce%bb%ce%ae/
END:VEVENT
BEGIN:VEVENT
DTSTART;TZID=Europe/Athens:20230710T000000
DTEND;TZID=Europe/Athens:20230710T000000
DTSTAMP:20260422T210437
CREATED:20240912T123020Z
LAST-MODIFIED:20240912T123020Z
UID:10000378-1688947200-1688947200@www.uoc.gr
SUMMARY:Διαδικτυακή ενημέρωση σε υποψήφιους φοιτητές/τριες από το Τμήμα Οικονομικών Επιστημών του Πανεπιστημίου Κρήτης
DESCRIPTION:Το Τμήμα Οικονομικών Επιστημών του Πανεπιστημίου Κρήτης καλεί τους υποψήφιους φοιτητές και φοιτήτριες που ενδιαφέρονται για σπουδές στα Οικονομικά σε διαδικτυακή ενημέρωση στις παρακάτω ημερομηνίες: \nΔευτέρα 10/7\, 11:00-12:00 \nΤετάρτη 12/7\, 10:00-11:00 \nΠέμπτη 13/7\, 11:00-12:00 \nΚατά τη διάρκεια των συναντήσεων\, οι υποψήφιοι φοιτητές και φοιτήτριες θα ενημερωθούν για το Τμήμα Οικονομικών Επιστημών και τις σπουδές στα Οικονομικά\, για τις επαγγελματικές προοπτικές των οικονομολόγων αποφοίτων\, τη σχέση του Τμήματος με την αγορά\, τις ευκαιρίες μεταπτυχιακών σπουδών\, κ.λπ. \nΣύνδεσμος Πλατφόρμας Zoomhttps://zoom.us/j/98602122941?pwd=MU0xTUJJTzl1VkpJVzVwdHZrM1NGdz09
URL:https://www.uoc.gr/event/%ce%b4%ce%b9%ce%b1%ce%b4%ce%b9%ce%ba%cf%84%cf%85%ce%b1%ce%ba%ce%ae-%ce%b5%ce%bd%ce%b7%ce%bc%ce%ad%cf%81%cf%89%cf%83%ce%b7-%cf%83%ce%b5-%cf%85%cf%80%ce%bf%cf%88%ce%ae%cf%86%ce%b9%ce%bf%cf%85%cf%82-3/
END:VEVENT
BEGIN:VEVENT
DTSTART;TZID=Europe/Athens:20230711T000000
DTEND;TZID=Europe/Athens:20230711T000000
DTSTAMP:20260422T210437
CREATED:20240912T123020Z
LAST-MODIFIED:20240912T123020Z
UID:10000377-1689033600-1689033600@www.uoc.gr
SUMMARY:Διαδικτυακή ενημέρωση σε υποψήφιους φοιτητές/τριες από το Τμήμα Μαθηματικών & Εφαρμοσμένων Μαθηματικών του Πανεπιστημίου Κρήτης
DESCRIPTION:Το Τμήμα Μαθηματικών και Εφαρμοσμένων Μαθηματικών του Πανεπιστημίου Κρήτης προσκαλεί τους υποψήφιους φοιτητές και φοιτήτριες που ενδιαφέρονται για σπουδές σταΘεωρητικά και Εφαρμοσμένα Μαθηματικά και τους γονείς τους\, σε διαδικτυακή συνάντηση πριν την λήξη τις προθεσμίας υποβολής των μηχανογραφικών τους  τις παρακάτω ημέρες και ώρες : \n  \nΤρίτη 4/7/23 ώρα 11πμ \n  \nΠέμπτη 6/7/23 ώρα 11πμ \n  \nΤρίτη 11/7/23 ώρα 11πμ \n  \nΠέμπτη 13/7/23 ώρα 11πμ \n  \nΟ σύνδεσμος της ηλεκτρονικής πλατφόρμας στην οποία θα πραγματοποιηθεί η κάθε συνάντηση είναι : https://zoomto.me/XQGz \nΣκοπός της συνάντησης πέραν του να απαντήσουμε σε ερωτήσεις των υποψηφίων είναι να τους ενημερώσουμε για τις σπουδές που προσφέρει το Τμήμα Μαθηματικών και Εφαρμοσμένων Μαθηματικών και τις επαγγελματικές και ακαδημαϊκές ευκαιρίες που θα έχουν επιλέγοντας να σπουδάσουν σε αυτό. \n  \nΙστοσελίδα Τμήματος Μαθηματικών και Εφαρμοσμένων Μαθηματικών: www.math.uoc.gr \nΜήνυμα προς τους υποψηφίους φοιτητές και τους γονείς τους : http://users.math.uoc.gr/el/brochure.html \n 
URL:https://www.uoc.gr/event/%ce%b4%ce%b9%ce%b1%ce%b4%ce%b9%ce%ba%cf%84%cf%85%ce%b1%ce%ba%ce%ae-%ce%b5%ce%bd%ce%b7%ce%bc%ce%ad%cf%81%cf%89%cf%83%ce%b7-%cf%83%ce%b5-%cf%85%cf%80%ce%bf%cf%88%ce%ae%cf%86%ce%b9%ce%bf%cf%85%cf%82-2/
END:VEVENT
BEGIN:VEVENT
DTSTART;TZID=Europe/Athens:20230711T000000
DTEND;TZID=Europe/Athens:20230711T000000
DTSTAMP:20260422T210437
CREATED:20240912T123023Z
LAST-MODIFIED:20240912T123023Z
UID:10000383-1689033600-1689033600@www.uoc.gr
SUMMARY:Η Διατριβή μου σε 3 λεπτά - 3 Minute Thesis
DESCRIPTION:Ο Πρύτανης του Πανεπιστηµίου Κρήτης Καθηγητής Γεώργιος Μ. Κοντάκης έχει την τιµή να σας προσκαλέσει στην τελική αξιολόγηση – βράβευση του διαγωνισµού µε θέµα: «Η διατριβή µου σε 3 λεπτά – 3ΜΤ» που διοργανώνει το Πανεπιστήµιο Κρήτης.  \nΗ εκδήλωση θα λάβει χώρα την Τρίτη 11 Ιουλίου 2023 και ώρα 18.30 στην «Αίθουσα Συναυλιών» του Πολιτιστικού – Συνεδριακού Κέντρου Ηρακλείου
URL:https://www.uoc.gr/event/%ce%b7-%ce%b4%ce%b9%ce%b1%cf%84%cf%81%ce%b9%ce%b2%ce%ae-%ce%bc%ce%bf%cf%85-%cf%83%ce%b5-3-%ce%bb%ce%b5%cf%80%cf%84%ce%ac-3-minute-thesis/
END:VEVENT
BEGIN:VEVENT
DTSTART;TZID=Europe/Athens:20230712T000000
DTEND;TZID=Europe/Athens:20230712T000000
DTSTAMP:20260422T210437
CREATED:20240912T123020Z
LAST-MODIFIED:20240912T123020Z
UID:10000379-1689120000-1689120000@www.uoc.gr
SUMMARY:Διαδικτυακή ενημέρωση σε υποψήφιους φοιτητές/τριες από το Τμήμα Οικονομικών Επιστημών του Πανεπιστημίου Κρήτης
DESCRIPTION:Το Τμήμα Οικονομικών Επιστημών του Πανεπιστημίου Κρήτης καλεί τους υποψήφιους φοιτητές και φοιτήτριες που ενδιαφέρονται για σπουδές στα Οικονομικά σε διαδικτυακή ενημέρωση στις παρακάτω ημερομηνίες: \nΔευτέρα 10/7\, 11:00-12:00 \nΤετάρτη 12/7\, 10:00-11:00 \nΠέμπτη 13/7\, 11:00-12:00 \nΚατά τη διάρκεια των συναντήσεων\, οι υποψήφιοι φοιτητές και φοιτήτριες θα ενημερωθούν για το Τμήμα Οικονομικών Επιστημών και τις σπουδές στα Οικονομικά\, για τις επαγγελματικές προοπτικές των οικονομολόγων αποφοίτων\, τη σχέση του Τμήματος με την αγορά\, τις ευκαιρίες μεταπτυχιακών σπουδών\, κ.λπ. \nΣύνδεσμος Πλατφόρμας Zoomhttps://zoom.us/j/98602122941?pwd=MU0xTUJJTzl1VkpJVzVwdHZrM1NGdz09
URL:https://www.uoc.gr/event/%ce%b4%ce%b9%ce%b1%ce%b4%ce%b9%ce%ba%cf%84%cf%85%ce%b1%ce%ba%ce%ae-%ce%b5%ce%bd%ce%b7%ce%bc%ce%ad%cf%81%cf%89%cf%83%ce%b7-%cf%83%ce%b5-%cf%85%cf%80%ce%bf%cf%88%ce%ae%cf%86%ce%b9%ce%bf%cf%85%cf%82-4/
END:VEVENT
BEGIN:VEVENT
DTSTART;TZID=Europe/Athens:20230712T000000
DTEND;TZID=Europe/Athens:20230717T000000
DTSTAMP:20260422T210437
CREATED:20240912T123215Z
LAST-MODIFIED:20240912T123215Z
UID:10000520-1689120000-1689552000@www.uoc.gr
SUMMARY:Call for Applications: The Seeds of Virtue in Ancient Greece and China
DESCRIPTION:Παρακαλούμε δείτε τα συνημμένα αρχεία που βρίσκονται στις παρακάτω υπερ-συνδέσεις : \nhttp://news.uoc.gr/news/2023/06-03/Call_applications.pdf \n  \nhttp://news.uoc.gr/news/2023/06-03/poster_23_espa.pdf
URL:https://www.uoc.gr/event/call-for-applications-the-seeds-of-virtue-in-ancient-greece-and-china/
END:VEVENT
BEGIN:VEVENT
DTSTART;TZID=Europe/Athens:20230713T000000
DTEND;TZID=Europe/Athens:20230713T000000
DTSTAMP:20260422T210437
CREATED:20240912T123019Z
LAST-MODIFIED:20240912T123019Z
UID:10000376-1689206400-1689206400@www.uoc.gr
SUMMARY:Διαδικτυακή ενημέρωση σε υποψήφιους φοιτητές/τριες από το Τμήμα Μαθηματικών & Εφαρμοσμένων Μαθηματικών του Πανεπιστημίου Κρήτης
DESCRIPTION:Το Τμήμα Μαθηματικών και Εφαρμοσμένων Μαθηματικών του Πανεπιστημίου Κρήτης προσκαλεί τους υποψήφιους φοιτητές και φοιτήτριες που ενδιαφέρονται για σπουδές σταΘεωρητικά και Εφαρμοσμένα Μαθηματικά και τους γονείς τους\, σε διαδικτυακή συνάντηση πριν την λήξη τις προθεσμίας υποβολής των μηχανογραφικών τους  τις παρακάτω ημέρες και ώρες : \n  \nΤρίτη 4/7/23 ώρα 11πμ \n  \nΠέμπτη 6/7/23 ώρα 11πμ \n  \nΤρίτη 11/7/23 ώρα 11πμ \n  \nΠέμπτη 13/7/23 ώρα 11πμ \n  \nΟ σύνδεσμος της ηλεκτρονικής πλατφόρμας στην οποία θα πραγματοποιηθεί η κάθε συνάντηση είναι : https://zoomto.me/XQGz \nΣκοπός της συνάντησης πέραν του να απαντήσουμε σε ερωτήσεις των υποψηφίων είναι να τους ενημερώσουμε για τις σπουδές που προσφέρει το Τμήμα Μαθηματικών και Εφαρμοσμένων Μαθηματικών και τις επαγγελματικές και ακαδημαϊκές ευκαιρίες που θα έχουν επιλέγοντας να σπουδάσουν σε αυτό. \n  \nΙστοσελίδα Τμήματος Μαθηματικών και Εφαρμοσμένων Μαθηματικών: www.math.uoc.gr \nΜήνυμα προς τους υποψηφίους φοιτητές και τους γονείς τους : http://users.math.uoc.gr/el/brochure.html \n 
URL:https://www.uoc.gr/event/%ce%b4%ce%b9%ce%b1%ce%b4%ce%b9%ce%ba%cf%84%cf%85%ce%b1%ce%ba%ce%ae-%ce%b5%ce%bd%ce%b7%ce%bc%ce%ad%cf%81%cf%89%cf%83%ce%b7-%cf%83%ce%b5-%cf%85%cf%80%ce%bf%cf%88%ce%ae%cf%86%ce%b9%ce%bf%cf%85%cf%82/
END:VEVENT
BEGIN:VEVENT
DTSTART;TZID=Europe/Athens:20230719T000000
DTEND;TZID=Europe/Athens:20230719T000000
DTSTAMP:20260422T210437
CREATED:20240912T123012Z
LAST-MODIFIED:20240912T123012Z
UID:10000369-1689724800-1689724800@www.uoc.gr
SUMMARY:Ερευνητικό Σεμινάριο | "Preparticipation screening of children in sports"
DESCRIPTION:ANAKOINΩΣΗ \n  \nΗ Επιτροπή Ακαδημαϊκής Διασύνδεσης της Ιατρικής Σχολής Πανεπιστημίου Κρήτης (ΠΚ)\, σε συνεργασία με το Ινστιτούτο Μοριακής Βιολογίας-Βιοϊατρικής (ΙΜΒΒ) του ΙΤΕ και το Κέντρο Ερευνών και Μελετών (ΚΕΜΕ) του ΠΚ\, σας προσκαλεί στο Θεματικό Σεμινάριo ” Preparticipation screening of children in sports” Yannis Germanakis\, Associate Professor of Pediatrics\, Pediatric Cardiology\, UoC Medical School\,  το οποίο θα διεξαχθεί διαδικτυακά την 19η Ioυλίου 2023 από 15.00-16.00 \n  \n\nΕπισυνάπτεται η ανακοίνωση του Θεματικού Σεμιναρίου.Ο Σύνδεσμος για τη σύνδεση σας:   https://uoc-gr.zoom.us/j/95222166701?pwd=RDhvODhCRXg1bVZldXh4TjFvVXZIQT09 \nΟ διοργανωτής του ΣεμιναρίουΓιάννης Γερμανάκης\, Αναπληρωτής Καθηγητής Παιδιατρικής\, Παιδιατρική Καρδιολογία \nΣυντονίστρια Επιτροπής: καθηγήτρια κ. Ελένη Παπαδάκη
URL:https://www.uoc.gr/event/%ce%b5%cf%81%ce%b5%cf%85%ce%bd%ce%b7%cf%84%ce%b9%ce%ba%cf%8c-%cf%83%ce%b5%ce%bc%ce%b9%ce%bd%ce%ac%cf%81%ce%b9%ce%bf-preparticipation-screening-of-children-in-sports/
END:VEVENT
BEGIN:VEVENT
DTSTART;TZID=Europe/Athens:20230719T000000
DTEND;TZID=Europe/Athens:20230719T000000
DTSTAMP:20260422T210437
CREATED:20240912T123017Z
LAST-MODIFIED:20240912T123017Z
UID:10000371-1689724800-1689724800@www.uoc.gr
SUMMARY:Τελετή αποφοίτησης Τμήματος Επιστήμης και Τεχνολογίας Υλικών Πανεπισττημίου Κρήτης
DESCRIPTION:Πρόσκληση για την Τελετή Αποφοίτησης Νέων Πτυχιούχων\, που θα γίνει την Τετάρτη\, 19 Ιουλίου 2023\, ώρα 11.00  στο Αμφιθέατρο “Πετρίδη” στο κτίριο του Τμήματος Μαθηματικών και Εφαρμοσμένων Μαθηματικών. \n  \nΠαρακαλούμε δείτε το σχετικό αρχείο: \nhttp://news.uoc.gr/news/2023/13-07/Πρόσκληση_Τελετής_Αποφοίτησης.pdf
URL:https://www.uoc.gr/event/%cf%84%ce%b5%ce%bb%ce%b5%cf%84%ce%ae-%ce%b1%cf%80%ce%bf%cf%86%ce%bf%ce%af%cf%84%ce%b7%cf%83%ce%b7%cf%82-%cf%84%ce%bc%ce%ae%ce%bc%ce%b1%cf%84%ce%bf%cf%82-%ce%b5%cf%80%ce%b9%cf%83%cf%84%ce%ae%ce%bc/
END:VEVENT
BEGIN:VEVENT
DTSTART;TZID=Europe/Athens:20230719T000000
DTEND;TZID=Europe/Athens:20230719T000000
DTSTAMP:20260422T210437
CREATED:20240912T123020Z
LAST-MODIFIED:20240912T123020Z
UID:10000380-1689724800-1689724800@www.uoc.gr
SUMMARY:Τελετή αποφοίτησης του Τμήματος Ιστορίας και Αρχαιολογίας του Πανεπιστημίου Κρήτης
DESCRIPTION:Η Κοσμήτορας της Φιλοσοφικής Σχολής\nΚαθηγήτρια Σταυρούλα Τσινόρεμα\nκαι\nο Πρόεδρος του Τμήματος\nΙστορίας και Αρχαιολογίας\nΑν. Καθηγητής Ηλίας Κολοβός\nσας προσκαλούν\nστην τελετή αποφοίτησης\nτου Τμήματος Ιστορίας και Αρχαιολογίας\nτην Τετάρτη\, 19 Ιουλίου 2023\nώρα 11:30\nστο αμφιθέατρο Δ3\nΠανεπιστημιούπολη Γάλλου\nΡέθυμνο. \n  \nΠαρακαλούμε δείτε την Πρόσκληση στον ακόλουθο σύνδεσμο: \nhttp://news.uoc.gr/news/2023/06-07/Πρόσκληση_για_Τελετή_αποφοιτησης_19.7.2023_Ι-Α_.pdf
URL:https://www.uoc.gr/event/%cf%84%ce%b5%ce%bb%ce%b5%cf%84%ce%ae-%ce%b1%cf%80%ce%bf%cf%86%ce%bf%ce%af%cf%84%ce%b7%cf%83%ce%b7%cf%82-%cf%84%ce%bf%cf%85-%cf%84%ce%bc%ce%ae%ce%bc%ce%b1%cf%84%ce%bf%cf%82-%ce%b9%cf%83%cf%84%ce%bf/
END:VEVENT
BEGIN:VEVENT
DTSTART;TZID=Europe/Athens:20230719T000000
DTEND;TZID=Europe/Athens:20230719T000000
DTSTAMP:20260422T210437
CREATED:20240912T123023Z
LAST-MODIFIED:20240912T123023Z
UID:10000381-1689724800-1689724800@www.uoc.gr
SUMMARY:Τελετή αποφοίτησης του Τμήματος Φιλοσοφικών και Κοινωνικών Σπουδών του Πανεπιστημίου Κρήτης
DESCRIPTION:Η Κοσμήτορας της Φιλοσοφικής Σχολής\nΚαθηγήτρια Σταυρούλα Τσινόρεμα\nκαι\nο Πρόεδρος του Τμήματος\nΦιλοσοφικών και Κοινωνικών Σπουδών\nΚαθηγητής Παναγιώτης Θεοδώρου\nσας προσκαλούν\nστην τελετή αποφοίτησης\nτου Τμήματος\nΦιλοσοφικών και Κοινωνικών Σπουδών\nτην Τετάρτη\, 19 Ιουλίου 2023\nώρα 13:30\nστο αμφιθέατρο Δ3\nΠανεπιστημιούπολη Γάλλου\nΡέθυμνο. \n  \nΠαρακαλούμε δείτε την Πρόσκληση στον ακόλουθο σύνδεσμο: \nhttp://news.uoc.gr/news/2023/06-07/Πρόσκληση_για_Τελετή_αποφοιτησης_19.7.2023_ΦΚΣ_.pdf
URL:https://www.uoc.gr/event/%cf%84%ce%b5%ce%bb%ce%b5%cf%84%ce%ae-%ce%b1%cf%80%ce%bf%cf%86%ce%bf%ce%af%cf%84%ce%b7%cf%83%ce%b7%cf%82-%cf%84%ce%bf%cf%85-%cf%84%ce%bc%ce%ae%ce%bc%ce%b1%cf%84%ce%bf%cf%82-%cf%86%ce%b9%ce%bb%ce%bf-3/
END:VEVENT
BEGIN:VEVENT
DTSTART;TZID=Europe/Athens:20230719T000000
DTEND;TZID=Europe/Athens:20230719T000000
DTSTAMP:20260422T210437
CREATED:20240912T123023Z
LAST-MODIFIED:20240912T123023Z
UID:10000382-1689724800-1689724800@www.uoc.gr
SUMMARY:Τελετή αποφοίτησης του Τμήματος Φιλολογίας του Πανεπιστημίου Κρήτης
DESCRIPTION:Η Κοσμήτορας της Φιλοσοφικής Σχολής\nΚαθηγήτρια Σταυρούλα Τσινόρεμα\nκαι\no Πρόεδρος του Τμήματος\nΦιλολογίας\nΚαθηγητής Στέλιος Παναγιωτάκης\nσας προσκαλούν\nστην τελετή αποφοίτησης\nτου Τμήματος Φιλολογίας\nτην Τετάρτη\, 19 Ιουλίου 2023\nώρα 9:30\nστο αμφιθέατρο Δ3\nΠανεπιστημιούπολη Γάλλου\nΡέθυμνο. \nΠαρακαλούμε δείτε την Πρόσκληση στον ακόλουθο σύνδεσμο: \nhttp://news.uoc.gr/news/2023/06-07/Πρόσκληση_για_Τελετή_αποφοιτησης_19.7.2023_Φιλολογίας_.pdf \n 
URL:https://www.uoc.gr/event/%cf%84%ce%b5%ce%bb%ce%b5%cf%84%ce%ae-%ce%b1%cf%80%ce%bf%cf%86%ce%bf%ce%af%cf%84%ce%b7%cf%83%ce%b7%cf%82-%cf%84%ce%bf%cf%85-%cf%84%ce%bc%ce%ae%ce%bc%ce%b1%cf%84%ce%bf%cf%82-%cf%86%ce%b9%ce%bb%ce%bf-4/
END:VEVENT
BEGIN:VEVENT
DTSTART;TZID=Europe/Athens:20230721T000000
DTEND;TZID=Europe/Athens:20230721T000000
DTSTAMP:20260422T210437
CREATED:20240912T123009Z
LAST-MODIFIED:20240912T123009Z
UID:10000365-1689897600-1689897600@www.uoc.gr
SUMMARY:Τελετή αποφοίτησης των προπτυχιακών και μεταπτυχιακών φοιτητών του Τμήματος Μαθηματικών και Εφαρμοσμένων Μαθηματικών του Πανεπιστημίου Κρήτης
DESCRIPTION:Τελετή αποφοίτησης των προπτυχιακών και μεταπτυχιακών φοιτητών του Τμήματος Μαθηματικών και Εφαρμοσμένων Μαθηματικών του Πανεπιστημίου Κρήτης\, θα πραγματοποιηθεί την Παρασκευή 21 Ιουλίου 2023\, ώρα 11:00 π.μ. στο «Αμφιθέατρο Ν. Πετρίδη» Κτίριο Τμήματος Μαθηματικών και Εφαρμοσμένων Μαθηματικών.
URL:https://www.uoc.gr/event/%cf%84%ce%b5%ce%bb%ce%b5%cf%84%ce%ae-%ce%b1%cf%80%ce%bf%cf%86%ce%bf%ce%af%cf%84%ce%b7%cf%83%ce%b7%cf%82-%cf%84%cf%89%ce%bd-%cf%80%cf%81%ce%bf%cf%80%cf%84%cf%85%cf%87%ce%b9%ce%b1%ce%ba%cf%8e%ce%bd/
END:VEVENT
BEGIN:VEVENT
DTSTART;TZID=Europe/Athens:20230721T000000
DTEND;TZID=Europe/Athens:20230721T000000
DTSTAMP:20260422T210437
CREATED:20240912T123012Z
LAST-MODIFIED:20240912T123012Z
UID:10000370-1689897600-1689897600@www.uoc.gr
SUMMARY:Πρόσκληση Ορκωμοσίας- Απονομή Διδακτορικών Διπλωμάτων\, Μεταπτυχιακών Διπλωμάτων και Πτυχίων του Τμήματος Επιστήμης Υπολογιστών
DESCRIPTION:Η  τελετή θα γίνει την Παρασκευή 21 Ιουλίου 2023 στις 14.00 το μεσημέρι στο Αμφιθέατρο “Ν. Πετρίδης” στο κτίριο του Τμήματος Μαθηματικών και Εφαρμοσμένων Μαθηματικών\, στην Πανεπιστημιούπολη Βουτών στο Ηράκλειο με φυσική παρουσία. \n  \nΠαρακαλούμε δείτε το σχετικό αρχείο: \nhttp://news.uoc.gr/news/2023/12-07/Prosklhsh_orkwmosiasCSD_21_07-2023_14_00_AMFITHEATRO_PETRIDISnew.pdf \n 
URL:https://www.uoc.gr/event/%cf%80%cf%81%cf%8c%cf%83%ce%ba%ce%bb%ce%b7%cf%83%ce%b7-%ce%bf%cf%81%ce%ba%cf%89%ce%bc%ce%bf%cf%83%ce%af%ce%b1%cf%82-%ce%b1%cf%80%ce%bf%ce%bd%ce%bf%ce%bc%ce%ae-%ce%b4%ce%b9%ce%b4%ce%b1%ce%ba%cf%84-2/
END:VEVENT
BEGIN:VEVENT
DTSTART;TZID=Europe/Athens:20230721T000000
DTEND;TZID=Europe/Athens:20230721T000000
DTSTAMP:20260422T210437
CREATED:20240912T123017Z
LAST-MODIFIED:20240912T123017Z
UID:10000373-1689897600-1689897600@www.uoc.gr
SUMMARY:Τελετή Ορκωμοσίας του Τμήματος Ψυχολογίας του Πανεπιστημίου Κρήτης
DESCRIPTION:Η τελετή θα πραγµατοποιηθεί\nτην Παρασκευή 21 Ιουλίου 2023\nκαι ώρα 10.00 π.µ.\nστο Θέατρο «Ερωφίλη»\nστη Φορτέτζα Ρεθύµνου. \n  \nΠαρακαλούμε δείτε το σχετικό αρχείο: \nhttp://news.uoc.gr/news/2023/11-07/ΠΡΟΣΚΛΗΣΗ_ΟΡΚΩΜΟΣΙΑΣ_ΤΜΗΜΑΤΟΣ_ΨΥΧΟΛΟΓΙΑΣ_21-07-2023.pdf
URL:https://www.uoc.gr/event/%cf%84%ce%b5%ce%bb%ce%b5%cf%84%ce%ae-%ce%bf%cf%81%ce%ba%cf%89%ce%bc%ce%bf%cf%83%ce%af%ce%b1%cf%82-%cf%84%ce%bf%cf%85-%cf%84%ce%bc%ce%ae%ce%bc%ce%b1%cf%84%ce%bf%cf%82-%cf%88%cf%85%cf%87%ce%bf%ce%bb/
END:VEVENT
BEGIN:VEVENT
DTSTART;TZID=Europe/Athens:20230724T000000
DTEND;TZID=Europe/Athens:20230728T000000
DTSTAMP:20260422T210437
CREATED:20240912T123012Z
LAST-MODIFIED:20240912T123012Z
UID:10000367-1690156800-1690502400@www.uoc.gr
SUMMARY:Μαθαίνουμε για τα ΦΥΣΗ-καταστροφικά φαινόμενα (Μύθοι\, αλήθειες και παραμύθια) στις 24 Ιουλίου (για μαθητές Α΄ έως Γ΄ τάξη Δημοτικού)!
DESCRIPTION:_Καλοκαιρινά Εβδομαδιαία προγράμματα για μαθητές \n_Α΄ έως Γ΄ τάξη Δημοτικού \nστο Μουσείο Φυσικής Ιστορίας Κρήτης-Πανεπιστήμιο Κρήτης \n«ΦΥΣΗ-καταστροφικά φαινόμεναΜύθοι\, αλήθειες  και παραμύθια» \n Έχεις νιώσει ποτέ σεισμούς; Μήπως έχεις δει ποτέ ηφαίστειο να εκρήγνυται; Έχεις παρατηρήσει ουράνιο τόξο μετά τη βροχή; Είναι φαινόμενα που τα κοιτάμε με δέος;Ή απλώς  τα προσπερνάμε; Αυτά τα φαινόμενα επηρεάζουν την ζωή των ανθρώπων; Θετικά ή αρνητικά; Ποια συμβαίνουν στη χώρα μας; Παιχνίδια\, μύθοι\, πειράματα και κατασκευές θα μας βοηθήσουν να μάθουμε γι’ αυτά  και να διασκεδάσουμε παρέα.Εβδομάδα υλοποίησης: 24 – 28 Ιουλίου  \nΓια πληροφορίες και δηλώσεις συμμετοχής : Δευτέρα έως Παρασκευή\,10:00 – 14:00\, στο τηλέφωνο 2810 393630 \nΤιμή Συμμετοχής: 90 € ανά παιδίΜέλη του Συλλόγου Φίλων του ΜΦΙΚ / Εργαζόμενοι του Πανεπιστημίου Κρήτης / αδέρφια / σε περίπτωση συμμετοχής σε παραπάνω από ένα πρόγραμμα: 80 € ανά παιδί \nΛόγω των ολιγομελών ομάδων των παιδιών που παίρνουν μέρος στα Προγράμματα\, παρακαλούμε τους ενδιαφερόμενους γονείς να δηλώσουν έγκαιρα συμμετοχή.Στις κρατήσεις θα τηρηθεί σειρά προτεραιότητας. \nΚάθε εβδομαδιαίο καλοκαιρινό πρόγραμμα: \n\nυλοποιείται στον χώρο του Μουσείου στη Λεωφ. Σοφ. Βενιζέλου\nαπό Δευτέρα έως και Παρασκευή\nαπό τις 09:00 – 15:00 (με δυνατότητα προσέλευσης από τις 08.30)\nΤα υλικά των κατασκευών\, ο φάκελος με τα φυλλάδια δραστηριοτήτων\, τα αναμνηστικά μπλουζάκια και η αναμνηστική φωτογραφία της ομάδας προσφέρονται από το ΜΦΙΚ\, χωρίς επιπλέον χρέωση.\nΤην Παρασκευή\, ημέρα ολοκλήρωσης του εκπαιδευτικού προγράμματος\, το μεσημέρι από τις 13:00 έως τις 15:00 παιδιά και γονείς/κηδεμόνες μπορούν να περιηγηθούν στον εκθεσιακό χώρο του Μουσείου\, με ελεύθερη είσοδο.\n\n  \n  \n  \nΠαρακαλούμε δείτε το σχετικό αρχείο: \nhttp://news.uoc.gr/news/2023/17-07/WEB_Afisaki_gia_Kalokerina_2023-4.jpg \n 
URL:https://www.uoc.gr/event/%ce%bc%ce%b1%ce%b8%ce%b1%ce%af%ce%bd%ce%bf%cf%85%ce%bc%ce%b5-%ce%b3%ce%b9%ce%b1-%cf%84%ce%b1-%cf%86%cf%85%cf%83%ce%b7-%ce%ba%ce%b1%cf%84%ce%b1%cf%83%cf%84%cf%81%ce%bf%cf%86%ce%b9%ce%ba%ce%ac-%cf%86/
END:VEVENT
BEGIN:VEVENT
DTSTART;TZID=Europe/Athens:20230725T000000
DTEND;TZID=Europe/Athens:20230725T000000
DTSTAMP:20260422T210437
CREATED:20240912T123018Z
LAST-MODIFIED:20240912T123018Z
UID:10000375-1690243200-1690243200@www.uoc.gr
SUMMARY:Τελετή αποφοίτησης του Τμήματος Κοινωνιολογίας του Πανεπιστημίου Κρήτης
DESCRIPTION:Ο Κοσμήτορας της\nΣχολής Κοινωνικών Επιστημών\nΠανεπιστημίου Κρήτης\nΚαθηγητής Γεώργιος Παναγής\nκαι ο Πρόεδρος του\nΤμήματος Κοινωνιολογίας\nΚαθηγητής Γεώργιος Τσιώλης\nέχουν την τιμή να σας προσκαλέσουν στην\nΟΡΚΩΜΟΣΙΑ ΚΑΙ ΑΠΟΝΟΜΗ ΠΤΥΧΙΩΝ\nσε νέους αποφοίτους\nτου Τμήματος Κοινωνιολογίας\nπου θα πραγματοποιηθεί\nτην Τρίτη 25η Ιουλίου 2023\,\nώρα 11.30\, στο Αμφιθέατρο Δ3. \n  \nΠαρακαλούμε δείτε το σχετικό αρχείο: \nhttp://news.uoc.gr/news/2023/07-07/Πρόσκληση__Ορκωμοσίας_Τμήματος_Κοινωνιολογίας_25_7_2023.pdf
URL:https://www.uoc.gr/event/%cf%84%ce%b5%ce%bb%ce%b5%cf%84%ce%ae-%ce%b1%cf%80%ce%bf%cf%86%ce%bf%ce%af%cf%84%ce%b7%cf%83%ce%b7%cf%82-%cf%84%ce%bf%cf%85-%cf%84%ce%bc%ce%ae%ce%bc%ce%b1%cf%84%ce%bf%cf%82-%ce%ba%ce%bf%ce%b9%ce%bd/
END:VEVENT
BEGIN:VEVENT
DTSTART;TZID=Europe/Athens:20230726T000000
DTEND;TZID=Europe/Athens:20230726T000000
DTSTAMP:20260422T210437
CREATED:20240912T123017Z
LAST-MODIFIED:20240912T123017Z
UID:10000374-1690329600-1690329600@www.uoc.gr
SUMMARY:Τελετή αποφοίτησης του Τμήματος Πολιτικής Επιστήμης του Πανεπιστημίου Κρήτης
DESCRIPTION:Η  τελετή αποφοίτησης του\nΤμήματος Πολιτικής Επιστήμης θα πραγματοποιηθεί την Τετάρτη 26 Ιουλίου 2023\nΏρα 12:00 στο Αμφιθέατρο Δ3\nΠανεπιστημιούπολη Γάλλου στο  Ρέθυμνο. \nΠαρακαλούμε δείτε το σχετικό αρχείο: \nhttp://news.uoc.gr/news/2023/11-07/Πολιτικής_Επιστήμης_πρόσκληση_ορκωμοσίας.pdf
URL:https://www.uoc.gr/event/%cf%84%ce%b5%ce%bb%ce%b5%cf%84%ce%ae-%ce%b1%cf%80%ce%bf%cf%86%ce%bf%ce%af%cf%84%ce%b7%cf%83%ce%b7%cf%82-%cf%84%ce%bf%cf%85-%cf%84%ce%bc%ce%ae%ce%bc%ce%b1%cf%84%ce%bf%cf%82-%cf%80%ce%bf%ce%bb%ce%b9-2/
END:VEVENT
BEGIN:VEVENT
DTSTART;TZID=Europe/Athens:20230726T000000
DTEND;TZID=Europe/Athens:20230730T000000
DTSTAMP:20260422T210437
CREATED:20240912T123009Z
LAST-MODIFIED:20240912T123009Z
UID:10000364-1690329600-1690675200@www.uoc.gr
SUMMARY:Στο Ρέθυμνο...ξανά...μαζί! | Η μεγάλη συνάντηση των παλιών συμφοιτητριών & συμφοιτητών από τα Περιβόλια (1977-1998)
DESCRIPTION:Παρακαλούμε δείτε τα σχετικά αρχεία:
URL:https://www.uoc.gr/event/%cf%83%cf%84%ce%bf-%cf%81%ce%ad%ce%b8%cf%85%ce%bc%ce%bd%ce%bf-%ce%be%ce%b1%ce%bd%ce%ac-%ce%bc%ce%b1%ce%b6%ce%af-%ce%b7-%ce%bc%ce%b5%ce%b3%ce%ac%ce%bb%ce%b7-%cf%83%cf%85%ce%bd%ce%ac%ce%bd%cf%84/
END:VEVENT
BEGIN:VEVENT
DTSTART;TZID=Europe/Athens:20230727T000000
DTEND;TZID=Europe/Athens:20230727T000000
DTSTAMP:20260422T210437
CREATED:20240912T123008Z
LAST-MODIFIED:20240912T123008Z
UID:10000362-1690416000-1690416000@www.uoc.gr
SUMMARY:Πρόσκληση Ορκωμοσίας νέων Πτυχιούχων και Διπλωματούχων Τμήματος Χημείας του Πανεπιστημίου Κρήτης
DESCRIPTION:Πρόσκληση Ορκωμοσίας νέων\nΠτυχιούχων και Διπλωματούχων του Τμήματος Χημείας του Πανεπιστημίου Κρήτης θα πραγματοποιηθεί την Πέμπτη 27 Ιουλίου 2023\n11:00 π.μ. στο Αμφιθέατρο «Ν. Πετρίδης»\nΚτήριο Τμήματος Μαθηματικών\nκαι Εφαρμοσμένων Μαθηματικών. \n  \nΠαρακαλούμε δείτε το σχετικό αρχείο: \nhttp://news.uoc.gr/news/2023/26-07/Πρόσκληση_Ορκωμοσίας_27-7-2023_α.pdf
URL:https://www.uoc.gr/event/%cf%80%cf%81%cf%8c%cf%83%ce%ba%ce%bb%ce%b7%cf%83%ce%b7-%ce%bf%cf%81%ce%ba%cf%89%ce%bc%ce%bf%cf%83%ce%af%ce%b1%cf%82-%ce%bd%ce%ad%cf%89%ce%bd-%cf%80%cf%84%cf%85%cf%87%ce%b9%ce%bf%cf%8d%cf%87%cf%89/
END:VEVENT
BEGIN:VEVENT
DTSTART;TZID=Europe/Athens:20230727T000000
DTEND;TZID=Europe/Athens:20230727T000000
DTSTAMP:20260422T210437
CREATED:20240912T123012Z
LAST-MODIFIED:20240912T123012Z
UID:10000366-1690416000-1690416000@www.uoc.gr
SUMMARY:Τελετή Ορκωμοσίας των Πτυχιούχων του Τμήματος ΠΤΔΕ και των αποφοίτων του Μεταπτυχιακού Προγράμματος «Επιστήμες της Αγωγής»
DESCRIPTION:Τελετή Ορκωμοσίας\nτων Πτυχιούχων του Τμήματος και\nτων αποφοίτων του Μεταπτυχιακού Προγράμματος\n«Επιστήμες της Αγωγής» θα πραγματοποιηθεί την Πέμπτη 27 Ιουλίου 2023 και ώρα\nστις 10.00 π.μ. (πτυχιούχοι με επώνυμο από Α έως και Ν)\nστις 13.00 μ.μ. (πτυχιούχοι με επώνυμο από Ξ έως και Χ)\nστο αμφιθέατρο Δ3\nστην Πανεπιστημιούπολη Ρεθύμνου. \n  \nΠαρακαλούμε δείτε το σχετικό αρχείο: \nhttp://news.uoc.gr/news/2023/19-07/ΠΡΟΣΚΛΗΣΗ_ΟΡΚΩΜΟΣΙΑΣ_ΠΤΥΧΙΟΥΧΩΝ_ΠΤΔΕ_ΚΑΙ_ΑΠΟΝΟΜΗΣ_ΜΕΤΑΠΤΥΧΙΑΚΩΝ_ΔΙΠΛΩΜΑΤΩΝ_27.7.2023.pdf
URL:https://www.uoc.gr/event/%cf%84%ce%b5%ce%bb%ce%b5%cf%84%ce%ae-%ce%bf%cf%81%ce%ba%cf%89%ce%bc%ce%bf%cf%83%ce%af%ce%b1%cf%82-%cf%84%cf%89%ce%bd-%cf%80%cf%84%cf%85%cf%87%ce%b9%ce%bf%cf%8d%cf%87%cf%89%ce%bd-%cf%84%ce%bf%cf%85/
END:VEVENT
BEGIN:VEVENT
DTSTART;TZID=Europe/Athens:20230728T000000
DTEND;TZID=Europe/Athens:20230728T000000
DTSTAMP:20260422T210437
CREATED:20240912T123007Z
LAST-MODIFIED:20240912T123007Z
UID:10000360-1690502400-1690502400@www.uoc.gr
SUMMARY:Πρόσκληση Ορκωμοσίας- Απονομή Διπλωμάτων Μεταπτυχιακών Σπουδών και Πτυχίων Τμήματος Φυσικής
DESCRIPTION:ΑΛΛΑΓΗ ΧΩΡΟΥ ΔΙΕΞΑΓΩΓΗΣ ΤΗΣ ΤΕΛΕΤΗΣ ΟΡΚΩΜΟΣΙΑΣ ΠΤΥΧΙΟΥΧΩΝ ΤΟΥ ΤΜΗΜΑΤΟΣ ΦΥΣΙΚΗΣ\n  \nΛόγω βλάβης του κλιματισμού στο Αμφιθέατρο “Ν. Πετρίδης”\, η τελετή ορκωμοσίας πτυχιούχων του Τμήματος Φυσικής \nθα γίνει την ίδια ημέρα και ώρα στο Αμφιθέατρο “Α1” του Τμήματος Χημείας. \nΤο Αμφιθέατρο “Α1” του Τμήματος Χημείας βρίσκεται απέναντι από την κεντρική είσοδο του κτηρίου του Τμήματος Χημείας. \n  \n  \nΠρόσκληση Ορκωμοσίας\nΝέων Πτυχιούχων \n\nΠαρασκευή 28 Ιουλίου 2023\, ώρα 13:00 στο Αμφιθέατρο «Ν. Πετρίδης» στο κτήριο Τμήματος\nΜαθηματικών και Εφαρμοσμένων Μαθηματικών\,\nστην Πανεπιστημιούπολη Βουτών. \n  \nΠαρακαλούμε δείτε το σχετικό αρχείο: \nhttp://news.uoc.gr/news/2023/27-07/Πρόσκληση_Ορκωμοσίας_Ιούλιος_2023.pdf \n 
URL:https://www.uoc.gr/event/%cf%80%cf%81%cf%8c%cf%83%ce%ba%ce%bb%ce%b7%cf%83%ce%b7-%ce%bf%cf%81%ce%ba%cf%89%ce%bc%ce%bf%cf%83%ce%af%ce%b1%cf%82-%ce%b1%cf%80%ce%bf%ce%bd%ce%bf%ce%bc%ce%ae-%ce%b4%ce%b9%cf%80%ce%bb%cf%89%ce%bc-6/
END:VEVENT
BEGIN:VEVENT
DTSTART;TZID=Europe/Athens:20230728T000000
DTEND;TZID=Europe/Athens:20230728T000000
DTSTAMP:20260422T210437
CREATED:20240912T123008Z
LAST-MODIFIED:20240912T123008Z
UID:10000361-1690502400-1690502400@www.uoc.gr
SUMMARY:Σκλαβόκαμπος 2023-2027\, αρχαιολογική έρευνα του Πανεπιστημίου Κρήτης
DESCRIPTION:Πρόσκληση στην εκδήλωση του κλεισίματος της πρώτης ανασκαφικής περιόδου του ερευνητικού\, αρχαιολογικού προγράμματος στον Σκλαβόκαμπο Μαλεβιζίου (2023-2027) του Πανεπιστημίου Κρήτης.  \n  \n 
URL:https://www.uoc.gr/event/%cf%83%ce%ba%ce%bb%ce%b1%ce%b2%cf%8c%ce%ba%ce%b1%ce%bc%cf%80%ce%bf%cf%82-2023-2027-%ce%b1%cf%81%cf%87%ce%b1%ce%b9%ce%bf%ce%bb%ce%bf%ce%b3%ce%b9%ce%ba%ce%ae-%ce%ad%cf%81%ce%b5%cf%85%ce%bd%ce%b1-%cf%84/
END:VEVENT
BEGIN:VEVENT
DTSTART;TZID=Europe/Athens:20230728T000000
DTEND;TZID=Europe/Athens:20230728T000000
DTSTAMP:20260422T210437
CREATED:20240912T123008Z
LAST-MODIFIED:20240912T123008Z
UID:10000363-1690502400-1690502400@www.uoc.gr
SUMMARY:Ορκωμοσία και απονομή πτυχίων στους νέους διδάκτορες\, αποφοίτους Προγραμμάτων Μεταπτυχιακών Σπουδών της Ιατρκής Σχολής
DESCRIPTION:Ορκωμοσία και απονομή πτυχίων\nστους νέους διδάκτορες\,\nαποφοίτους Προγραμμάτων Μεταπτυχιακών Σπουδών\nκαι αποφοίτους της Ιατρικής Σχολής θα πραγματοποιηθεί\nτην Παρασκευή 28 Ιουλίου 2023 και ώρα 19.00\nστο υπαίθριο αμφιθέατρο της Σχολής. \nΣτο χώρο της Σχολής στην πτέρυγα της Διοίκησης είναι επισκέψιμη έκθεση\nφωτογραφικού υλικού από το Ιστορικό Αρχείο της Σχολής
URL:https://www.uoc.gr/event/%ce%bf%cf%81%ce%ba%cf%89%ce%bc%ce%bf%cf%83%ce%af%ce%b1-%ce%ba%ce%b1%ce%b9-%ce%b1%cf%80%ce%bf%ce%bd%ce%bf%ce%bc%ce%ae-%cf%80%cf%84%cf%85%cf%87%ce%af%cf%89%ce%bd-%cf%83%cf%84%ce%bf%cf%85%cf%82-%ce%bd/
END:VEVENT
BEGIN:VEVENT
DTSTART;TZID=Europe/Athens:20230728T000000
DTEND;TZID=Europe/Athens:20230728T000000
DTSTAMP:20260422T210437
CREATED:20240912T123012Z
LAST-MODIFIED:20240912T123012Z
UID:10000368-1690502400-1690502400@www.uoc.gr
SUMMARY:Πρόσκληση ορκωμοσίας του Τμήματος Βιολογίας του Πανεπιστημίου Κρήτης
DESCRIPTION:Πρόσκληση Ορκωμοσίας\nνέων Πτυχιούχων του Τμήματος Βιολογίας του Πανεπιστημίου Κρήτης θα πραγματοποιηθεί την Παρασκευή 28 Ιουλίου 2023\nώρα 11:00 στο Αμφιθέατρο «Πετρίδη» στο Κτήριο Τμήματος Μαθηματικών & Εφαρμοσμένων\nΜαθηματικών Π.Κ. \n  \nΠαρακαλούμε δείτε το σχετικό αρχείο: \nhttp://news.uoc.gr/news/2023/17-07/Πρόσκληση_Ορκωμοσίας_Ιούλιος_2023-1.pdf
URL:https://www.uoc.gr/event/%cf%80%cf%81%cf%8c%cf%83%ce%ba%ce%bb%ce%b7%cf%83%ce%b7-%ce%bf%cf%81%ce%ba%cf%89%ce%bc%ce%bf%cf%83%ce%af%ce%b1%cf%82-%cf%84%ce%bf%cf%85-%cf%84%ce%bc%ce%ae%ce%bc%ce%b1%cf%84%ce%bf%cf%82-%ce%b2%ce%b9/
END:VEVENT
END:VCALENDAR