BEGIN:VCALENDAR
VERSION:2.0
PRODID:-//Πανεπιστήμιο Κρήτης - ECPv6.15.10//NONSGML v1.0//EN
CALSCALE:GREGORIAN
METHOD:PUBLISH
X-ORIGINAL-URL:https://www.uoc.gr/
X-WR-CALDESC:Events for Πανεπιστήμιο Κρήτης
REFRESH-INTERVAL;VALUE=DURATION:PT1H
X-Robots-Tag:noindex
X-PUBLISHED-TTL:PT1H
BEGIN:VTIMEZONE
TZID:Europe/Athens
BEGIN:DAYLIGHT
TZOFFSETFROM:+0200
TZOFFSETTO:+0300
TZNAME:EEST
DTSTART:20220327T010000
END:DAYLIGHT
BEGIN:STANDARD
TZOFFSETFROM:+0300
TZOFFSETTO:+0200
TZNAME:EET
DTSTART:20221030T010000
END:STANDARD
BEGIN:DAYLIGHT
TZOFFSETFROM:+0200
TZOFFSETTO:+0300
TZNAME:EEST
DTSTART:20230326T010000
END:DAYLIGHT
BEGIN:STANDARD
TZOFFSETFROM:+0300
TZOFFSETTO:+0200
TZNAME:EET
DTSTART:20231029T010000
END:STANDARD
BEGIN:DAYLIGHT
TZOFFSETFROM:+0200
TZOFFSETTO:+0300
TZNAME:EEST
DTSTART:20240331T010000
END:DAYLIGHT
BEGIN:STANDARD
TZOFFSETFROM:+0300
TZOFFSETTO:+0200
TZNAME:EET
DTSTART:20241027T010000
END:STANDARD
END:VTIMEZONE
BEGIN:VEVENT
DTSTART;TZID=Europe/Athens:20230829T000000
DTEND;TZID=Europe/Athens:20230829T000000
DTSTAMP:20260422T173920
CREATED:20240912T123006Z
LAST-MODIFIED:20240912T123006Z
UID:10000358-1693267200-1693267200@www.uoc.gr
SUMMARY:ΗΜΕΡΙΔΑ ΟΒΙ ΜΕ ΘΕΜΑ: ΕΥΡΕΣΙΤΕΧΝΙΕΣ: Πηγή καινοτομίας & επιχειρηματικότητας
DESCRIPTION:Ο Οργανισμός Βιομηχανικής Ιδιοκτησίας (OBI-Hellenic Industrial Property Organisation) διοργανώνει ημερίδα την Τρίτη 29 Αυγούστου\, στις 18:00 το απόγευμα στην αίθουσα του Επιμελητηρίου Ηρακλείου. \n Ο ΟΒΙ καινοτομεί και έχει δημιουργήσει μια νέα υπηρεσία για τις νεοφυείς και μικρομεσαίες επιχειρήσεις\, προκειμένου να τις υποστηρίξει στην κατοχύρωση της ευρεσιτεχνίας τους. \nΣτην ημερίδα θα παρουσιαστούν δύο αναδυόμενοι κλάδοι για τους οποίους ο Οργανισμός Βιομηχανικής Ιδιοκτησίας (ΟΒΙ)\, εκπόνησε Αναφορές Ευρεσιτεχνίας (PLR).  \nΒΙΟΛΟΓΙΚΑ ΣΥΣΤΗΜΑΤΑ ΓΙΑ ΤΗ ΒΙΩΣΙΜΗ ΠΑΡΑΓΩΓΗ ΤΡΟΦΙΜΩΝ (AGRISCIENCE)  \nΕΝΑΛΛΑΚΤΙΚΕΣ ΜΟΡΦΕΣ ΕΝΕΡΓΕΙΑΣ ΑΠΟ ΘΑΛΑΣΣΙΟΥΣ ΠΟΡΟΥΣ \n  \nΠερισσότρες πληροφορίες στο Δελτίο Τύπου.
URL:https://www.uoc.gr/event/%ce%b7%ce%bc%ce%b5%cf%81%ce%b9%ce%b4%ce%b1-%ce%bf%ce%b2%ce%b9-%ce%bc%ce%b5-%ce%b8%ce%b5%ce%bc%ce%b1-%ce%b5%cf%85%cf%81%ce%b5%cf%83%ce%b9%cf%84%ce%b5%cf%87%ce%bd%ce%b9%ce%b5%cf%83-%cf%80%ce%b7%ce%b3/
END:VEVENT
END:VCALENDAR