BEGIN:VCALENDAR
VERSION:2.0
PRODID:-//Πανεπιστήμιο Κρήτης - ECPv6.15.10//NONSGML v1.0//EN
CALSCALE:GREGORIAN
METHOD:PUBLISH
X-WR-CALNAME:Πανεπιστήμιο Κρήτης
X-ORIGINAL-URL:https://www.uoc.gr/
X-WR-CALDESC:Events for Πανεπιστήμιο Κρήτης
REFRESH-INTERVAL;VALUE=DURATION:PT1H
X-Robots-Tag:noindex
X-PUBLISHED-TTL:PT1H
BEGIN:VTIMEZONE
TZID:Europe/Athens
BEGIN:DAYLIGHT
TZOFFSETFROM:+0200
TZOFFSETTO:+0300
TZNAME:EEST
DTSTART:20230326T010000
END:DAYLIGHT
BEGIN:STANDARD
TZOFFSETFROM:+0300
TZOFFSETTO:+0200
TZNAME:EET
DTSTART:20231029T010000
END:STANDARD
BEGIN:DAYLIGHT
TZOFFSETFROM:+0200
TZOFFSETTO:+0300
TZNAME:EEST
DTSTART:20240331T010000
END:DAYLIGHT
BEGIN:STANDARD
TZOFFSETFROM:+0300
TZOFFSETTO:+0200
TZNAME:EET
DTSTART:20241027T010000
END:STANDARD
BEGIN:DAYLIGHT
TZOFFSETFROM:+0200
TZOFFSETTO:+0300
TZNAME:EEST
DTSTART:20250330T010000
END:DAYLIGHT
BEGIN:STANDARD
TZOFFSETFROM:+0300
TZOFFSETTO:+0200
TZNAME:EET
DTSTART:20251026T010000
END:STANDARD
END:VTIMEZONE
BEGIN:VEVENT
DTSTART;TZID=Europe/Athens:20240110T000000
DTEND;TZID=Europe/Athens:20240110T000000
DTSTAMP:20260422T072446
CREATED:20240912T122842Z
LAST-MODIFIED:20240912T122842Z
UID:10000205-1704844800-1704844800@www.uoc.gr
SUMMARY:4η διαδικτυακή συνάντηση του ΚΕΔΙΜΑ-TotT του Πανεπιστημίου Κρήτης\, ακαδημαϊκού έτους 2023-2024
DESCRIPTION:H 4η διαδικτυακή συνάντηση ΚΕΔΙΜΑ-ΤotT ακαδημαϊκού έτους 2023-2024 θα πραγματοποιηθεί την Τετάρτη 10 Ιανουαρίου 2024 και ώρα 13:30 έως 15:00 με τίτλο: \n  \n  \n«Διαφοροποίηση της διδασκαλίας στην Τριτοβάθμια Εκπαίδευση» (μέρος 2ο) \n«Differentiated learning in Higher Education» (part 2) \n\n \n  \nΠαρακαλούμε δείτε το σχετικό αρχείο: \nhttp://news.uoc.gr/news/2024/08-01/Πρόσκληση_4ης_Διαδικτυακής_Συνάντησης_ΚΕΔΙΜΑ-TotT.pdf \n 
URL:https://www.uoc.gr/event/4%ce%b7-%ce%b4%ce%b9%ce%b1%ce%b4%ce%b9%ce%ba%cf%84%cf%85%ce%b1%ce%ba%ce%ae-%cf%83%cf%85%ce%bd%ce%ac%ce%bd%cf%84%ce%b7%cf%83%ce%b7-%cf%84%ce%bf%cf%85-%ce%ba%ce%b5%ce%b4%ce%b9%ce%bc%ce%b1-tott-%cf%84/
END:VEVENT
BEGIN:VEVENT
DTSTART;TZID=Europe/Athens:20240111T000000
DTEND;TZID=Europe/Athens:20240111T000000
DTSTAMP:20260422T072446
CREATED:20240912T122842Z
LAST-MODIFIED:20240912T122842Z
UID:10000204-1704931200-1704931200@www.uoc.gr
SUMMARY:4o Παλαιολιθικό Σεμινάριο
DESCRIPTION:4η  διάλεξη του Παλαιολιθικού Σεμιναρίου 2023-2024 \n  \nΠέμπτη 11/01/2024  \n  \nΟμιλία του Bernhard Zipfel\, διδάκτορα παλαιοανθρωπολογίας στο Πανεπιστήμιο του Βιτβάτερσραντ\, Νότια Αφρική\, με θέμα \n” The “Australopithecine Pebble of Many Faces” and its place in the Cradle of Humankind\, South Africa”. \n  \nΗ διάλεξη θα πραγματοποιηθεί στο Αμφιθέατρο του Μουσείου Μπενάκη Ελληνικού Πολιτισμού (Κουμπάρη 1 & Βασ. Σοφίας\, 106 74\, Αθήνα) και ώρα 19:00. \n  \nΓια περισσότερες πληροφορίες δείτε τα σχετικά αρχεία \nΑρχεία\n\nΑναγγελία – 72.43 KB\n4ο παλαιολιθικό Σεμινάριο – 599.83 KB
URL:https://www.uoc.gr/event/4o-%cf%80%ce%b1%ce%bb%ce%b1%ce%b9%ce%bf%ce%bb%ce%b9%ce%b8%ce%b9%ce%ba%cf%8c-%cf%83%ce%b5%ce%bc%ce%b9%ce%bd%ce%ac%cf%81%ce%b9%ce%bf/
END:VEVENT
BEGIN:VEVENT
DTSTART;TZID=Europe/Athens:20240117T000000
DTEND;TZID=Europe/Athens:20240117T000000
DTSTAMP:20260422T072446
CREATED:20240912T122842Z
LAST-MODIFIED:20240912T122842Z
UID:10000203-1705449600-1705449600@www.uoc.gr
SUMMARY:Ομιλία της Κάλλιας Κατσαμποξάκη-Hodgetts στο Star Scholars Network με τίτλο:
DESCRIPTION:Για περισσότερες πληροφορίες δείτε το σχετικό αρχείο
URL:https://www.uoc.gr/event/%ce%bf%ce%bc%ce%b9%ce%bb%ce%af%ce%b1-%cf%84%ce%b7%cf%82-%ce%ba%ce%ac%ce%bb%ce%bb%ce%b9%ce%b1%cf%82-%ce%ba%ce%b1%cf%84%cf%83%ce%b1%ce%bc%cf%80%ce%bf%ce%be%ce%ac%ce%ba%ce%b7-hodgetts-%cf%83%cf%84%ce%bf/
END:VEVENT
BEGIN:VEVENT
DTSTART;TZID=Europe/Athens:20240125T000000
DTEND;TZID=Europe/Athens:20240125T000000
DTSTAMP:20260422T072446
CREATED:20240912T122841Z
LAST-MODIFIED:20240912T122841Z
UID:10000201-1706140800-1706140800@www.uoc.gr
SUMMARY:Εικόνα και βιβλίο\, 16ος -18ος αι.
DESCRIPTION:Στη Βιβλιοθήκη του Πανεπιστημίου Κρήτης\, και στο πλαίσιο του\nΜεταπτυχιακού Προγράμματος στην Ιστορία της Τέχνης\, πραγματοποιείται μικρή\nέκθεση µε τίτλο Εικόνα και βιβλίο\, 16ος-18ος αιώνας\, με θέμα την εικονογράφηση\nπαλαιών βιβλίων με χαρακτικές αναπαραγωγές (ξυλογραφίες\, χαλκογραφίες και\nλιθογραφίες). Με στόχο την εύληπτη παρουσίαση αφενός της διαδικασίας\nεικονογράφησης εκδόσεων αφετέρου της ίδιας της παραγωγής χαρακτικών\, εκτίθεται\nμια ενδεικτική επιλογή εικονογραφημένων παλαιών βιβλίων\, ελληνικών και\nξενόγλωσσων\, από τις Κλειστές Συλλογές της Βιβλιοθήκης. \n\nΗ έκθεση θα εγκαινιαστεί την Πέμπτη 25 Ιανουαρίου 2024 και ώρα 13:30\nστον κεντρικό χώρο της Βιβλιοθήκης του Πανεπιστημίου Κρήτης στο Ρέθυμνο. Την\nεπιμέλεια της έκθεσης έχουν οι μεταπτυχιακοί φοιτητές Μαλαματένια Αικατερίνη\nΖωπίδου και Στέλιος Νιφορέλης και τον σχεδιασμό ανέλαβε η Νίκη Πετράκη\,\nυπεύθυνη του εργαστηρίου συντήρησης σπάνιων βιβλίων και αρχείων της\nΒιβλιοθήκης. Διάρκεια έκθεσης: 25/01/2024 – 30/04/2024\, ώρες λειτουργίας:\nΔευτέρα – Παρασκευή 9:00-20:00\, Σάββατο 9:00-15:00.
URL:https://www.uoc.gr/event/%ce%b5%ce%b9%ce%ba%cf%8c%ce%bd%ce%b1-%ce%ba%ce%b1%ce%b9-%ce%b2%ce%b9%ce%b2%ce%bb%ce%af%ce%bf-16%ce%bf%cf%82-18%ce%bf%cf%82-%ce%b1%ce%b9/
END:VEVENT
BEGIN:VEVENT
DTSTART;TZID=Europe/Athens:20240125T000000
DTEND;TZID=Europe/Athens:20240125T000000
DTSTAMP:20260422T072446
CREATED:20240912T122842Z
LAST-MODIFIED:20240912T122842Z
UID:10000202-1706140800-1706140800@www.uoc.gr
SUMMARY:Διαδικτυακή διάλεξη του κυρίου Γιώργου Μπάλια\, Αναπλ. Καθηγητή Περιβαλλοντικής Πολιτικής\, Χαροκόπειο Πανεπιστήμιο με θέμα: Κλίμα και βιοποικιλότητα: Κοινή πρόκληση
DESCRIPTION:Παρακολούθηση / Συμμετοχή διαδικτυακά με εγγραφή στον παρακάτω σύνδεσμο:http://ww2.fks.uoc.gr/f/b-balias-20240125\n  \nΠέμπτη\, 25 Ιανουαρίου\, ώρα 15.00
URL:https://www.uoc.gr/event/%ce%b4%ce%b9%ce%b1%ce%b4%ce%b9%ce%ba%cf%84%cf%85%ce%b1%ce%ba%ce%ae-%ce%b4%ce%b9%ce%ac%ce%bb%ce%b5%ce%be%ce%b7-%cf%84%ce%bf%cf%85-%ce%ba%cf%85%cf%81%ce%af%ce%bf%cf%85-%ce%b3%ce%b9%cf%8e%cf%81%ce%b3/
END:VEVENT
BEGIN:VEVENT
DTSTART;TZID=Europe/Athens:20240126T000000
DTEND;TZID=Europe/Athens:20240126T000000
DTSTAMP:20260422T072446
CREATED:20240912T122844Z
LAST-MODIFIED:20240912T122844Z
UID:10000206-1706227200-1706227200@www.uoc.gr
SUMMARY:Webinar: Horizon Europe-WIDERA Work Programme 2024
DESCRIPTION:Παρακαλούμε δείτε το σχετικό αρχείο: \nhttp://news.uoc.gr/news/2023/19-12/Webinar_UoC.pdf \n  \nΠαρακαλώ ενημερωθείτε από το επισυναπτόμενο αρχείο για τη διεξαγωγή του  Webinar με τίτλο “Horizon Europe – Widera Work Programme  2024”.
URL:https://www.uoc.gr/event/webinar-horizon-europe-widera-work-programme-2024/
END:VEVENT
BEGIN:VEVENT
DTSTART;TZID=Europe/Athens:20240131T000000
DTEND;TZID=Europe/Athens:20240131T000000
DTSTAMP:20260422T072446
CREATED:20240912T122840Z
LAST-MODIFIED:20240912T122840Z
UID:10000200-1706659200-1706659200@www.uoc.gr
SUMMARY:Φιλοσοφία\, ιατρική θεωρία και πράξη στον αρχαίο κόσμο και στην σύγχρονη εποχή
DESCRIPTION:Κύκλος διαλέξεων: Φιλοσοφία και επιστήμη \nΗ Σχολή Ανθρωπιστικών Επιστημών του Ελληνικού\nΑνοικτού Πανεπιστημίου \nσε συνεργασία με το Κέντρο Ελληνικού και\nΚινεζικού Πολιτισμού \nκαι το Εργαστήριο Φιλοσοφικής Έρευνας και\nΜετάφρασης του Πανεπιστημίου Κρήτης \nσας προσκαλεί στην εκδήλωση με τίτλο  \nΦιλοσοφία\,\nιατρική θεωρία και πράξη στον αρχαίο κόσμο και στην σύγχρονη εποχή  \nτην Τετάρτη 31.1.2024 και ώρα: 17:00 – 19:00\, \nστην Αίθουσα Εκδηλώσεων του Παραρτήματος\nΑθήνας του ΕΑΠ (Γραβιάς 4-6\, Εξάρχεια). \nΣτην\nεκδήλωση θα προβληθεί το ντοκιμαντέρ: Health and healing in\nAncient Greece and China (Σκηνοθεσία: Μαρία Γιαννούλη). \nΘα\nακολουθήσει συζήτηση για την σχέση φιλοσοφίας και επιστήμης στην αρχαιότητα και\nστην σύγχρονη εποχή με τους ακόλουθους ομιλητές: \n– Χλόη\nΜπαλλα (Καθηγήτρια Τμήματος Φιλοσοφικών & Κοινωνικών Σπουδών Παν/μίου\nΚρήτης) \n– Γιάννης\nΠίσσης (Επίκουρος Καθηγητής Τμήματος Φιλοσοφικών & Κοινωνικών Σπουδών\nΠαν/μίου Κρήτης Παν/ Κρήτης) \n– Στασινός\nΣταυριανέας (Επίκουρος Καθηγητής Σχολής Ανθρωπιστικών Επιστημών του ΕΑΠ).
URL:https://www.uoc.gr/event/%cf%86%ce%b9%ce%bb%ce%bf%cf%83%ce%bf%cf%86%ce%af%ce%b1-%ce%b9%ce%b1%cf%84%cf%81%ce%b9%ce%ba%ce%ae-%ce%b8%ce%b5%cf%89%cf%81%ce%af%ce%b1-%ce%ba%ce%b1%ce%b9-%cf%80%cf%81%ce%ac%ce%be%ce%b7-%cf%83%cf%84/
END:VEVENT
END:VCALENDAR