BEGIN:VCALENDAR
VERSION:2.0
PRODID:-//Πανεπιστήμιο Κρήτης - ECPv6.15.10//NONSGML v1.0//EN
CALSCALE:GREGORIAN
METHOD:PUBLISH
X-WR-CALNAME:Πανεπιστήμιο Κρήτης
X-ORIGINAL-URL:https://www.uoc.gr/
X-WR-CALDESC:Events for Πανεπιστήμιο Κρήτης
REFRESH-INTERVAL;VALUE=DURATION:PT1H
X-Robots-Tag:noindex
X-PUBLISHED-TTL:PT1H
BEGIN:VTIMEZONE
TZID:Europe/Athens
BEGIN:DAYLIGHT
TZOFFSETFROM:+0200
TZOFFSETTO:+0300
TZNAME:EEST
DTSTART:20230326T010000
END:DAYLIGHT
BEGIN:STANDARD
TZOFFSETFROM:+0300
TZOFFSETTO:+0200
TZNAME:EET
DTSTART:20231029T010000
END:STANDARD
BEGIN:DAYLIGHT
TZOFFSETFROM:+0200
TZOFFSETTO:+0300
TZNAME:EEST
DTSTART:20240331T010000
END:DAYLIGHT
BEGIN:STANDARD
TZOFFSETFROM:+0300
TZOFFSETTO:+0200
TZNAME:EET
DTSTART:20241027T010000
END:STANDARD
BEGIN:DAYLIGHT
TZOFFSETFROM:+0200
TZOFFSETTO:+0300
TZNAME:EEST
DTSTART:20250330T010000
END:DAYLIGHT
BEGIN:STANDARD
TZOFFSETFROM:+0300
TZOFFSETTO:+0200
TZNAME:EET
DTSTART:20251026T010000
END:STANDARD
END:VTIMEZONE
BEGIN:VEVENT
DTSTART;TZID=Europe/Athens:20240605T000000
DTEND;TZID=Europe/Athens:20240605T000000
DTSTAMP:20260421T071814
CREATED:20240912T122641Z
LAST-MODIFIED:20240912T122641Z
UID:10000035-1717545600-1717545600@www.uoc.gr
SUMMARY:Πρόσκληση παρακολούθησης της 8ης διαδικτυακής συνάντησης του ΚΕΔΙΜΑ-TotT του Πανεπιστημίου Κρήτης\, ακαδημαϊκού έτους 2023-2024
DESCRIPTION:Πρόσκληση για την παρακολούθηση της 8ης διαδικτυακής συνάντησης ΚΕΔΙΜΑ-ΤotT ακαδημαϊκού έτους 2023-2024 που θα πραγματοποιηθεί την Τετάρτη 5 Ιουνίου 2024 και ώρα 16:00 έως 17:30 με τίτλο: \n  \n«Έρευνα Δράση\, ακαδημαϊκός γραμματισμός και επαγγελματική ανάπτυξη: Οι φοιτητές/τριες ως συνερευνητές στην Τριτοβάθμια Εκπαίδευση» \n  \nΠαρακαλώ για την ανάρτηση  της συνημμένης πρόσκλησης στο ιστότοπο αρμοδιότητας σας προς ενημέρωση της ακαδημαϊκής κοινότητας.
URL:https://www.uoc.gr/event/%cf%80%cf%81%cf%8c%cf%83%ce%ba%ce%bb%ce%b7%cf%83%ce%b7-%cf%80%ce%b1%cf%81%ce%b1%ce%ba%ce%bf%ce%bb%ce%bf%cf%8d%ce%b8%ce%b7%cf%83%ce%b7%cf%82-%cf%84%ce%b7%cf%82-8%ce%b7%cf%82-%ce%b4%ce%b9%ce%b1%ce%b4/
END:VEVENT
BEGIN:VEVENT
DTSTART;TZID=Europe/Athens:20240605T000000
DTEND;TZID=Europe/Athens:20240605T000000
DTSTAMP:20260421T071814
CREATED:20240912T122641Z
LAST-MODIFIED:20240912T122641Z
UID:10000036-1717545600-1717545600@www.uoc.gr
SUMMARY:«ΤΟ ΤΡΙΠΤΥΧΟ ΑΣΘΕΝΗΣ-ΝΟΣΟΣ-ΓΙΑΤΡΟΣ ΣΤΟ ΘΕΑΤΡΟ & ΤΟΝ ΚΙΝΗΜΑΤΟΓΡΑΦΟ»
DESCRIPTION:Στο πλαίσιο του Κύκλου Σεμιναρίων\, που διοργανώνεται από το Μουσείο Ιατρικής Κρήτης σε συνεργασία με το ΚΕΜΕ\, θα πραγματοποιηθεί το τέταρτο webinar για το νέο ακαδημαϊκό έτος\, την Τετάρτη 5 Ιουνίου 2024\, στις 19.00\, με τίτλο: \n«ΤΟ ΤΡΙΠΤΥΧΟ ΑΣΘΕΝΗΣ-ΝΟΣΟΣ-ΓΙΑΤΡΟΣ ΣΤΟ ΘΕΑΤΡΟ & ΤΟΝ ΚΙΝΗΜΑΤΟΓΡΑΦΟ» \nΠροσκεκλημένοι ομιλητές είναι ο Ιωσήφ Βιβιλάκης\, Καθηγητής Τμήματος Θεατρικών Σπουδών ΕΚΠΑ\, ο Σταύρος Ψυλλάκης\, σκηνοθέτης κινηματογράφου\, και ο Κώστας Καστανάς\, ηθοποιός. \n  \nΤο πρόγραμμα του webinar είναι το ακόλουθο: \n  \nΙωσήφ Βιβιλάκης\, «Θέατρο και θεραπεία» \n  \nΣταύρος Ψυλλάκης\, “Ο ασθενής και η νόσος μέσα από την κινηματογραφική ματιά ή «ό\,τι περιγράφω\, με περιγράφει»” \n  \nΚώστας Καστανάς\,  «Η νόσος στον ρόλο και η διαχείρισή της από τον ηθοποιό» \n  \nΓια την παρακολούθηση του σεμιναρίου ο σύνδεσμος είναι: \nhttps://uoc-gr.zoom.us/j/82656109692?pwd=qJHJFjbmG3Vdn09AAhCvuLRI8Du5fn.1 \n  \nΠληροφορίες: Βασιλική Καμπουρέλλη\, Μουσείο Ιατρικής Κρήτης\, τηλ/νο:  2810-394680\, e-mail: v.kampourelli@uoc.gr \n 
URL:https://www.uoc.gr/event/%cf%84%ce%bf-%cf%84%cf%81%ce%b9%cf%80%cf%84%cf%85%cf%87%ce%bf-%ce%b1%cf%83%ce%b8%ce%b5%ce%bd%ce%b7%cf%83-%ce%bd%ce%bf%cf%83%ce%bf%cf%83-%ce%b3%ce%b9%ce%b1%cf%84%cf%81%ce%bf%cf%83-%cf%83%cf%84/
END:VEVENT
BEGIN:VEVENT
DTSTART;TZID=Europe/Athens:20240605T000000
DTEND;TZID=Europe/Athens:20240605T000000
DTSTAMP:20260421T071814
CREATED:20240912T122648Z
LAST-MODIFIED:20240912T122648Z
UID:10000045-1717545600-1717545600@www.uoc.gr
SUMMARY:Βιωματικό Σεμινάριο για Διοικητικούς Υπαλλήλους στο Ρέθυμνο | ΄΄Εκπαίδευση σε Τεχνικές Χαλάρωσης "
DESCRIPTION:Το Συμβουλευτικό Κέντρο Φοιτητών Ρεθύμνου προγραμματίζει νέο βιωματικό σεμινάριο δύο (2) συναντήσεων  για τους Διοικητικούς Υπαλλήλους της Πανεπιστημιούπολης Γάλλου με θέμα: ΄΄Εκπαίδευση σε Τεχνικές Χαλάρωσης “. \nτο οποίο θα διεξαχθεί την Τετάρτη 05/06/2024 & την Πέμπτη 13/06/2024 και ώρα 1.30- 2.30 στο χώρο του ΚΔΑΠ (δίπλα από το Συμβουλευτικό). \nΓια τις δηλώσεις συμμετοχής παρακαλούμε καταχωρήστε τα στοιχεία σας στο σύνδεσμο:     https://docs.google.com/forms/d/17FoMreWbZpurwPw-xY-S_i_DsaSQ1CJwGPbff7GyOL0/edit   έως 04 Ιουνίου 2024.
URL:https://www.uoc.gr/event/%ce%b2%ce%b9%cf%89%ce%bc%ce%b1%cf%84%ce%b9%ce%ba%cf%8c-%cf%83%ce%b5%ce%bc%ce%b9%ce%bd%ce%ac%cf%81%ce%b9%ce%bf-%ce%b3%ce%b9%ce%b1-%ce%b4%ce%b9%ce%bf%ce%b9%ce%ba%ce%b7%cf%84%ce%b9%ce%ba%ce%bf%cf%8d/
END:VEVENT
BEGIN:VEVENT
DTSTART;TZID=Europe/Athens:20240607T000000
DTEND;TZID=Europe/Athens:20240607T000000
DTSTAMP:20260421T071814
CREATED:20240912T122641Z
LAST-MODIFIED:20240912T122641Z
UID:10000034-1717718400-1717718400@www.uoc.gr
SUMMARY:ΠΡΟΒΟΛΗ ΝΤΟΚΙΜΑΝΤΕΡ - Τμήμα Κοινωνιολογίας και Κέντρο Ανθρωπίνων Δικαιωμάτων του Τμήματος Πολιτικής Επιστήμης
DESCRIPTION:Την Παρασκευή 7 Ιουνίου\, 20:30 Σπίτι του Πολιτισμού (Εμμ. Βερνάρδου 12)\,Το Τμήμα Κοινωνιολογίας και το Κέντρο Ανθρωπίνων Δικαιωμάτων του Τμήματος Πολιτικής Επιστήμης του Πανεπιστημίου Κρήτης διοργανώνουν: \nΠΡΟΒΟΛΗ ΝΤΟΚΙΜΑΝΤΕΡ  \nΑΚΟΕ/ΑΜΦΙ: Η ιστορία μιας Επανάστασης \nΔείτε τα συνημμένα αρχεία που βρίσκονται στις παρακάτω υπερ-συνδέσεις : \nhttps://news.uoc.gr/news/2024/03-06/ΔΤ_Ντοκιμαντέρ_ΑΜΦΙ.pdf \n  \nhttps://news.uoc.gr/news/2024/03-06/POSTER_AMFI_FINAL_(1).png \n  \n  \n  \n  \n 
URL:https://www.uoc.gr/event/%cf%80%cf%81%ce%bf%ce%b2%ce%bf%ce%bb%ce%b7-%ce%bd%cf%84%ce%bf%ce%ba%ce%b9%ce%bc%ce%b1%ce%bd%cf%84%ce%b5%cf%81-%cf%84%ce%bc%ce%ae%ce%bc%ce%b1-%ce%ba%ce%bf%ce%b9%ce%bd%cf%89%ce%bd%ce%b9%ce%bf%ce%bb/
END:VEVENT
BEGIN:VEVENT
DTSTART;TZID=Europe/Athens:20240608T000000
DTEND;TZID=Europe/Athens:20240609T000000
DTSTAMP:20260421T071814
CREATED:20240912T122641Z
LAST-MODIFIED:20240912T122641Z
UID:10000033-1717804800-1717891200@www.uoc.gr
SUMMARY:HYBRID WORKSHOP TRACTATUS LOGICO-PHILOSOPHICUS. AFTER THE FIRST 100 YEARS\, 8-9 June 2024
DESCRIPTION:HYBRID WORKSHOP\nTRACTATUS LOGICO-PHILOSOPHICUS\n \nAFTER THE FIRST 100 YEARS\n \n08-09 June 2024 \n\nΣ1 Room\, Department of Philosophy\, Gallos Campus\, Rethymno \n\nJoin Zoom Meeting: http://ww2.fks.uoc.gr/f/wittgenstein2024 \nΔείτε τα συνημμένα αρχεία που βρίσκονται στις παρακάτω υπερ-συνδέσεις : \nhttps://news.uoc.gr/news/2024/03-06/Poster_electronic_3_June.pdf \n  \nhttps://news.uoc.gr/news/2024/03-06/Microsoft_Word_-_Program_electronic_3_June.pdf
URL:https://www.uoc.gr/event/hybrid-workshop-tractatus-logico-philosophicus-after-the-first-100-years-8-9-june-2024/
END:VEVENT
BEGIN:VEVENT
DTSTART;TZID=Europe/Athens:20240613T000000
DTEND;TZID=Europe/Athens:20240613T000000
DTSTAMP:20260421T071814
CREATED:20240912T122648Z
LAST-MODIFIED:20240912T122648Z
UID:10000046-1718236800-1718236800@www.uoc.gr
SUMMARY:Βιωματικό Σεμινάριο για Διοικητικούς Υπαλλήλους στο Ρέθυμνο | ΄΄Εκπαίδευση σε Τεχνικές Χαλάρωσης "
DESCRIPTION:Το Συμβουλευτικό Κέντρο Φοιτητών Ρεθύμνου προγραμματίζει νέο βιωματικό σεμινάριο δύο (2) συναντήσεων  για τους Διοικητικούς Υπαλλήλους της Πανεπιστημιούπολης Γάλλου με θέμα: ΄΄Εκπαίδευση σε Τεχνικές Χαλάρωσης “. \nτο οποίο θα διεξαχθεί την Τετάρτη 05/06/2024 & την Πέμπτη 13/06/2024 και ώρα 1.30- 2.30 στο χώρο του ΚΔΑΠ (δίπλα από το Συμβουλευτικό). \nΓια τις δηλώσεις συμμετοχής παρακαλούμε καταχωρήστε τα στοιχεία σας στο σύνδεσμο:     https://docs.google.com/forms/d/17FoMreWbZpurwPw-xY-S_i_DsaSQ1CJwGPbff7GyOL0/edit   έως 04 Ιουνίου 2024.
URL:https://www.uoc.gr/event/%ce%b2%ce%b9%cf%89%ce%bc%ce%b1%cf%84%ce%b9%ce%ba%cf%8c-%cf%83%ce%b5%ce%bc%ce%b9%ce%bd%ce%ac%cf%81%ce%b9%ce%bf-%ce%b3%ce%b9%ce%b1-%ce%b4%ce%b9%ce%bf%ce%b9%ce%ba%ce%b7%cf%84%ce%b9%ce%ba%ce%bf%cf%8d-2/
END:VEVENT
BEGIN:VEVENT
DTSTART;TZID=Europe/Athens:20240617T000000
DTEND;TZID=Europe/Athens:20240617T000000
DTSTAMP:20260421T071814
CREATED:20240912T122639Z
LAST-MODIFIED:20240912T122639Z
UID:10000031-1718582400-1718582400@www.uoc.gr
SUMMARY:Building Domain-Specific Operating Systems for Low Tail Latency and the μs-scale Era
DESCRIPTION:🗣Speaker: Marios Kogias\, Imperial College London \n  \n📍Location: “Stelios Orphanoudakis” Meeting Room (FORTH) \n📆Date: Monday June 17th\, 2024 \n🕛Time: 12:00-13:00 \n👤Host: Kostas Magoutis \nAbstract: Online services play a major role in our everyday lives for communication\, entertainment\, socializing\, e-commerce\, etc. These services run inside datacenters under strict tail-latency service level objectives. In this talk\, I will discuss the different types of queueing inside a modern datacenter and focus on how to deal with queueing on a single server by design domain-specific operating systems for latency-critical datacenter applications. I will explain the operational domains\, the trade-offs involved\, and how queuing theory drives such efforts.I will start from ZygOS (SOSP2017)\, which was the first operating system to specifically optimise for microsecond-scale tail latency. I will talk about Persephone (SOSP2021) which targets applications with extreme service time variability by leveraging application-level knowledge. Finally\, I will introduce our work on Concord (SOSP2023) which depends on a scheduling mechanism that codesigns the runtime system with a compiler pass to eliminate the need for expensive hardware interrupts\, while still serving applications with high service time variability. \nBio: Marios Kogias is an Assistant Professor at Imperial College London. His research focuses on operating systems and networking for the modern datacenter. His PhD thesis received the Dennis M. Ritchie Doctoral Dissertation Award\, the honourable mention for the Roger Needham PhD award\, and the ABB Dissertation Award. He was an IBM PhD Fellow and won the best student paper award at Eurosys 2020. He has also held positions at Cern\, Google\, and Microsoft Research.
URL:https://www.uoc.gr/event/building-domain-specific-operating-systems-for-low-tail-latency-and-the-%ce%bcs-scale-era/
END:VEVENT
BEGIN:VEVENT
DTSTART;TZID=Europe/Athens:20240617T000000
DTEND;TZID=Europe/Athens:20240621T000000
DTSTAMP:20260421T071814
CREATED:20240912T122638Z
LAST-MODIFIED:20240912T122638Z
UID:10000029-1718582400-1718928000@www.uoc.gr
SUMMARY:Workshop "Modern Trends in Gravity and Black Holes" 17-21 Ιουνίου
DESCRIPTION:Ιστοσελίδα: https://sites.google.com/view/cretegravity2024/home \nΟ στόχος του workshop είναι να φέρει κοντά μαθηματικούς και φυσικούς που δουλεύουν σε θέματα βαρύτητας και μαύρων τρυπών.  \nΟ καθένας είναι ευπρόσδεκτος να παρακολουθήσει τις δραστηριότητες.
URL:https://www.uoc.gr/event/workshop-modern-trends-in-gravity-and-black-holes-17-21-%ce%b9%ce%bf%cf%85%ce%bd%ce%af%ce%bf%cf%85/
END:VEVENT
BEGIN:VEVENT
DTSTART;TZID=Europe/Athens:20240620T000000
DTEND;TZID=Europe/Athens:20240620T000000
DTSTAMP:20260421T071814
CREATED:20240912T122639Z
LAST-MODIFIED:20240912T122639Z
UID:10000032-1718841600-1718841600@www.uoc.gr
SUMMARY:Πρόσκληση σε ημερίδα  «Στρατηγικές Διδασκαλίας κειµενικών ειδών: Μεθοδολογία\, Παιδαγωγική\, και Κίνητρα Μάθησης»
DESCRIPTION:Το Παιδαγωγικό Τµήµα Δηµοτικής Εκπαίδευσης Πανεπιστηµίου Κρήτης\nσας προσκαλεί σε επιµορφωτική ηµερίδα που συνδιοργανώνει µαζί µε τη\nΔιεύθυνση Πρωτοβάθµιας Εκπαίδευσης Ρεθύµνου\, τους Συµβούλους\nΠρωτοβάθµιας Εκπαίδευσης ΠΕ70 Ρεθύµνου και τη Σχολική Σύµβουλο\nεκπαίδευσης φιλολόγων νοµού Ρεθύµνου.\nΗ ηµερίδα έχει θέµα: «Στρατηγικές Διδασκαλίας κειµενικών ειδών:\nΜεθοδολογία\, Παιδαγωγική\, και Κίνητρα Μάθησης» και\nθα πραγµατοποιηθεί την Πέµπτη 20-6-2024 από 11:00 έως 14:00 στο\nΦοιτητικό Πολιτιστικό Κέντρο «ΞΕΝΙΑ»\, Ν. Ψαρρού 46\, Ρέθυµνο.\n \nΠαρακαλούμε δείτε το σχετικό αρχείο: \nhttps://news.uoc.gr/news/2024/12-06/ΠΡΟΣΚΛΗΣΗ_Τ.pdf \n 
URL:https://www.uoc.gr/event/%cf%80%cf%81%cf%8c%cf%83%ce%ba%ce%bb%ce%b7%cf%83%ce%b7-%cf%83%ce%b5-%ce%b7%ce%bc%ce%b5%cf%81%ce%af%ce%b4%ce%b1-%cf%83%cf%84%cf%81%ce%b1%cf%84%ce%b7%ce%b3%ce%b9%ce%ba%ce%ad%cf%82-%ce%b4%ce%b9/
END:VEVENT
BEGIN:VEVENT
DTSTART;TZID=Europe/Athens:20240626T000000
DTEND;TZID=Europe/Athens:20240626T000000
DTSTAMP:20260421T071814
CREATED:20240912T122634Z
LAST-MODIFIED:20240912T122634Z
UID:10000025-1719360000-1719360000@www.uoc.gr
SUMMARY:Παρουσίαση Βιβλίου - Τμήμα Πολιτικής Επιστήμης και Ιστορίας Αρχαιολογίας
DESCRIPTION:ΠΑΡΟΥΣΙΑΣΗ ΒΙΒΛΙΟΥ \nΟΙ ΔΩΣΙΛΟΓΟΙ \nΈνοπλη\, πολιτική και οικονομική συνεργασία στα χρόνια της Κατοχής  \nΤα Τμήματα Πολιτικών Επιστημών και Ιστορίας & Αρχαιολογίας του Πανεπιστημίου Κρήτης\, το βιβλιοπωλείο Πλαίσιο και οι εκδόσεις Αλεξάνδρεια σας προσκαλούν την Τετάρτη 26 Ιουνίου στις 7:30 μ.μ. στην παρουσίαση του βιβλίου του ιστορικού Μενέλαου Χαραλαμπίδη με τίτλο: «Οι Δωσίλογοι. Ένοπλη\, πολιτική και οικονομική συνεργασία στα χρόνια της Κατοχής». Η παρουσίαση θα γίνει στο Φοιτητικό Πολιτιστικό Κέντρο ΞΕΝΙΑ (Νικ. Ψαρρού 46).  \nΓια το βιβλίο θα μιλήσουν ο Χρήστος Χατζηιωσήφ\, Ομότιμος Καθηγητής Ιστορίας Νεότερων Χρόνων\, Πανεπιστημίου Κρήτης\, ο Νίκος Βαφέας\, Καθηγητής Πανεπιστημίου Κράτης και ο συγγραφέας. Θα ακολουθήσει συζήτηση με το κοινό. \nΔείτε τα συνημμένα αρχεία που βρίσκονται στις παρακάτω υπερ-συνδέσεις : \nhttps://news.uoc.gr/news/2024/25-06/ΡΕΘΥΜΝΟ_ΔΕΛΤΙΟ_ΤΥΠΟΥ.pdf \n  \nhttps://news.uoc.gr/news/2024/25-06/ΡΕΘΥΜΝΟ.jpg \n 
URL:https://www.uoc.gr/event/%cf%80%ce%b1%cf%81%ce%bf%cf%85%cf%83%ce%af%ce%b1%cf%83%ce%b7-%ce%b2%ce%b9%ce%b2%ce%bb%ce%af%ce%bf%cf%85-%cf%84%ce%bc%ce%ae%ce%bc%ce%b1-%cf%80%ce%bf%ce%bb%ce%b9%cf%84%ce%b9%ce%ba%ce%ae%cf%82-%ce%b5/
END:VEVENT
BEGIN:VEVENT
DTSTART;TZID=Europe/Athens:20240626T000000
DTEND;TZID=Europe/Athens:20240626T000000
DTSTAMP:20260421T071814
CREATED:20240912T122635Z
LAST-MODIFIED:20240912T122635Z
UID:10000027-1719360000-1719360000@www.uoc.gr
SUMMARY:Θεματικό Σεμινάριο "Personalized host-directed therapies in severe pneumonia: challenges and opportunities"
DESCRIPTION:Η επιτροπή Ακαδημαϊκής Διασύνδεσης στο πλαίσιο του κύκλου Σεμιναρίων που αποτελούν συνεργασία μεταξύ Ιατρικής – ΙΤΕ – ΚΕΜΕ\, σας προσκαλεί στο Θεματικό Σεμινάριο  \n“Personalized host-directed therapies in severe pneumonia: challenges and opportunities”\, την Τετάρτη 26 Ιουνίου\, 15.30 – 19.30\, στο Αμφιθέατρο Μεταπτυχιακών Σπουδών της Ιατρικής Σχολής. \nZoom link: https://uoc-gr.zoom.us/j/87176195267?pwd=xef8Z2rCOfagKhGuS2bidCo3pyLvdg.1 \nΤο Σεμινάριο περιλαμβάνει βασικές διαλέξεις και ακολούθως διαδραστική συζήτηση μετά από σύντομες τοποθετήσεις ομιλητών. \nΤο Σεμινάριο είναι ανοιχτό για όλους τους Επιστήμονες των Βιοϊατρικών Επιστημών\, συμπεριλαμβανομένων προπτυχιακών\, μεταπτυχιακών και διδακτορικών φοιτητών. \n  \nΠαρακαλούμε δείτε το σχετικό αρχείο: \nhttps://news.uoc.gr/news/2024/20-06/Infectious_Diseases_Seminar_26_06_24.pdf
URL:https://www.uoc.gr/event/%ce%b8%ce%b5%ce%bc%ce%b1%cf%84%ce%b9%ce%ba%cf%8c-%cf%83%ce%b5%ce%bc%ce%b9%ce%bd%ce%ac%cf%81%ce%b9%ce%bf-personalized-host-directed-therapies-in-severe-pneumonia-challenges-and-opportunities/
END:VEVENT
BEGIN:VEVENT
DTSTART;TZID=Europe/Athens:20240627T000000
DTEND;TZID=Europe/Athens:20240630T000000
DTSTAMP:20260421T071814
CREATED:20240912T122734Z
LAST-MODIFIED:20240912T122734Z
UID:10000087-1719446400-1719705600@www.uoc.gr
SUMMARY:4th SHARE CONGRESS | Science in Heraklion Awareness in Respiratory and Sleep Evolution
DESCRIPTION:Το 4th SHARE CONGRESS | Science in Heraklion Awareness in Respiratory and Sleep Evolution θα πραγματοποιηθεί 27  & 30 Ιουνίου 2024\, στο ξενοδοχείο “IBIS STYLES HERAKLION CENTRAL” στο Ηράκλειο Κρήτης. \n  \nΓια περισσότερες πληροφορίες επισκεφτείτε τον ακόλουθο σύνδεσμο: https://www.uoc.gr/announce/ScienceinHeraklion.html
URL:https://www.uoc.gr/event/4th-share-congress-science-in-heraklion-awareness-in-respiratory-and-sleep-evolution/
END:VEVENT
BEGIN:VEVENT
DTSTART;TZID=Europe/Athens:20240628T000000
DTEND;TZID=Europe/Athens:20240629T000000
DTSTAMP:20260421T071814
CREATED:20240912T122634Z
LAST-MODIFIED:20240912T122634Z
UID:10000026-1719532800-1719619200@www.uoc.gr
SUMMARY:Εκδηλώσεις του Εθνικού Δικτύου CLIMPACT στην Κρήτη | 28-29 Ιουνίου 2024 | Λασίθι\, Κρήτη
DESCRIPTION:Διοργανωτής: Πανεπιστήμιο Κρήτης \nΣυντονίστρια: Καθ. Μαρία Κανακίδου \nΜε την υποστήριξη της Ακαδημίας Αθηνών  \nκαι της Διοικούσας Επιτροπής του δικτύου \n  \nΔείτε εδώ το Πρόγραμμα της Εκδήλωσης
URL:https://www.uoc.gr/event/%ce%b5%ce%ba%ce%b4%ce%b7%ce%bb%cf%8e%cf%83%ce%b5%ce%b9%cf%82-%cf%84%ce%bf%cf%85-%ce%b5%ce%b8%ce%bd%ce%b9%ce%ba%ce%bf%cf%8d-%ce%b4%ce%b9%ce%ba%cf%84%cf%8d%ce%bf%cf%85-climpact-%cf%83%cf%84%ce%b7%ce%bd/
END:VEVENT
BEGIN:VEVENT
DTSTART;TZID=Europe/Athens:20240629T000000
DTEND;TZID=Europe/Athens:20240629T000000
DTSTAMP:20260421T071814
CREATED:20240912T122638Z
LAST-MODIFIED:20240912T122638Z
UID:10000028-1719619200-1719619200@www.uoc.gr
SUMMARY:Φεστιβάλ Πανεπιστημίου Κρήτης για τη μελέτη και προστασία του φυσικού περιβάλλοντος | 29.6 Φινοκαλιά/Νοφαλιά | Άνω Μεραμπέλο\, Λασιθίου
DESCRIPTION:  \nΤο Εργαστήριο Περιβαλλοντικών Χηµικών Διεργασιών\, του Τµήµατος Χηµείας του Πανεπιστήµιου Κρήτης σας προσκαλεί στο σταθµό περιβαλλοντικών µετρήσεων στο Φινοκαλιά\, Λασιθίου. \nΟι επισκέπτες θα έχουν τη δυνατότητα να ξεναγηθούν στις εγκαταστάσεις του σταθµού\, να συζητήσουν µε τους ερευνητές του ΠΚ για το έργο που πραγµατοποιείται σχετικά µε την αέρια ρύπανση και την κλιµατική αλλαγή. \n Για περισσότερες πληροφορίες δείτε εδώ τη σχετική Ανακοίνωση.
URL:https://www.uoc.gr/event/%cf%86%ce%b5%cf%83%cf%84%ce%b9%ce%b2%ce%ac%ce%bb-%cf%80%ce%b1%ce%bd%ce%b5%cf%80%ce%b9%cf%83%cf%84%ce%b7%ce%bc%ce%af%ce%bf%cf%85-%ce%ba%cf%81%ce%ae%cf%84%ce%b7%cf%82-%ce%b3%ce%b9%ce%b1-%cf%84%ce%b7/
END:VEVENT
END:VCALENDAR