BEGIN:VCALENDAR
VERSION:2.0
PRODID:-//Πανεπιστήμιο Κρήτης - ECPv6.15.10//NONSGML v1.0//EN
CALSCALE:GREGORIAN
METHOD:PUBLISH
X-ORIGINAL-URL:https://www.uoc.gr/
X-WR-CALDESC:Events for Πανεπιστήμιο Κρήτης
REFRESH-INTERVAL;VALUE=DURATION:PT1H
X-Robots-Tag:noindex
X-PUBLISHED-TTL:PT1H
BEGIN:VTIMEZONE
TZID:Europe/Athens
BEGIN:DAYLIGHT
TZOFFSETFROM:+0200
TZOFFSETTO:+0300
TZNAME:EEST
DTSTART:20230326T010000
END:DAYLIGHT
BEGIN:STANDARD
TZOFFSETFROM:+0300
TZOFFSETTO:+0200
TZNAME:EET
DTSTART:20231029T010000
END:STANDARD
BEGIN:DAYLIGHT
TZOFFSETFROM:+0200
TZOFFSETTO:+0300
TZNAME:EEST
DTSTART:20240331T010000
END:DAYLIGHT
BEGIN:STANDARD
TZOFFSETFROM:+0300
TZOFFSETTO:+0200
TZNAME:EET
DTSTART:20241027T010000
END:STANDARD
BEGIN:DAYLIGHT
TZOFFSETFROM:+0200
TZOFFSETTO:+0300
TZNAME:EEST
DTSTART:20250330T010000
END:DAYLIGHT
BEGIN:STANDARD
TZOFFSETFROM:+0300
TZOFFSETTO:+0200
TZNAME:EET
DTSTART:20251026T010000
END:STANDARD
END:VTIMEZONE
BEGIN:VEVENT
DTSTART;TZID=Europe/Athens:20240703T000000
DTEND;TZID=Europe/Athens:20240703T000000
DTSTAMP:20260421T052238
CREATED:20240912T122639Z
LAST-MODIFIED:20240912T122639Z
UID:10000030-1719964800-1719964800@www.uoc.gr
SUMMARY:Δωρεάν Εξ Αποστάσεως Επιμορφωτικό Σεμινάριο: «Ανθρωποκεντρική Τεχνητή Νοημοσύνη στην Εκπαίδευση: Μετασχηματίζοντας τον τρόπο που μαθαίνουμε και διδάσκουμε»
DESCRIPTION:Δωρεάν Εξ Αποστάσεως Επιμορφωτικό Σεμινάριο«Ανθρωποκεντρική Τεχνητή Νοημοσύνη στην Εκπαίδευση: Μετασχηματίζοντας τον\nτρόπο που μαθαίνουμε και διδάσκουμε».\n \nΜε την μέγιστη δυνατή ευελιξία στον Χώρο\, τον Χρόνο και τον Ρυθμό του\nΕκπαιδευόμενου.\n \nΥΠΟΒΟΛΗ ΑΙΤΗΣΕΩΝ έως 30/6/2024 \n\nΕΝΑΡΞΗ ΕΠΙΜΟΡΦΩΤΙΚΟΥ ΠΡΟΓΡΑΜΜΑΤΟΣ: 3/ 7 /2024  \nΠαρακαλούμε δείτε το σχετικό αρχείο: \nhttps://news.uoc.gr/news/2024/14-06/Ανθρωποκεντρικη_Τεχνιτή_Νοημοσύνη.pdf
URL:https://www.uoc.gr/event/%ce%b4%cf%89%cf%81%ce%b5%ce%ac%ce%bd-%ce%b5%ce%be-%ce%b1%cf%80%ce%bf%cf%83%cf%84%ce%ac%cf%83%ce%b5%cf%89%cf%82-%ce%b5%cf%80%ce%b9%ce%bc%ce%bf%cf%81%cf%86%cf%89%cf%84%ce%b9%ce%ba%cf%8c-%cf%83%ce%b5/
END:VEVENT
BEGIN:VEVENT
DTSTART;TZID=Europe/Athens:20240705T000000
DTEND;TZID=Europe/Athens:20240707T000000
DTSTAMP:20260421T052238
CREATED:20240912T122632Z
LAST-MODIFIED:20240912T122632Z
UID:10000018-1720137600-1720310400@www.uoc.gr
SUMMARY:27η Θερινή Συνάντηση Μεταπτυχιακών φοιτητών και φοιτητριών και Υποψηφίων διδακτόρων Νεότερης και Σύγχρονης Ιστορίας Τμήμα Ιστορίας& Αρχαιολογίας Πανεπιστήμιο Κρήτης
DESCRIPTION:27η Θερινή Συνάντηση\nΜεταπτυχιακών φοιτητών και φοιτητριών και Υποψηφίων διδακτόρων\nΝεότερης και Σύγχρονης Ιστορίας\nΤμήμα Ιστορίας& Αρχαιολογίας\nΠανεπιστήμιο Κρήτης\n \n  \n5-7 Ιουλίου 2024 \nΠαρακαλούμε δείτε το σχετικό αρχείο: \nhttps://news.uoc.gr/news/2024/08-07/ΠΡΟΓΡΑΜΜΑ_2024_τελ..pdf
URL:https://www.uoc.gr/event/27%ce%b7-%ce%b8%ce%b5%cf%81%ce%b9%ce%bd%ce%ae-%cf%83%cf%85%ce%bd%ce%ac%ce%bd%cf%84%ce%b7%cf%83%ce%b7-%ce%bc%ce%b5%cf%84%ce%b1%cf%80%cf%84%cf%85%cf%87%ce%b9%ce%b1%ce%ba%cf%8e%ce%bd-%cf%86%ce%bf%ce%b9/
END:VEVENT
BEGIN:VEVENT
DTSTART;TZID=Europe/Athens:20240705T000000
DTEND;TZID=Europe/Athens:20240707T000000
DTSTAMP:20260421T052238
CREATED:20240912T122634Z
LAST-MODIFIED:20240912T122634Z
UID:10000024-1720137600-1720310400@www.uoc.gr
SUMMARY:27η Θερινή Συνάντηση Μεταπτυχιακών Φοιτητών και Φοιτητριών Νεότερης και Σύγχρονης Ιστορίας
DESCRIPTION:Στο διάστημα μεταξύ 5-7 Ιουλίου 2024 θα πραγματοποιηθεί στο Τμήμα Ιστορίας & Αρχαιολογίας του Πανεπιστημίου Κρήτης (αίθουσα 65) η 27η Θερινή Συνάντηση Μεταπτυχιακών Φοιτητών και Φοιτητριών Νεότερης και Σύγχρονης Ιστορίας. \nΔείτε εδώ το πρόγραμμα της Συνάντησης.
URL:https://www.uoc.gr/event/27%ce%b7-%ce%b8%ce%b5%cf%81%ce%b9%ce%bd%ce%ae-%cf%83%cf%85%ce%bd%ce%ac%ce%bd%cf%84%ce%b7%cf%83%ce%b7-%ce%bc%ce%b5%cf%84%ce%b1%cf%80%cf%84%cf%85%cf%87%ce%b9%ce%b1%ce%ba%cf%8e%ce%bd-%cf%86%ce%bf%ce%b9-2/
END:VEVENT
BEGIN:VEVENT
DTSTART;TZID=Europe/Athens:20240709T000000
DTEND;TZID=Europe/Athens:20240712T000000
DTSTAMP:20260421T052238
CREATED:20240912T122641Z
LAST-MODIFIED:20240912T122641Z
UID:10000037-1720483200-1720742400@www.uoc.gr
SUMMARY:3ο Θερινό Σχολείο Μαθηματικών «Μαθηματικές ΑποΔράσεις 2024»
DESCRIPTION:3ο Θερινό Σχολείο Μαθηματικών «Μαθηματικές ΑποΔράσεις 2024» για μαθητές και μαθήτριες ΣΤ’ Δημοτικού και Γ’ Γυμνασίου. \n  \nΤο Σπουδαστήριο Θεωρητικών Μαθηματικών του Τμήματος Μαθηματικών και Εφαρμοσμένων Μαθηματικών του Πανεπιστημίου Κρήτης οργανώνει το 3ο Θερινό Σχολείο Μαθηματικών: Μαθηματικές ΑποΔράσεις 2024. Το Θερινό Σχολείο χρηματοδοτείται από το Περιφερειακό Πρόγραμμα Ανάπτυξης (ΠΠΑ) Περιφέρειας Κρήτης 2021-2025. Στο Θερινό Σχολείο θα διδάξουν καθηγητές του Πανεπιστημίου Κρήτης και εκπαιδευτικοί της μέσης εκπαίδευσης. \n  \nΠερισσότερες πληροφορίες στον ακόλουθο σύνδεσμο : https://www.uoc.gr/announce/campmahsuoc.html#mce_temp_url#
URL:https://www.uoc.gr/event/3%ce%bf-%ce%b8%ce%b5%cf%81%ce%b9%ce%bd%cf%8c-%cf%83%cf%87%ce%bf%ce%bb%ce%b5%ce%af%ce%bf-%ce%bc%ce%b1%ce%b8%ce%b7%ce%bc%ce%b1%cf%84%ce%b9%ce%ba%cf%8e%ce%bd-%ce%bc%ce%b1%ce%b8%ce%b7%ce%bc%ce%b1/
END:VEVENT
BEGIN:VEVENT
DTSTART;TZID=Europe/Athens:20240711T000000
DTEND;TZID=Europe/Athens:20240711T000000
DTSTAMP:20260421T052238
CREATED:20240912T122632Z
LAST-MODIFIED:20240912T122632Z
UID:10000020-1720656000-1720656000@www.uoc.gr
SUMMARY:Ορκωμοσίας- Απονομή Διπλωμάτων Μεταπτυχιακών Σπουδών και Πτυχίων Τμήματος Φυσικής
DESCRIPTION:Πέμπτη 11/7/2024\, στις 11:00\, στο Αμφιθέατρο «Ν.\nΠετρίδης» στο κτήριο Τμήματος Μαθηματικών και Εφαρμοσμένων Μαθηματικών \n  \nΠαρακαλούμε δείτε το σχετικό αρχείο: \nhttps://news.uoc.gr/news/2024/03-07/ΠΡΟΣΚΛΗΣΗ_ΟΡΚΩΜΟΣΙΑΣ_ΤΜΗΜΑΤΟΣ_ΦΥΣΙΚΗΣ_11_7_2024.pdf
URL:https://www.uoc.gr/event/%ce%bf%cf%81%ce%ba%cf%89%ce%bc%ce%bf%cf%83%ce%af%ce%b1%cf%82-%ce%b1%cf%80%ce%bf%ce%bd%ce%bf%ce%bc%ce%ae-%ce%b4%ce%b9%cf%80%ce%bb%cf%89%ce%bc%ce%ac%cf%84%cf%89%ce%bd-%ce%bc%ce%b5%cf%84%ce%b1%cf%80/
END:VEVENT
BEGIN:VEVENT
DTSTART;TZID=Europe/Athens:20240717T000000
DTEND;TZID=Europe/Athens:20240717T000000
DTSTAMP:20260421T052238
CREATED:20240912T122633Z
LAST-MODIFIED:20240912T122633Z
UID:10000021-1721174400-1721174400@www.uoc.gr
SUMMARY:ΤΕΛΕΤΗ ΑΠΟΦΟΙΤΗΣΗΣ  ΤΜΗΜΑΤΟΣ ΦΙΛΟΣΟΦΙΑΣ
DESCRIPTION:ΠΡΟΣΚΛΗΣΗ Η Κοσμήτορας της Φιλοσοφικής Σχολής\nΚαθηγήτρια Σταυρούλα Τσινόρεμα\nκαι\nο Πρόεδρος του Τμήματος\nΦιλοσοφίας\nΚαθηγητής Παναγιώτης Θεοδώρου\nσας προσκαλούν\nστην τελετή αποφοίτησης\nτου Τμήματος\nΦιλοσοφίας\nτην  \nΤετάρτη\, 17 Ιουλίου 2024\nώρα 13:30\nστο αμφιθέατρο Δ3\nΠανεπιστημιούπολη Γάλλου\nΡέθυμνο. \n  \nΠρόσκληση: \nhttps://news.uoc.gr/news/2024/28-06/Πρόσκληση_για_Τελετή_αποφοιτησης_17.7.2024_Φιλοσοφίας_.pdf
URL:https://www.uoc.gr/event/%cf%84%ce%b5%ce%bb%ce%b5%cf%84%ce%b7-%ce%b1%cf%80%ce%bf%cf%86%ce%bf%ce%b9%cf%84%ce%b7%cf%83%ce%b7%cf%83-%cf%84%ce%bc%ce%b7%ce%bc%ce%b1%cf%84%ce%bf%cf%83-%cf%86%ce%b9%ce%bb%ce%bf%cf%83%ce%bf%cf%86/
END:VEVENT
BEGIN:VEVENT
DTSTART;TZID=Europe/Athens:20240717T000000
DTEND;TZID=Europe/Athens:20240717T000000
DTSTAMP:20260421T052238
CREATED:20240912T122633Z
LAST-MODIFIED:20240912T122633Z
UID:10000022-1721174400-1721174400@www.uoc.gr
SUMMARY:ΤΕΛΕΤΗ ΑΠΟΦΟΙΤΗΣΗΣ  ΤΜΗΜΑΤΟΣ  ΦΙΛΟΛΟΓΙΑΣ
DESCRIPTION:ΠΡΟΣΚΛΗΣΗ\n \nΗ Κοσμήτορας της Φιλοσοφικής Σχολής\nΚαθηγήτρια Σταυρούλα Τσινόρεμα\nκαι\no Πρόεδρος του Τμήματος\nΦιλολογίας\nΚαθηγητής Στέλιος Παναγιωτάκης\nσας προσκαλούν\nστην τελετή αποφοίτησης\nτου Τμήματος Φιλολογίας\nτην  \nΤετάρτη\, 17 Ιουλίου 2024\nώρα 9:30\nστο αμφιθέατρο Δ3\nΠανεπιστημιούπολη Γάλλου\nΡέθυμνο \nΠρόσκληση: \nhttps://news.uoc.gr/news/2024/28-06/Πρόσκληση_για_Τελετή_αποφοιτησης_17.7.2024_Φιλολογίας_.pdf
URL:https://www.uoc.gr/event/%cf%84%ce%b5%ce%bb%ce%b5%cf%84%ce%b7-%ce%b1%cf%80%ce%bf%cf%86%ce%bf%ce%b9%cf%84%ce%b7%cf%83%ce%b7%cf%83-%cf%84%ce%bc%ce%b7%ce%bc%ce%b1%cf%84%ce%bf%cf%83-%cf%86%ce%b9%ce%bb%ce%bf%ce%bb%ce%bf%ce%b3/
END:VEVENT
BEGIN:VEVENT
DTSTART;TZID=Europe/Athens:20240717T000000
DTEND;TZID=Europe/Athens:20240717T000000
DTSTAMP:20260421T052238
CREATED:20240912T122634Z
LAST-MODIFIED:20240930T105336Z
UID:10000023-1721174400-1721174400@www.uoc.gr
SUMMARY:ΤΕΛΕΤΗ ΑΠΟΦΟΙΤΗΣΗΣ  ΤΜΗΜΑΤΟΣ  ΙΣΤΟΡΙΑΣ ΚΑΙ ΑΡΧΑΙΟΛΟΓΙΑΣ
DESCRIPTION:ΠΡΟΣΚΛΗΣΗ \nΗ Κοσμήτορας της Φιλοσοφικής Σχολής\nΚαθηγήτρια Σταυρούλα Τσινόρεμα\nκαι η Πρόεδρος του Τμήματος\nΙστορίας και Αρχαιολογίας\nΑν. Καθηγήτρια Ελευθερία Ζέη\nσας προσκαλούν\nστην τελετή αποφοίτησης\nτου Τμήματος Ιστορίας και Αρχαιολογίας\nτην \n Τετάρτη\, 17 Ιουλίου 2024\nώρα 11:30\nστο αμφιθέατρο Δ3\nΠανεπιστημιούπολη Γάλλου\nΡέθυμνο \n  \nΔείτε την Πρόσκληση στον ακόλουθο σύνδεσμο: \nhttps://news.uoc.gr/news/2024/28-06/Πρόσκληση_για_Τελετή_αποφοιτησης_17.7.2024_Ι-Α_.pdf
URL:https://www.uoc.gr/event/%cf%84%ce%b5%ce%bb%ce%b5%cf%84%ce%b7-%ce%b1%cf%80%ce%bf%cf%86%ce%bf%ce%b9%cf%84%ce%b7%cf%83%ce%b7%cf%83-%cf%84%ce%bc%ce%b7%ce%bc%ce%b1%cf%84%ce%bf%cf%83-%ce%b9%cf%83%cf%84%ce%bf%cf%81%ce%b9%ce%b1/
CATEGORIES:Εκδηλώσεις
END:VEVENT
BEGIN:VEVENT
DTSTART;TZID=Europe/Athens:20240719T000000
DTEND;TZID=Europe/Athens:20240719T000000
DTSTAMP:20260421T052238
CREATED:20240912T122630Z
LAST-MODIFIED:20240930T105335Z
UID:10000015-1721347200-1721347200@www.uoc.gr
SUMMARY:Τελετή αποφοίτησης του Τμήματος Χημείας
DESCRIPTION:Σχολή Θετικών και\nΤεχνολογικών Επιστημών\nΤΜΗΜΑ ΧΗΜΕΙΑΣ \nΠρόσκληση\n \nΤελετή Αποφοίτησης\n \nΠαρασκευή 19 Ιουλίου 2024\n13:00 μ.μ.\n \nΑμφιθέατρο «Νίκος Πετρίδης»\n \nΚτήριο Τμήματος Μαθηματικών και\nΕφαρμοσμένων Μαθηματικών \nΠαρακαλούμε δείτε το σχετικό αρχείο: \nhttps://news.uoc.gr/news/2024/15-07/Πρόσκληση_Τελετής_αποφοίτησης_19-7-2024.pdf
URL:https://www.uoc.gr/event/%cf%84%ce%b5%ce%bb%ce%b5%cf%84%ce%ae-%ce%b1%cf%80%ce%bf%cf%86%ce%bf%ce%af%cf%84%ce%b7%cf%83%ce%b7%cf%82-%cf%84%ce%bf%cf%85-%cf%84%ce%bc%ce%ae%ce%bc%ce%b1%cf%84%ce%bf%cf%82-%cf%87%ce%b7%ce%bc%ce%b5/
CATEGORIES:Εκδηλώσεις
END:VEVENT
BEGIN:VEVENT
DTSTART;TZID=Europe/Athens:20240723T000000
DTEND;TZID=Europe/Athens:20240723T000000
DTSTAMP:20260421T052238
CREATED:20240912T122626Z
LAST-MODIFIED:20240930T105335Z
UID:10000010-1721692800-1721692800@www.uoc.gr
SUMMARY:Πρόσκληση Ορκωμοσίας Τμήματος Ψυχολογίας | Τρίτη 23 Ιουλίου 2024 \, ώρα 10.00 π.μ. | Θέατρο «Ερωφίλη» \, Φορτέτζα Ρεθύμνου
DESCRIPTION:Δείτε εδώ τη σχετική Πρόσκληση
URL:https://www.uoc.gr/event/%cf%80%cf%81%cf%8c%cf%83%ce%ba%ce%bb%ce%b7%cf%83%ce%b7-%ce%bf%cf%81%ce%ba%cf%89%ce%bc%ce%bf%cf%83%ce%af%ce%b1%cf%82-%cf%84%ce%bc%ce%ae%ce%bc%ce%b1%cf%84%ce%bf%cf%82-%cf%88%cf%85%cf%87%ce%bf%ce%bb/
CATEGORIES:Εκδηλώσεις
END:VEVENT
BEGIN:VEVENT
DTSTART;TZID=Europe/Athens:20240723T000000
DTEND;TZID=Europe/Athens:20240723T000000
DTSTAMP:20260421T052238
CREATED:20240912T122627Z
LAST-MODIFIED:20240930T105334Z
UID:10000005-1721692800-1721692800@www.uoc.gr
SUMMARY:Πρόσκληση Ορκωμοσίας Τμήματος Ψυχολογίας | Τρίτη 23 Ιουλίου 2024 \, ώρα 10.00 π.μ. | Θέατρο «Ερωφίλη» \, Φορτέτζα Ρεθύμνου
DESCRIPTION:Δείτε εδώ τη σχετική Πρόσκληση
URL:https://www.uoc.gr/event/%cf%80%cf%81%cf%8c%cf%83%ce%ba%ce%bb%ce%b7%cf%83%ce%b7-%ce%bf%cf%81%ce%ba%cf%89%ce%bc%ce%bf%cf%83%ce%af%ce%b1%cf%82-%cf%84%ce%bc%ce%ae%ce%bc%ce%b1%cf%84%ce%bf%cf%82-%cf%88%cf%85%cf%87%ce%bf%ce%bb-2/
CATEGORIES:Εκδηλώσεις
END:VEVENT
BEGIN:VEVENT
DTSTART;TZID=Europe/Athens:20240723T000000
DTEND;TZID=Europe/Athens:20240723T000000
DTSTAMP:20260421T052238
CREATED:20240912T122630Z
LAST-MODIFIED:20240930T105334Z
UID:10000013-1721692800-1721692800@www.uoc.gr
SUMMARY:Πρόσκληση ορκωμοσίας Τμήματος Ψυχολογίας
DESCRIPTION:Ο Κοσµήτορας\nτης Σχολής Κοινωνικών Επιστηµών\nτου Πανεπιστηµίου Κρήτης\nΚαθηγητής Γεώργιος Παναγής\nκαι\nη Πρόεδρος του Τµήµατος Ψυχολογίας\nΚαθηγήτρια Θεανώ Κοκκινάκη\nέχουν την τιµή να σας προσκαλέσουν\nστην ορκωμοσία και\nαπονομή πτυχίων\nτων αποφοίτων\nτου Τµήµατος Ψυχολογίας. \nΗ τελετή θα πραγµατοποιηθεί\nτην Τρίτη 23 Ιουλίου 2024\nκαι ώρα 10.00 π.µ.\nστο Θέατρο «Ερωφίλη»\nστη Φορτέτζα Ρεθύµνου. \nΠαρακαλούμε δείτε το σχετικό αρχείο: \nhttps://news.uoc.gr/news/2024/19-07/Πρόσκληση_Ορκωμοσίας_Τμήματος_Ψυχολογίας_23072024.pdf
URL:https://www.uoc.gr/event/%cf%80%cf%81%cf%8c%cf%83%ce%ba%ce%bb%ce%b7%cf%83%ce%b7-%ce%bf%cf%81%ce%ba%cf%89%ce%bc%ce%bf%cf%83%ce%af%ce%b1%cf%82-%cf%84%ce%bc%ce%ae%ce%bc%ce%b1%cf%84%ce%bf%cf%82-%cf%88%cf%85%cf%87%ce%bf%ce%bb-3/
CATEGORIES:Εκδηλώσεις
END:VEVENT
BEGIN:VEVENT
DTSTART;TZID=Europe/Athens:20240724T000000
DTEND;TZID=Europe/Athens:20240724T000000
DTSTAMP:20260421T052238
CREATED:20240912T122626Z
LAST-MODIFIED:20240930T105332Z
UID:10000011-1721779200-1721779200@www.uoc.gr
SUMMARY:Πρόσκληση Ορκωμοσίας - Απονομή Διπλωμάτων Μεταπτυχιακών Προγραμμάτων Τμήματος Οικονομικών Επιστημών
DESCRIPTION:Δείτε εδώ τη σχετική Πρόσκληση
URL:https://www.uoc.gr/event/%cf%80%cf%81%cf%8c%cf%83%ce%ba%ce%bb%ce%b7%cf%83%ce%b7-%ce%bf%cf%81%ce%ba%cf%89%ce%bc%ce%bf%cf%83%ce%af%ce%b1%cf%82-%ce%b1%cf%80%ce%bf%ce%bd%ce%bf%ce%bc%ce%ae-%ce%b4%ce%b9%cf%80%ce%bb%cf%89%ce%bc/
CATEGORIES:Εκδηλώσεις
END:VEVENT
BEGIN:VEVENT
DTSTART;TZID=Europe/Athens:20240724T000000
DTEND;TZID=Europe/Athens:20240724T000000
DTSTAMP:20260421T052238
CREATED:20240912T122626Z
LAST-MODIFIED:20240930T105333Z
UID:10000012-1721779200-1721779200@www.uoc.gr
SUMMARY:Ανακοίνωση Ερευνητικού Σεμιναρίου Ιατρικής Σχολής -ΙΤΕ-ΚΕΜΕ | The umbilical cord blood versus autologous blood derived plasma rich platelet gel for the treatment of diabetic ulcer
DESCRIPTION:Το Ερευνητικό Σεμινάριο που διοργανώνεται από την Ιατρική Σχολή σε συνεργασία με το ΙΤΕ και το ΚΕΜΕ με ομιλητή τον κ. Νικόλαο Κοντοπόδη\, Επίκ. Καθηγητή Αγγειοχειρουργικής της Ιατρικής Σχολής του Πανεπιστημίου Κρήτης\, θα πραγματοποιηθεί την Τετάρτη 24/07/24 και ώρα 15.00-16.00. \nΘέμα:“The umbilical cord blood versus autologous blood derived plasma rich platelet gel for the treatment of diabetic ulcer”. \nΤο link για τη σύνδεση στη διαδικτυακή πλατφόρμα είναι: \nhttps://uoc-gr.zoom.us/j/87988669896 \n  \nΠαρακαλούμε δείτε το σχετικό αρχείο: \nhttps://news.uoc.gr/news/2024/19-07/Research_Seminar_240724.pdf \n 
URL:https://www.uoc.gr/event/%ce%b1%ce%bd%ce%b1%ce%ba%ce%bf%ce%af%ce%bd%cf%89%cf%83%ce%b7-%ce%b5%cf%81%ce%b5%cf%85%ce%bd%ce%b7%cf%84%ce%b9%ce%ba%ce%bf%cf%8d-%cf%83%ce%b5%ce%bc%ce%b9%ce%bd%ce%b1%cf%81%ce%af%ce%bf%cf%85-%ce%b9/
CATEGORIES:Εκδηλώσεις
END:VEVENT
BEGIN:VEVENT
DTSTART;TZID=Europe/Athens:20240724T000000
DTEND;TZID=Europe/Athens:20240724T000000
DTSTAMP:20260421T052238
CREATED:20240912T122627Z
LAST-MODIFIED:20240930T105331Z
UID:10000006-1721779200-1721779200@www.uoc.gr
SUMMARY:Πρόσκληση Ορκωμοσίας - Απονομή Διπλωμάτων Μεταπτυχιακών Προγραμμάτων Τμήματος Οικονομικών Επιστημών
DESCRIPTION:Δείτε εδώ τη σχετική Πρόσκληση
URL:https://www.uoc.gr/event/%cf%80%cf%81%cf%8c%cf%83%ce%ba%ce%bb%ce%b7%cf%83%ce%b7-%ce%bf%cf%81%ce%ba%cf%89%ce%bc%ce%bf%cf%83%ce%af%ce%b1%cf%82-%ce%b1%cf%80%ce%bf%ce%bd%ce%bf%ce%bc%ce%ae-%ce%b4%ce%b9%cf%80%ce%bb%cf%89%ce%bc-2/
CATEGORIES:Εκδηλώσεις
END:VEVENT
BEGIN:VEVENT
DTSTART;TZID=Europe/Athens:20240724T000000
DTEND;TZID=Europe/Athens:20240724T000000
DTSTAMP:20260421T052238
CREATED:20240912T122627Z
LAST-MODIFIED:20240930T105332Z
UID:10000007-1721779200-1721779200@www.uoc.gr
SUMMARY:Ανακοίνωση Ερευνητικού Σεμιναρίου Ιατρικής Σχολής -ΙΤΕ-ΚΕΜΕ | The umbilical cord blood versus autologous blood derived plasma rich platelet gel for the treatment of diabetic ulcer
DESCRIPTION:Το Ερευνητικό Σεμινάριο που διοργανώνεται από την Ιατρική Σχολή σε συνεργασία με το ΙΤΕ και το ΚΕΜΕ με ομιλητή τον κ. Νικόλαο Κοντοπόδη\, Επίκ. Καθηγητή Αγγειοχειρουργικής της Ιατρικής Σχολής του Πανεπιστημίου Κρήτης\, θα πραγματοποιηθεί την Τετάρτη 24/07/24 και ώρα 15.00-16.00. \nΘέμα:“The umbilical cord blood versus autologous blood derived plasma rich platelet gel for the treatment of diabetic ulcer”. \nΤο link για τη σύνδεση στη διαδικτυακή πλατφόρμα είναι: \nhttps://uoc-gr.zoom.us/j/87988669896 \n  \nΠαρακαλούμε δείτε το σχετικό αρχείο: \nhttps://news.uoc.gr/news/2024/19-07/Research_Seminar_240724.pdf \n 
URL:https://www.uoc.gr/event/%ce%b1%ce%bd%ce%b1%ce%ba%ce%bf%ce%af%ce%bd%cf%89%cf%83%ce%b7-%ce%b5%cf%81%ce%b5%cf%85%ce%bd%ce%b7%cf%84%ce%b9%ce%ba%ce%bf%cf%8d-%cf%83%ce%b5%ce%bc%ce%b9%ce%bd%ce%b1%cf%81%ce%af%ce%bf%cf%85-%ce%b9-2/
CATEGORIES:Εκδηλώσεις
END:VEVENT
BEGIN:VEVENT
DTSTART;TZID=Europe/Athens:20240724T000000
DTEND;TZID=Europe/Athens:20240724T000000
DTSTAMP:20260421T052238
CREATED:20240912T122630Z
LAST-MODIFIED:20240930T105331Z
UID:10000017-1721779200-1721779200@www.uoc.gr
SUMMARY:Τελετής Ορκωμοσίας Τμήματος Επιστήμης και Μηχανικής Υλικών
DESCRIPTION:Η Πρόεδρος του Τμήματος  Καθηγήτρια κ. Μαρία Βαμβακάκη σας προσκαλεί\nστην τελετή αποφοίτησης  \nΔιπλωμάτων Μεταπτυχιακών Σπουδών  24 Ιουλίου 2024 και ώρα 11:00\nστο αμφιθέατρο «Πετρίδη». \nΔείτε τη σχετική Πρόσκληση
URL:https://www.uoc.gr/event/%cf%84%ce%b5%ce%bb%ce%b5%cf%84%ce%ae%cf%82-%ce%bf%cf%81%ce%ba%cf%89%ce%bc%ce%bf%cf%83%ce%af%ce%b1%cf%82-%cf%84%ce%bc%ce%ae%ce%bc%ce%b1%cf%84%ce%bf%cf%82-%ce%b5%cf%80%ce%b9%cf%83%cf%84%ce%ae%ce%bc/
CATEGORIES:Εκδηλώσεις
END:VEVENT
BEGIN:VEVENT
DTSTART;TZID=Europe/Athens:20240725T000000
DTEND;TZID=Europe/Athens:20240725T000000
DTSTAMP:20260421T052238
CREATED:20240912T122632Z
LAST-MODIFIED:20240930T105330Z
UID:10000019-1721865600-1721865600@www.uoc.gr
SUMMARY:Πρόσκληση ορκωμοσίας Τμήματος Πολιτικής Επιστήμης
DESCRIPTION:Παρακαλούμε\nδείτε το σχετικό αρχείο: \nhttps://news.uoc.gr/news/2024/08-07/Πολιτικής_Επιστήμης_πρόσκληση_ορκωμοσίας.pdf
URL:https://www.uoc.gr/event/%cf%80%cf%81%cf%8c%cf%83%ce%ba%ce%bb%ce%b7%cf%83%ce%b7-%ce%bf%cf%81%ce%ba%cf%89%ce%bc%ce%bf%cf%83%ce%af%ce%b1%cf%82-%cf%84%ce%bc%ce%ae%ce%bc%ce%b1%cf%84%ce%bf%cf%82-%cf%80%ce%bf%ce%bb%ce%b9%cf%84/
CATEGORIES:Εκδηλώσεις
END:VEVENT
BEGIN:VEVENT
DTSTART;TZID=Europe/Athens:20240726T000000
DTEND;TZID=Europe/Athens:20240726T000000
DTSTAMP:20260421T052238
CREATED:20240912T122626Z
LAST-MODIFIED:20240930T105329Z
UID:10000009-1721952000-1721952000@www.uoc.gr
SUMMARY:Έκθεση Levante-Ιατρική Σχολή Πανεπιστημίου Κρήτης
DESCRIPTION:Μια έκθεση με έργα του βραβευμένου βενετσιάνου\nκαλλιτέχνη Lucio\nSchiavon\nεγκαινιάζεται στις 26 Ιουλίου 2024 και ώρα 6.30 μ.μ στους χώρους της Ιατρικής\nΣχολής του Πανεπιστημίου Κρήτης.   \n  \nΔείτε τα συνημμένα αρχεία που βρίσκονται στις παρακάτω υπερ-συνδέσεις : \nhttps://news.uoc.gr/news/2024/24-07/ΔΕλτίο_Τύπου_Εγκαίνια_Εκθεσης.pdf
URL:https://www.uoc.gr/event/%ce%ad%ce%ba%ce%b8%ce%b5%cf%83%ce%b7-levante-%ce%b9%ce%b1%cf%84%cf%81%ce%b9%ce%ba%ce%ae-%cf%83%cf%87%ce%bf%ce%bb%ce%ae-%cf%80%ce%b1%ce%bd%ce%b5%cf%80%ce%b9%cf%83%cf%84%ce%b7%ce%bc%ce%af%ce%bf%cf%85/
CATEGORIES:Εκδηλώσεις
END:VEVENT
BEGIN:VEVENT
DTSTART;TZID=Europe/Athens:20240726T000000
DTEND;TZID=Europe/Athens:20240726T000000
DTSTAMP:20260421T052238
CREATED:20240912T122627Z
LAST-MODIFIED:20240930T105329Z
UID:10000004-1721952000-1721952000@www.uoc.gr
SUMMARY:Έκθεση Levante-Ιατρική Σχολή Πανεπιστημίου Κρήτης
DESCRIPTION:Μια έκθεση με έργα του βραβευμένου βενετσιάνου\nκαλλιτέχνη Lucio\nSchiavon\nεγκαινιάζεται στις 26 Ιουλίου 2024 και ώρα 6.30 μ.μ στους χώρους της Ιατρικής\nΣχολής του Πανεπιστημίου Κρήτης.   \n  \nΔείτε τα συνημμένα αρχεία που βρίσκονται στις παρακάτω υπερ-συνδέσεις : \nhttps://news.uoc.gr/news/2024/24-07/ΔΕλτίο_Τύπου_Εγκαίνια_Εκθεσης.pdf
URL:https://www.uoc.gr/event/%ce%ad%ce%ba%ce%b8%ce%b5%cf%83%ce%b7-levante-%ce%b9%ce%b1%cf%84%cf%81%ce%b9%ce%ba%ce%ae-%cf%83%cf%87%ce%bf%ce%bb%ce%ae-%cf%80%ce%b1%ce%bd%ce%b5%cf%80%ce%b9%cf%83%cf%84%ce%b7%ce%bc%ce%af%ce%bf%cf%85-2/
CATEGORIES:Εκδηλώσεις
END:VEVENT
BEGIN:VEVENT
DTSTART;TZID=Europe/Athens:20240726T000000
DTEND;TZID=Europe/Athens:20240726T000000
DTSTAMP:20260421T052238
CREATED:20240912T122630Z
LAST-MODIFIED:20240930T105328Z
UID:10000014-1721952000-1721952000@www.uoc.gr
SUMMARY:Πρόσκληση Ορκωμοσίας αποφοίτων του Τμήματος Βιολογίας
DESCRIPTION:Ο Πρόεδρος του Τµήµατος Βιολογίας\nΚαθηγητής Κρίτων Καλαντίδης\nέχει την τιµή να σας προσκαλέσει\nστην ορκωμοσία και\nαπονομή πτυχίων\nτων αποφοίτων\nτου Τµήµατος Βιολογίας. \nΗ τελετή θα πραγµατοποιηθεί\nτην Παρασκευή 26 Ιουλίου 2024\nκαι ώρα 11.00 π.µ.\nστο Αµφιθέατρο «Πετρίδη»\nστο Κτήριο του Τµήµατος Μαθηµατικών &\nΕφαρµοσµένων Μαθηµατικών του Π.Κ\, στην\nΠανεπιστηµιούπουλη Βουτών\, Ηράκλειο. \n  \nΠαρακαλούμε δείτε το σχετικό αρχείο: \nhttps://news.uoc.gr/news/2024/18-07/Πρόσκληση_αποφοίτων_Τμήματος_Βιολογίας_26_Ιουλίου_2024.pdf
URL:https://www.uoc.gr/event/%cf%80%cf%81%cf%8c%cf%83%ce%ba%ce%bb%ce%b7%cf%83%ce%b7-%ce%bf%cf%81%ce%ba%cf%89%ce%bc%ce%bf%cf%83%ce%af%ce%b1%cf%82-%ce%b1%cf%80%ce%bf%cf%86%ce%bf%ce%af%cf%84%cf%89%ce%bd-%cf%84%ce%bf%cf%85-%cf%84/
CATEGORIES:Εκδηλώσεις
END:VEVENT
BEGIN:VEVENT
DTSTART;TZID=Europe/Athens:20240726T000000
DTEND;TZID=Europe/Athens:20240726T000000
DTSTAMP:20260421T052238
CREATED:20240912T122630Z
LAST-MODIFIED:20240930T105328Z
UID:10000016-1721952000-1721952000@www.uoc.gr
SUMMARY:Πρόσκληση Ορκωμοσίας Τμήμα Επιστήμης Υπολογιστών με προσκεκλημένη Ομιλήτρια την Καθηγήτρια Λύδια Καβράκη
DESCRIPTION:Παρακαλώ δείτε συνημμένα\, και στην ιστοσελίδα του Τμήματος: \nhttps://www.csd.uoc.gr/CSD/index.jsp?content=news&ann=588 \nτην Πρόσκληση και το Πρόγραμμα της τελετής Ορκωμοσίας και απονομής Διδακτορικών Διπλωμάτων\, Μεταπτυχιακών Διπλωμάτων και Πτυχίων  του Τμήματος Επιστήμης Υπολογιστών της Σχολής Θετικών και Τεχνολογικών Επιστημών του Πανεπιστημίου Κρήτης. \nΗ  τελετή θα γίνει την Παρασκευή  26 Ιουλίου 2024  στις 13.00  στο Αμφιθέατρο “Ν. Πετρίδης” στο κτίριο του Τμήματος Μαθηματικών και Εφαρμοσμένων Μαθηματικών\, στην Πανεπιστημιούπολη Βουτών στο Ηράκλειο \nΠροσκεκλημένη Ομιλήτρια θα είναι η  κ. Λύδια Καβράκη\, Noah Harding Professor of Computer Science and Director of the Ken Kennedy Institute\, Rice University\, Απόφοιτος του Τμήματος Επιστήμης Υπολογιστών. \nΠαρακαλούμε οι νέοι πτυχιούχοι μας και οι συνοδοί τους να είναι στο χώρο της ορκωμοσίας τουλάχιστον μισή ώρα νωρίτερα. \nΚαλή σταδιοδρομία στους νέους αποφοίτους μας! \nΠαρακαλούμε δείτε το σχετικό αρχείο: \nhttps://news.uoc.gr/news/2024/15-07/Prosklhsh_orkwmosiasCSD_26_07-2024_13_00_AMFITHEATRO_PETRIDIS.jpg \n 
URL:https://www.uoc.gr/event/%cf%80%cf%81%cf%8c%cf%83%ce%ba%ce%bb%ce%b7%cf%83%ce%b7-%ce%bf%cf%81%ce%ba%cf%89%ce%bc%ce%bf%cf%83%ce%af%ce%b1%cf%82-%cf%84%ce%bc%ce%ae%ce%bc%ce%b1-%ce%b5%cf%80%ce%b9%cf%83%cf%84%ce%ae%ce%bc%ce%b7/
CATEGORIES:Εκδηλώσεις
END:VEVENT
END:VCALENDAR