BEGIN:VCALENDAR
VERSION:2.0
PRODID:-//Πανεπιστήμιο Κρήτης - ECPv6.15.10//NONSGML v1.0//EN
CALSCALE:GREGORIAN
METHOD:PUBLISH
X-ORIGINAL-URL:https://www.uoc.gr/
X-WR-CALDESC:Events for Πανεπιστήμιο Κρήτης
REFRESH-INTERVAL;VALUE=DURATION:PT1H
X-Robots-Tag:noindex
X-PUBLISHED-TTL:PT1H
BEGIN:VTIMEZONE
TZID:Europe/Athens
BEGIN:DAYLIGHT
TZOFFSETFROM:+0200
TZOFFSETTO:+0300
TZNAME:EEST
DTSTART:20240331T010000
END:DAYLIGHT
BEGIN:STANDARD
TZOFFSETFROM:+0300
TZOFFSETTO:+0200
TZNAME:EET
DTSTART:20241027T010000
END:STANDARD
BEGIN:DAYLIGHT
TZOFFSETFROM:+0200
TZOFFSETTO:+0300
TZNAME:EEST
DTSTART:20250330T010000
END:DAYLIGHT
BEGIN:STANDARD
TZOFFSETFROM:+0300
TZOFFSETTO:+0200
TZNAME:EET
DTSTART:20251026T010000
END:STANDARD
BEGIN:DAYLIGHT
TZOFFSETFROM:+0200
TZOFFSETTO:+0300
TZNAME:EEST
DTSTART:20260329T010000
END:DAYLIGHT
BEGIN:STANDARD
TZOFFSETFROM:+0300
TZOFFSETTO:+0200
TZNAME:EET
DTSTART:20261025T010000
END:STANDARD
END:VTIMEZONE
BEGIN:VEVENT
DTSTART;TZID=Europe/Athens:20250114T160000
DTEND;TZID=Europe/Athens:20250114T180000
DTSTAMP:20260420T050118
CREATED:20250109T135808Z
LAST-MODIFIED:20250109T140756Z
UID:10001409-1736870400-1736877600@www.uoc.gr
SUMMARY:2η διαδικτυακή συνάντηση ΚΕΔΙΜΑ-ΤotT ακαδημαϊκού έτους 2024-2025
DESCRIPTION:2ης διαδικτυακή συνάντηση ΚΕΔΙΜΑ-ΤotT ακαδημαϊκού έτους 2024-2025 \nμε τίτλο:« Η Τεχνητή Νοημοσύνη στη διδασκαλία και εκμάθηση της γλώσσας» \nΤρίτη 14 Ιανουαρίου 2025 και ώρα 16:00 έως 18:00 \n  \nΠαρακαλούμε δείτε το σχετικό αρχείο: \nhttps://news.uoc.gr/news/2025/09-01/2α_Πρόσκληση_2ης_Διαδικτυακής_Συνάντησης_ΚΕΔΙΜΑ-TotT_2024-25.pdf
URL:https://www.uoc.gr/event/2%ce%b7%cf%82-%ce%b4%ce%b9%ce%b1%ce%b4%ce%b9%ce%ba%cf%84%cf%85%ce%b1%ce%ba%ce%ae-%cf%83%cf%85%ce%bd%ce%ac%ce%bd%cf%84%ce%b7%cf%83%ce%b7-%ce%ba%ce%b5%ce%b4%ce%b9%ce%bc%ce%b1-%cf%84ott-%ce%b1%ce%ba/
END:VEVENT
BEGIN:VEVENT
DTSTART;VALUE=DATE:20250115
DTEND;VALUE=DATE:20250116
DTSTAMP:20260420T050118
CREATED:20250109T125500Z
LAST-MODIFIED:20250109T125500Z
UID:10001407-1736899200-1736985599@www.uoc.gr
SUMMARY:Παλαιολιθικού Σεμιναρίου 2025 "Απαρχές της ένδυσης της κόσμησης και της νηματουργίας στον Παλαιολιθικό κόσμο"
DESCRIPTION:To Παλαιολιθικού Σεμιναρίου 2025 που είναι αφιερωμένο στις “Απαρχές της ένδυσης της κόσμησης και της νηματουργίας στον Παλαιολιθικό κόσμο” και ξεκινά την Τετάρτη 15/1/2025 με την ομιλία του καθηγητή Olaf Joeris\, με θέμα “Stone Age Clothing – the hard\, the soft\, and the artistic evidence”. Οι διαλέξεις θα πραγματοποιούνται στο αμφιθέατρο του Ινστιτούτου της Δανίας στην Αθήνα\, ώρα 19:00. \nΔείτε τα σχετικά αρχεία που βρίσκονται στις παρακάτω υπερ-συνδέσεις : \nhttps://news.uoc.gr/news/2025/09-01/FlyerΠαλαιολιθικόΣεμινάριο_2025.pdf \n\nhttps://news.uoc.gr/news/2025/09-01/FlyerJoeris_15.1.pdf \n\n 
URL:https://www.uoc.gr/event/%cf%80%ce%b1%ce%bb%ce%b1%ce%b9%ce%bf%ce%bb%ce%b9%ce%b8%ce%b9%ce%ba%ce%bf%cf%8d-%cf%83%ce%b5%ce%bc%ce%b9%ce%bd%ce%b1%cf%81%ce%af%ce%bf%cf%85-2025-%ce%b1%cf%80%ce%b1%cf%81%cf%87%ce%ad%cf%82-%cf%84/
END:VEVENT
BEGIN:VEVENT
DTSTART;VALUE=DATE:20250120
DTEND;VALUE=DATE:20250121
DTSTAMP:20260420T050118
CREATED:20250114T124036Z
LAST-MODIFIED:20250114T124121Z
UID:10001412-1737331200-1737417599@www.uoc.gr
SUMMARY:2η Διάλεξη της Σειράς "Τεχνητή Νοημοσύνη: Επιστήμη\, Κοινωνία και Εκπαίδευση"
DESCRIPTION:Η διάλεξη θα πραγματοποιηθεί τη Δευτέρα\, 20 Ιανουαρίου 2025\, στις 20:00 στο\nΦοιτητικό Κέντρο Ξενία (έναντι Μαρίνας Ρεθύμνου\, είσοδος από Νικ. Ψαρρού\n46) και έχει θέμα: «Πώς λειτουργεί η Τεχνητή Νοημοσύνη;». Ομιλητής θα είναι ο\nΣταμάτης Παπαδάκης\, Επίκουρος Καθηγητής του Παιδαγωγικού Τμήματος\nΔημοτικής Εκπαίδευσης\, με κριτικό συζητητή τον Δημήτρη Καλοψικάκη\, μέλος\nΕΔΙΠ του Τμήματος Μαθηματικών και Εφαρμοσμένων Μαθηματικών του Π.Κ. \nείτε τα σχετικά αρχεία που βρίσκονται στις παρακάτω υπερ-συνδέσεις : \nhttps://news.uoc.gr/news/2025/14-01/Δελτίο_τύπου_για_διάλεξη_Εργαστηρίου_Τάλως_Τεχνητή_Νοημοσύνη.pdf \nhttps://news.uoc.gr/news/2025/14-01/Afisa_TN.pdf
URL:https://www.uoc.gr/event/2%ce%b7-%ce%b4%ce%b9%ce%ac%ce%bb%ce%b5%ce%be%ce%b7-%cf%84%ce%b7%cf%82-%cf%83%ce%b5%ce%b9%cf%81%ce%ac%cf%82-%cf%84%ce%b5%cf%87%ce%bd%ce%b7%cf%84%ce%ae-%ce%bd%ce%bf%ce%b7%ce%bc%ce%bf%cf%83%cf%8d%ce%bd/
END:VEVENT
BEGIN:VEVENT
DTSTART;VALUE=DATE:20250120
DTEND;VALUE=DATE:20250122
DTSTAMP:20260420T050118
CREATED:20250114T110738Z
LAST-MODIFIED:20250114T110738Z
UID:10001411-1737331200-1737503999@www.uoc.gr
SUMMARY:Συμπόσιο «China and Greece from Antiquity to Modern Times» | 20 & 21 Ιανουαρίου 2025
DESCRIPTION:Στις 20 και 21 Ιανουαρίου 2025 θα επισκεφθεί το Πανεπιστήμιο Κρήτης αντιπροσωπεία από το Παν/μιο Lanzhou της Κίνας. Η αντιπροσωπεία αποτελείται από 2 καθηγητές και 15 μεταπτυχιακούς/ές φοιτητές/τριες και υποψήφιους διδάκτορες\, που ειδικεύονται στη Νεώτερη Ιστορία και τη Συγκριτική Πολιτική Επιστήμη. \nΜε πρωτοβουλία του Παν/μίου του Lanzhou\, θα διοργανωθεί διήμερο συμπόσιο που θα επικεντρωθεί σε συγκριτικές μελέτες για την Ελλάδα και την Κίνα\, από την αρχαιότητα έως τη σύγχρονη εποχή. Το συμπόσιο θα λάβει χώρα στις 20 και 21 Ιανουαρίου στην Αίθουσα της Συγκλήτου στο Ρέθυμνο\, με δυνατότητα διαδικτυακής συμμετοχής· θα συμμετάσχουν σε αυτό με ανακοίνωση μέλη της αντιπροσωπείας του Lanzhou\, καθώς και μέλη ΔΕΠ του Παν/μίου Κρήτης από τα Τμήματα Πολιτικής Επιστήμης\, Παιδαγωγικό Τμήμα Δημοτικής Εκπαίδευσης\, Φιλοσοφίας και Ιστορίας-Αρχαιολογίας του Παν/μίου Κρήτης. Η εκδήλωση είναι ανοιχτή σε κάθε ενδιαφερόμενο/η. \nΠρόγραμμα
URL:https://www.uoc.gr/event/%cf%83%cf%85%ce%bc%cf%80%cf%8c%cf%83%ce%b9%ce%bf-china-and-greece-from-antiquity-to-modern-times-20-21-%ce%b9%ce%b1%ce%bd%ce%bf%cf%85%ce%b1%cf%81%ce%af%ce%bf%cf%85-2025/
END:VEVENT
BEGIN:VEVENT
DTSTART;VALUE=DATE:20250123
DTEND;VALUE=DATE:20250124
DTSTAMP:20260420T050118
CREATED:20250107T124108Z
LAST-MODIFIED:20250107T124108Z
UID:10001406-1737590400-1737676799@www.uoc.gr
SUMMARY:Eνημερωτική διαδικτυακή συνάντηση | Προοπτικές μεταπτυχιακών σπουδών στη Λαϊκή Δημοκρατία της Κίνας |Διιδρυματικό πρόγραμμα σπουδών “Greek and Chinese Civilizations: A comparative approach”
DESCRIPTION:Το Τμήμα Φιλοσοφίας του Πανεπιστημίου Κρήτης\, σε συνεργασία με το ΚΕΛΚΙΠ\, σας προσκαλεί  την Πέμπτη 23 Ιανουαρίου 2025 και ώρα 13:00\,  σε μια διαδικτυακή ενημερωτική συνάντηση με θέμα: «Προοπτικές μεταπτυχιακών σπουδών στη Λαϊκή Δημοκρατία της Κίνας»\, με ιδιαίτερη έμφαση στο διιδρυματικό πρόγραμμα σπουδών:“Greek and Chinese Civilizations: A Comparative Approach” (https://magr-cn.philosophy.upatras.gr/) \nΣτην ίδρυση και λειτουργία του προγράμματος συμμετέχει ενεργά το Τμήμα Φιλοσοφίας του Πανεπιστημίου Κρήτης. \nΚύριος εισηγητής θα είναι ο Παύλος Κόντος\, Καθηγητής του Τμήματος Φιλοσοφίας του Πανεπιστημίου Πατρών\, Διευθυντής του ΠΜΣ και Αντιπρόεδρος του ΚΕΛΚΙΠ. Επιπλέον\, θα πραγματοποιηθούν σύντομες παρουσιάσεις από φοιτήτριες του προγράμματος. \nΓια τις σπουδές  ‘Δυτικής Φιλοσοφίας’ στη Λαϊκή Δημοκρατία της Κίνας θα μιλήσει η Δήμητρα Αμαραντίδου\, Καθηγήτρια στο Πανεπιστήμιο του Μακάο. \nΓια τις σπουδές Κινεζικής Φιλοσοφίας στη Λαϊκή Δημοκρατία της Κίνας θα μιλήσει η Αναστασία Μεϊμαρίδη\, Υποψ. Δρ. Φιλοσοφίας στο East China Normal University της Σαγκάης. \nΤέλος\, για τη σημασία της προσέγγισης των δύο παραδόσεων και την αξία των συγκριτικών σπουδών θα μιλήσει ο Στέλιος Βιρβιδάκης \, Ομότιμος Καθηγητής του Τμήματος ΙΦΕ του ΕΚΠΑ\, Επισκέπτης Καθηγητής στη Θέση Μιχελή του Τμήματος Φιλοσοφίας του ΠΚ και Πρόεδρος του ΚΕΛΚΙΠ. \nΤη συζήτηση θα συντονίσει η Χλόη Μπάλλα\, Καθηγήτρια του Τμήματος Φιλοσοφίας του ΠΚ\, μέλος της ΕΠΣ του ΠΜΣ και Γραμματέας του ΚΕΛΚΙΠ. \nΣύνδεσμος zoom meeting: https://ww2.fks.uoc.gr/f/kelkip-philosophy
URL:https://www.uoc.gr/event/e%ce%bd%ce%b7%ce%bc%ce%b5%cf%81%cf%89%cf%84%ce%b9%ce%ba%ce%ae-%ce%b4%ce%b9%ce%b1%ce%b4%ce%b9%ce%ba%cf%84%cf%85%ce%b1%ce%ba%ce%ae-%cf%83%cf%85%ce%bd%ce%ac%ce%bd%cf%84%ce%b7%cf%83%ce%b7-%cf%80%cf%81/
END:VEVENT
BEGIN:VEVENT
DTSTART;VALUE=DATE:20250131
DTEND;VALUE=DATE:20250201
DTSTAMP:20260420T050118
CREATED:20250127T083232Z
LAST-MODIFIED:20250127T083232Z
UID:10001413-1738281600-1738367999@www.uoc.gr
SUMMARY:Κύκλος διαλέξεων “Η Βιολογία στην πόλη” | «Βγάζοντας νόηµα. Απ’ όσα ξέρουµε\,όσα δεν ξέρουµε (και\, ίσως\, δεν µπορούµε να µάθουµε) για το νόηµα»
DESCRIPTION:Η τέταρτη διάλεξη του θεµατικού κύκλου οµιλιών “Η Βιολογία στην πόλη” θα πραγματοποιηθεί στις 31 Ιανουαρίου 2025 και ώρα 19.00 µ.µ. από τον Δήµαρχο Ηρακλείου και Καθηγητή του Πανεπιστηµίου Κρήτης\, κ. Αλέξη Καλοκαιρινό µε θέµα : «Βγάζοντας νόηµα. Απ’ όσα ξέρουµε\, όσα δεν ξέρουµε (και\, ίσως\, δεν µπορούµε να µάθουµε) για το νόηµα» \nΑίθουσα «Μανόλης Καρέλλης» (οδός Ανδρόγεω 2\, 2ος Όροφος)
URL:https://www.uoc.gr/event/%ce%ba%cf%8d%ce%ba%ce%bb%ce%bf%cf%82-%ce%b4%ce%b9%ce%b1%ce%bb%ce%ad%ce%be%ce%b5%cf%89%ce%bd-%ce%b7-%ce%b2%ce%b9%ce%bf%ce%bb%ce%bf%ce%b3%ce%af%ce%b1-%cf%83%cf%84%ce%b7%ce%bd-%cf%80%cf%8c%ce%bb/
END:VEVENT
END:VCALENDAR